BEGIN:VCALENDAR
VERSION:2.0
PRODID:-//Metro Safety Training - First Aid Training - ECPv6.15.15//NONSGML v1.0//EN
CALSCALE:GREGORIAN
METHOD:PUBLISH
X-WR-CALNAME:Metro Safety Training - First Aid Training
X-ORIGINAL-URL:https://metrosafety.ca
X-WR-CALDESC:Events for Metro Safety Training - First Aid Training
REFRESH-INTERVAL;VALUE=DURATION:PT1H
X-Robots-Tag:noindex
X-PUBLISHED-TTL:PT1H
BEGIN:VTIMEZONE
TZID:America/Los_Angeles
BEGIN:DAYLIGHT
TZOFFSETFROM:-0800
TZOFFSETTO:-0700
TZNAME:PDT
DTSTART:20230312T100000
END:DAYLIGHT
BEGIN:STANDARD
TZOFFSETFROM:-0700
TZOFFSETTO:-0800
TZNAME:PST
DTSTART:20231105T090000
END:STANDARD
BEGIN:DAYLIGHT
TZOFFSETFROM:-0800
TZOFFSETTO:-0700
TZNAME:PDT
DTSTART:20240310T100000
END:DAYLIGHT
BEGIN:STANDARD
TZOFFSETFROM:-0700
TZOFFSETTO:-0800
TZNAME:PST
DTSTART:20241103T090000
END:STANDARD
BEGIN:DAYLIGHT
TZOFFSETFROM:-0800
TZOFFSETTO:-0700
TZNAME:PDT
DTSTART:20250309T100000
END:DAYLIGHT
BEGIN:STANDARD
TZOFFSETFROM:-0700
TZOFFSETTO:-0800
TZNAME:PST
DTSTART:20251102T090000
END:STANDARD
END:VTIMEZONE
BEGIN:VTIMEZONE
TZID:UTC
BEGIN:STANDARD
TZOFFSETFROM:+0000
TZOFFSETTO:+0000
TZNAME:UTC
DTSTART:20230101T000000
END:STANDARD
END:VTIMEZONE
BEGIN:VEVENT
DTSTART;TZID=America/Los_Angeles:20240716T173000
DTEND;TZID=America/Los_Angeles:20240817T163000
DTSTAMP:20260419T095302
CREATED:20240606T013430Z
LAST-MODIFIED:20240913T045608Z
UID:10000282-1721151000-1723912200@metrosafety.ca
SUMMARY:July 16 - August 17\, 2024 - Part-time OFA 3
DESCRIPTION:Course: Part-time Occupational First Aid Level 3 \nCourse dates: July 16 – August 1\, 2024 (Tuesdays\, Thursdays\, and Saturdays) \nCourse times: 5:30 pm – 9:30 pm (Tuesday + Thursday) 8:30-4:30 (Saturdays) \nLocation: 914 Sherwood Ave\, Coquitlam \nCourse cost: $858 per person
URL:https://metrosafety.ca/event/july-16-august-1-2024-part-time-ofa-2/
LOCATION:Coquitlam Campus\, 914 Sherwood Ave\, Coquitlam\, British Columbia\, V3K 1A6\, Canada
CATEGORIES:Occupational First Aid Level 3 (Advanced) Part Time
ORGANIZER;CN="Metro Safety Training":MAILTO:Info@metrosafety.ca
GEO:49.235584;-122.871897
X-APPLE-STRUCTURED-LOCATION;VALUE=URI;X-ADDRESS=Coquitlam Campus 914 Sherwood Ave Coquitlam British Columbia V3K 1A6 Canada;X-APPLE-RADIUS=500;X-TITLE=914 Sherwood Ave:geo:-122.871897,49.235584
END:VEVENT
BEGIN:VEVENT
DTSTART;TZID=America/Los_Angeles:20240722T083000
DTEND;TZID=America/Los_Angeles:20240802T163000
DTSTAMP:20260419T095302
CREATED:20240429T233559Z
LAST-MODIFIED:20240719T021546Z
UID:10000264-1721637000-1722616200@metrosafety.ca
SUMMARY:July 22 - Aug 2\, 2024 - OFA 3 - Full
DESCRIPTION:Course: Occupational First Aid Level 3 \nCourse dates: July 22 – Aug 2\, 2024 \nCourse times: 8:30 am – 4:30 pm \nLocation: 914 Sherwood Ave\, Coquitlam \nCourse cost: $858 per person \nThis course is taught in English and all reading materials for the class will be in English.
URL:https://metrosafety.ca/event/july-22-aug-2-2024-ofa-3/
LOCATION:Coquitlam Campus\, 914 Sherwood Ave\, Coquitlam\, British Columbia\, V3K 1A6\, Canada
CATEGORIES:Occupational First Aid Level 3 (Occupational Advanced First Aid)
ORGANIZER;CN="Metro Safety Training":MAILTO:Info@metrosafety.ca
GEO:49.235584;-122.871897
X-APPLE-STRUCTURED-LOCATION;VALUE=URI;X-ADDRESS=Coquitlam Campus 914 Sherwood Ave Coquitlam British Columbia V3K 1A6 Canada;X-APPLE-RADIUS=500;X-TITLE=914 Sherwood Ave:geo:-122.871897,49.235584
END:VEVENT
BEGIN:VEVENT
DTSTART;TZID=UTC:20240729T083000
DTEND;TZID=UTC:20240729T163000
DTSTAMP:20260419T095302
CREATED:20240611T230151Z
LAST-MODIFIED:20240718T012514Z
UID:10000596-1722241800-1722270600@metrosafety.ca
SUMMARY:July 29\, 2024 - OFA 1 - Full
DESCRIPTION:Course: Occupational First Aid Level 1 \nCourse date:  July 29\, 2024 \nCourse time: 8:30 am – 4:30 pm \nLocation: 914 Sherwood Ave\, Coquitlam \nCourse cost: $98 per person \nThis course is taught in English and all reading materials for the class will be in English.
URL:https://metrosafety.ca/event/july-29-2024-ofa-1/
LOCATION:Coquitlam Campus\, 914 Sherwood Ave\, Coquitlam\, British Columbia\, V3K 1A6\, Canada
CATEGORIES:Occupational First Aid Level 1 (Basic First Aid)
ORGANIZER;CN="Metro Safety Training":MAILTO:Info@metrosafety.ca
GEO:49.235584;-122.871897
X-APPLE-STRUCTURED-LOCATION;VALUE=URI;X-ADDRESS=Coquitlam Campus 914 Sherwood Ave Coquitlam British Columbia V3K 1A6 Canada;X-APPLE-RADIUS=500;X-TITLE=914 Sherwood Ave:geo:-122.871897,49.235584
END:VEVENT
BEGIN:VEVENT
DTSTART;TZID=America/Los_Angeles:20240729T083000
DTEND;TZID=America/Los_Angeles:20240802T163000
DTSTAMP:20260419T095302
CREATED:20240429T233918Z
LAST-MODIFIED:20240724T022219Z
UID:10000266-1722241800-1722616200@metrosafety.ca
SUMMARY:July 29 - August 2\, 2024 - OFA 3 Pro Renewal
DESCRIPTION:Course: Occupational First Aid Level 3 Pro Renewal \nCourse dates: July 29 – Aug 2\, 2024 \nIt is recommended that you attend the Thursday and Friday before your start date for a refresher and practice to be ready for Monday \nCourse times: 8:30 am – 4:30 pm \nLocation: 914 Sherwood Ave\, Coquitlam \nCourse cost: $688 per person \nThis course is taught in English and all reading materials for the class will be in English.
URL:https://metrosafety.ca/event/july-29-aug-2-2024-ofa-3-pro-renewal/
LOCATION:Coquitlam Campus\, 914 Sherwood Ave\, Coquitlam\, British Columbia\, V3K 1A6\, Canada
CATEGORIES:Occupational First Aid Level 3 Pro Renew
ORGANIZER;CN="Metro Safety Training":MAILTO:Info@metrosafety.ca
GEO:49.235584;-122.871897
X-APPLE-STRUCTURED-LOCATION;VALUE=URI;X-ADDRESS=Coquitlam Campus 914 Sherwood Ave Coquitlam British Columbia V3K 1A6 Canada;X-APPLE-RADIUS=500;X-TITLE=914 Sherwood Ave:geo:-122.871897,49.235584
END:VEVENT
BEGIN:VEVENT
DTSTART;TZID=America/Los_Angeles:20240729T083000
DTEND;TZID=America/Los_Angeles:20240802T163000
DTSTAMP:20260419T095302
CREATED:20240430T010132Z
LAST-MODIFIED:20240717T022845Z
UID:10000572-1722241800-1722616200@metrosafety.ca
SUMMARY:July 29 - August 2 2024\, - OFA 2 - Full
DESCRIPTION:Course: Occupational First Aid Level 2 \nCourse dates: July 29 – August 2 2024 \nCourse times: 8:30 am – 4:30 pm \nLocation: 914 Sherwood Ave\, Coquitlam \nCourse cost: $598 per person \nThis course is taught in English and all reading materials for the class will be in English.
URL:https://metrosafety.ca/event/july-29-august-2-2024-ofa-2/
LOCATION:Coquitlam Campus\, 914 Sherwood Ave\, Coquitlam\, British Columbia\, V3K 1A6\, Canada
CATEGORIES:Occupational First Aid Level 2 (Intermediate First Aid)
ORGANIZER;CN="Metro Safety Training":MAILTO:Info@metrosafety.ca
GEO:49.235584;-122.871897
X-APPLE-STRUCTURED-LOCATION;VALUE=URI;X-ADDRESS=Coquitlam Campus 914 Sherwood Ave Coquitlam British Columbia V3K 1A6 Canada;X-APPLE-RADIUS=500;X-TITLE=914 Sherwood Ave:geo:-122.871897,49.235584
END:VEVENT
BEGIN:VEVENT
DTSTART;TZID=America/Los_Angeles:20240801T083000
DTEND;TZID=America/Los_Angeles:20240801T163000
DTSTAMP:20260419T095302
CREATED:20240710T030933Z
LAST-MODIFIED:20240710T030948Z
UID:10000293-1722501000-1722529800@metrosafety.ca
SUMMARY:August 1 2024 - Emergency First Aid with CPR/AED Level C
DESCRIPTION:Course: Emergency First Aid with AED/CPR Level C \nCourse dates: August 1 2024 \nCourse times: 8:30 am – 4:30 pm \nLocation: 914 Sherwood Ave\, Coquitlam \nCourse cost: $98 per person \nThis course is taught in English and all reading materials for the class will be in English.
URL:https://metrosafety.ca/event/august-1-2024-emergency-first-aid-with-cpr-aed-level-c/
LOCATION:Coquitlam Campus\, 914 Sherwood Ave\, Coquitlam\, British Columbia\, V3K 1A6\, Canada
CATEGORIES:Emergency First Aid with CPR/AED Level C
ORGANIZER;CN="Metro Safety Training":MAILTO:Info@metrosafety.ca
GEO:49.235584;-122.871897
X-APPLE-STRUCTURED-LOCATION;VALUE=URI;X-ADDRESS=Coquitlam Campus 914 Sherwood Ave Coquitlam British Columbia V3K 1A6 Canada;X-APPLE-RADIUS=500;X-TITLE=914 Sherwood Ave:geo:-122.871897,49.235584
END:VEVENT
BEGIN:VEVENT
DTSTART;TZID=America/Los_Angeles:20240801T083000
DTEND;TZID=America/Los_Angeles:20240802T163000
DTSTAMP:20260419T095302
CREATED:20240710T031156Z
LAST-MODIFIED:20240710T031207Z
UID:10000295-1722501000-1722616200@metrosafety.ca
SUMMARY:August 1 & 2\, 2024 - Red Cross - SFA with CPR/AED C
DESCRIPTION:Course: Red Cross – Standard First Aid with CPR C and AED \nCourse date: August 1 & 2\, 2024 \nCourse time: 8:30 am – 4:30 pm \nLocation: 914 Sherwood Ave\, Coquitlam \nCourse cost: $158 per person \nThis course is taught in English and all reading materials for the class will be in English.
URL:https://metrosafety.ca/event/august-1-2-2024-red-cross-sfa-with-cpr-aed-c/
LOCATION:Coquitlam Campus\, 914 Sherwood Ave\, Coquitlam\, British Columbia\, V3K 1A6\, Canada
CATEGORIES:Standard First Aid with CPR/AED Level C
ORGANIZER;CN="Metro Safety Training":MAILTO:Info@metrosafety.ca
GEO:49.235584;-122.871897
X-APPLE-STRUCTURED-LOCATION;VALUE=URI;X-ADDRESS=Coquitlam Campus 914 Sherwood Ave Coquitlam British Columbia V3K 1A6 Canada;X-APPLE-RADIUS=500;X-TITLE=914 Sherwood Ave:geo:-122.871897,49.235584
END:VEVENT
BEGIN:VEVENT
DTSTART;TZID=America/Los_Angeles:20240802T140000
DTEND;TZID=America/Los_Angeles:20240802T190000
DTSTAMP:20260419T095302
CREATED:20240709T052953Z
LAST-MODIFIED:20240709T053007Z
UID:10000598-1722607200-1722625200@metrosafety.ca
SUMMARY:August 2\, 2024 - Fall Protection Training
DESCRIPTION:Course: Fall Protection Training \nCourse date: August 2\, 2024 \nCourse time: 2:00 pm – 7:00 pm \nLocation: 914 Sherwood Ave\, Coquitlam \nCourse cost: $128  \nIf you have your own harness\, please bring it with you. \nThis course is run in English with reading material and understanding English is mandatory. \nSpecial arrangements for private classes in other languages can be arranged\, please contact the office for more information.
URL:https://metrosafety.ca/event/august-2-2024-fall-protection-training/
LOCATION:Coquitlam Campus\, 914 Sherwood Ave\, Coquitlam\, British Columbia\, V3K 1A6\, Canada
CATEGORIES:Fall Protection Training
ORGANIZER;CN="Metro Safety Training":MAILTO:Info@metrosafety.ca
GEO:49.235584;-122.871897
X-APPLE-STRUCTURED-LOCATION;VALUE=URI;X-ADDRESS=Coquitlam Campus 914 Sherwood Ave Coquitlam British Columbia V3K 1A6 Canada;X-APPLE-RADIUS=500;X-TITLE=914 Sherwood Ave:geo:-122.871897,49.235584
END:VEVENT
BEGIN:VEVENT
DTSTART;TZID=America/Los_Angeles:20240803T083000
DTEND;TZID=America/Los_Angeles:20240817T163000
DTSTAMP:20260419T095302
CREATED:20240621T031908Z
LAST-MODIFIED:20240706T045639Z
UID:10000597-1722673800-1723912200@metrosafety.ca
SUMMARY:August 3 - 17 2024 Part-time OFA 3 Pro Renewal
DESCRIPTION:Course: Part-time Occupational First Aid Level 3 \nCourse dates: August 3 – 17 –  (Tuesdays\, Thursdays\, and Saturdays) \nCourse times: 5:30 pm – 9:30 pm (Tuesday + Thursday) 8:30 am-4:30 pm(Saturdays) \nLocation: 914 Sherwood Ave\, Coquitlam \nCourse cost: $688 per person \nThis course is taught in English and all reading materials for the class will be in English.
URL:https://metrosafety.ca/event/august-3-17-part-time-ofa-3-pro-renewal/
LOCATION:Coquitlam Campus\, 914 Sherwood Ave\, Coquitlam\, British Columbia\, V3K 1A6\, Canada
CATEGORIES:Occupational First Aid Level 3 (Advanced) Pro Renew Part Time
ORGANIZER;CN="Metro Safety Training":MAILTO:Info@metrosafety.ca
GEO:49.235584;-122.871897
X-APPLE-STRUCTURED-LOCATION;VALUE=URI;X-ADDRESS=Coquitlam Campus 914 Sherwood Ave Coquitlam British Columbia V3K 1A6 Canada;X-APPLE-RADIUS=500;X-TITLE=914 Sherwood Ave:geo:-122.871897,49.235584
END:VEVENT
END:VCALENDAR