BEGIN:VCALENDAR
VERSION:2.0
PRODID:-//Metro Safety Training - First Aid Training - ECPv6.15.15//NONSGML v1.0//EN
CALSCALE:GREGORIAN
METHOD:PUBLISH
X-ORIGINAL-URL:https://metrosafety.ca
X-WR-CALDESC:Events for Metro Safety Training - First Aid Training
REFRESH-INTERVAL;VALUE=DURATION:PT1H
X-Robots-Tag:noindex
X-PUBLISHED-TTL:PT1H
BEGIN:VTIMEZONE
TZID:America/Los_Angeles
BEGIN:DAYLIGHT
TZOFFSETFROM:-0800
TZOFFSETTO:-0700
TZNAME:PDT
DTSTART:20230312T100000
END:DAYLIGHT
BEGIN:STANDARD
TZOFFSETFROM:-0700
TZOFFSETTO:-0800
TZNAME:PST
DTSTART:20231105T090000
END:STANDARD
BEGIN:DAYLIGHT
TZOFFSETFROM:-0800
TZOFFSETTO:-0700
TZNAME:PDT
DTSTART:20240310T100000
END:DAYLIGHT
BEGIN:STANDARD
TZOFFSETFROM:-0700
TZOFFSETTO:-0800
TZNAME:PST
DTSTART:20241103T090000
END:STANDARD
BEGIN:DAYLIGHT
TZOFFSETFROM:-0800
TZOFFSETTO:-0700
TZNAME:PDT
DTSTART:20250309T100000
END:DAYLIGHT
BEGIN:STANDARD
TZOFFSETFROM:-0700
TZOFFSETTO:-0800
TZNAME:PST
DTSTART:20251102T090000
END:STANDARD
END:VTIMEZONE
BEGIN:VTIMEZONE
TZID:UTC
BEGIN:STANDARD
TZOFFSETFROM:+0000
TZOFFSETTO:+0000
TZNAME:UTC
DTSTART:20230101T000000
END:STANDARD
END:VTIMEZONE
BEGIN:VEVENT
DTSTART;TZID=America/Los_Angeles:20240708T083000
DTEND;TZID=America/Los_Angeles:20240719T163000
DTSTAMP:20260419T111901
CREATED:20240405T040010Z
LAST-MODIFIED:20240703T002921Z
UID:10000560-1720427400-1721406600@metrosafety.ca
SUMMARY:July 8 - 19\, 2024 - OFA 3 - Full
DESCRIPTION:Course: Occupational First Aid Level 3 \nCourse dates: July 8 – 19\, 2024 \nCourse times: 8:30 am – 4:30 pm \nLocation: 914 Sherwood Ave\, Coquitlam \nCourse cost: $858 per person \nThis course is taught in English and all reading materials for the class will be in English.
URL:https://metrosafety.ca/event/july-8-19-2024-ofa-3/
LOCATION:Coquitlam Campus\, 914 Sherwood Ave\, Coquitlam\, British Columbia\, V3K 1A6\, Canada
CATEGORIES:Occupational First Aid Level 3 (Occupational Advanced First Aid)
ORGANIZER;CN="Metro Safety Training":MAILTO:Info@metrosafety.ca
GEO:49.235584;-122.871897
X-APPLE-STRUCTURED-LOCATION;VALUE=URI;X-ADDRESS=Coquitlam Campus 914 Sherwood Ave Coquitlam British Columbia V3K 1A6 Canada;X-APPLE-RADIUS=500;X-TITLE=914 Sherwood Ave:geo:-122.871897,49.235584
END:VEVENT
BEGIN:VEVENT
DTSTART;TZID=America/Los_Angeles:20240715T083000
DTEND;TZID=America/Los_Angeles:20240715T163000
DTSTAMP:20260419T111901
CREATED:20240611T221517Z
LAST-MODIFIED:20240712T022310Z
UID:10000594-1721032200-1721061000@metrosafety.ca
SUMMARY:July 15\, 2024 - OFA 1 - Full
DESCRIPTION:Course: Occupational First Aid Level 1 \nCourse date:  July 15\, 2024 \nCourse time: 8:30 am – 4:30 pm \nLocation: 914 Sherwood Ave\, Coquitlam \nCourse cost: $98 per person \nThis course is taught in English and all reading materials for the class will be in English.
URL:https://metrosafety.ca/event/july-15-2024-ofa-1/
LOCATION:Coquitlam Campus\, 914 Sherwood Ave\, Coquitlam\, British Columbia\, V3K 1A6\, Canada
CATEGORIES:Occupational First Aid Level 1 (Basic First Aid)
ORGANIZER;CN="Metro Safety Training":MAILTO:Info@metrosafety.ca
GEO:49.235584;-122.871897
X-APPLE-STRUCTURED-LOCATION;VALUE=URI;X-ADDRESS=Coquitlam Campus 914 Sherwood Ave Coquitlam British Columbia V3K 1A6 Canada;X-APPLE-RADIUS=500;X-TITLE=914 Sherwood Ave:geo:-122.871897,49.235584
END:VEVENT
BEGIN:VEVENT
DTSTART;TZID=America/Los_Angeles:20240715T083000
DTEND;TZID=America/Los_Angeles:20240719T163000
DTSTAMP:20260419T111901
CREATED:20240405T040049Z
LAST-MODIFIED:20240706T001902Z
UID:10000561-1721032200-1721406600@metrosafety.ca
SUMMARY:July 15 - 19\, 2024 - OFA 3 Pro Renewal
DESCRIPTION:Course: Occupational First Aid Level 3 Pro Renewal \nCourse dates: July 15 – 19\, 2024 \nIt is recommended that you attend the Thursday and Friday before your start date for a refresher and practice to be ready for Monday \nCourse times: 8:30 am – 4:30 pm \nLocation: 914 Sherwood Ave\, Coquitlam \nCourse cost: $688 per person \nThis course is taught in English and all reading materials for the class will be in English.
URL:https://metrosafety.ca/event/july-15-19-2024-ofa-3-pro-renewal/
LOCATION:Coquitlam Campus\, 914 Sherwood Ave\, Coquitlam\, British Columbia\, V3K 1A6\, Canada
CATEGORIES:Occupational First Aid Level 3 Pro Renew
ORGANIZER;CN="Metro Safety Training":MAILTO:Info@metrosafety.ca
GEO:49.235584;-122.871897
X-APPLE-STRUCTURED-LOCATION;VALUE=URI;X-ADDRESS=Coquitlam Campus 914 Sherwood Ave Coquitlam British Columbia V3K 1A6 Canada;X-APPLE-RADIUS=500;X-TITLE=914 Sherwood Ave:geo:-122.871897,49.235584
END:VEVENT
BEGIN:VEVENT
DTSTART;TZID=America/Los_Angeles:20240715T083000
DTEND;TZID=America/Los_Angeles:20240719T163000
DTSTAMP:20260419T111901
CREATED:20240430T005607Z
LAST-MODIFIED:20240706T015427Z
UID:10000570-1721032200-1721406600@metrosafety.ca
SUMMARY:July 15 - 19 2024\, - OFA 2 - Full
DESCRIPTION:Course: Occupational First Aid Level 2 \nCourse dates: July 15 – 19\, 2024 \nCourse times: 8:30 am – 4:30 pm \nLocation: 914 Sherwood Ave\, Coquitlam \nCourse cost: $598 per person \nThis course is taught in English and all reading materials for the class will be in English.
URL:https://metrosafety.ca/event/july-15-19-2024-ofa-2/
LOCATION:Coquitlam Campus\, 914 Sherwood Ave\, Coquitlam\, British Columbia\, V3K 1A6\, Canada
CATEGORIES:Occupational First Aid Level 2 (Intermediate First Aid)
ORGANIZER;CN="Metro Safety Training":MAILTO:Info@metrosafety.ca
GEO:49.235584;-122.871897
X-APPLE-STRUCTURED-LOCATION;VALUE=URI;X-ADDRESS=Coquitlam Campus 914 Sherwood Ave Coquitlam British Columbia V3K 1A6 Canada;X-APPLE-RADIUS=500;X-TITLE=914 Sherwood Ave:geo:-122.871897,49.235584
END:VEVENT
BEGIN:VEVENT
DTSTART;TZID=America/Los_Angeles:20240716T173000
DTEND;TZID=America/Los_Angeles:20240817T163000
DTSTAMP:20260419T111901
CREATED:20240606T013430Z
LAST-MODIFIED:20240913T045608Z
UID:10000282-1721151000-1723912200@metrosafety.ca
SUMMARY:July 16 - August 17\, 2024 - Part-time OFA 3
DESCRIPTION:Course: Part-time Occupational First Aid Level 3 \nCourse dates: July 16 – August 1\, 2024 (Tuesdays\, Thursdays\, and Saturdays) \nCourse times: 5:30 pm – 9:30 pm (Tuesday + Thursday) 8:30-4:30 (Saturdays) \nLocation: 914 Sherwood Ave\, Coquitlam \nCourse cost: $858 per person
URL:https://metrosafety.ca/event/july-16-august-1-2024-part-time-ofa-2/
LOCATION:Coquitlam Campus\, 914 Sherwood Ave\, Coquitlam\, British Columbia\, V3K 1A6\, Canada
CATEGORIES:Occupational First Aid Level 3 (Advanced) Part Time
ORGANIZER;CN="Metro Safety Training":MAILTO:Info@metrosafety.ca
GEO:49.235584;-122.871897
X-APPLE-STRUCTURED-LOCATION;VALUE=URI;X-ADDRESS=Coquitlam Campus 914 Sherwood Ave Coquitlam British Columbia V3K 1A6 Canada;X-APPLE-RADIUS=500;X-TITLE=914 Sherwood Ave:geo:-122.871897,49.235584
END:VEVENT
BEGIN:VEVENT
DTSTART;TZID=UTC:20240719T070000
DTEND;TZID=UTC:20240719T120000
DTSTAMP:20260419T111901
CREATED:20240606T034455Z
LAST-MODIFIED:20240606T034545Z
UID:10000290-1721372400-1721390400@metrosafety.ca
SUMMARY:July 19\, 2024 - Confined Space\, Monitor\, and Entrant
DESCRIPTION:Course: Confined Space\, Monitor\, and Entrant \nCourse date: July 19\, 2024 \nCourse time: 7:00 am – 12:00 pm \nLocation: 914 Sherwood Ave\, Coquitlam \nCourse cost: $158 (Special Spring Pricing) \nIf you have your own harness\, please bring it with you. \nThis course is run in English with reading material and understanding English is mandatory. \nSpecial arrangements for private classes in other languages can be arranged\, please contact the office for more information.
URL:https://metrosafety.ca/event/july-19-2024-confined-space-monitor-and-entrant/
LOCATION:Coquitlam Campus\, 914 Sherwood Ave\, Coquitlam\, British Columbia\, V3K 1A6\, Canada
CATEGORIES:Confined Space
ORGANIZER;CN="Metro Safety Training":MAILTO:Info@metrosafety.ca
GEO:49.235584;-122.871897
X-APPLE-STRUCTURED-LOCATION;VALUE=URI;X-ADDRESS=Coquitlam Campus 914 Sherwood Ave Coquitlam British Columbia V3K 1A6 Canada;X-APPLE-RADIUS=500;X-TITLE=914 Sherwood Ave:geo:-122.871897,49.235584
END:VEVENT
END:VCALENDAR