BEGIN:VCALENDAR
VERSION:2.0
PRODID:-//Metro Safety Training - First Aid Training - ECPv6.15.15//NONSGML v1.0//EN
CALSCALE:GREGORIAN
METHOD:PUBLISH
X-WR-CALNAME:Metro Safety Training - First Aid Training
X-ORIGINAL-URL:https://metrosafety.ca
X-WR-CALDESC:Events for Metro Safety Training - First Aid Training
REFRESH-INTERVAL;VALUE=DURATION:PT1H
X-Robots-Tag:noindex
X-PUBLISHED-TTL:PT1H
BEGIN:VTIMEZONE
TZID:America/Los_Angeles
BEGIN:DAYLIGHT
TZOFFSETFROM:-0800
TZOFFSETTO:-0700
TZNAME:PDT
DTSTART:20230312T100000
END:DAYLIGHT
BEGIN:STANDARD
TZOFFSETFROM:-0700
TZOFFSETTO:-0800
TZNAME:PST
DTSTART:20231105T090000
END:STANDARD
BEGIN:DAYLIGHT
TZOFFSETFROM:-0800
TZOFFSETTO:-0700
TZNAME:PDT
DTSTART:20240310T100000
END:DAYLIGHT
BEGIN:STANDARD
TZOFFSETFROM:-0700
TZOFFSETTO:-0800
TZNAME:PST
DTSTART:20241103T090000
END:STANDARD
BEGIN:DAYLIGHT
TZOFFSETFROM:-0800
TZOFFSETTO:-0700
TZNAME:PDT
DTSTART:20250309T100000
END:DAYLIGHT
BEGIN:STANDARD
TZOFFSETFROM:-0700
TZOFFSETTO:-0800
TZNAME:PST
DTSTART:20251102T090000
END:STANDARD
END:VTIMEZONE
BEGIN:VEVENT
DTSTART;TZID=America/Los_Angeles:20240624T083000
DTEND;TZID=America/Los_Angeles:20240705T163000
DTSTAMP:20260419T111752
CREATED:20240405T034728Z
LAST-MODIFIED:20240608T044622Z
UID:10000558-1719217800-1720197000@metrosafety.ca
SUMMARY:June 24 - July 5\, 2024 - OFA 3 - Full
DESCRIPTION:Course: Occupational First Aid Level 3 \nCourse dates: June 24 – July 5\, 2024 (Class will run as scheduled on July 1st despite it being a holiday) \nCourse times: 8:30 am – 4:30 pm \nLocation: 914 Sherwood Ave\, Coquitlam \nCourse cost: $858 per person \nThis course is taught in English and all reading materials for the class will be in English.
URL:https://metrosafety.ca/event/june-24-july-5-2024-ofa-3/
LOCATION:Coquitlam Campus\, 914 Sherwood Ave\, Coquitlam\, British Columbia\, V3K 1A6\, Canada
CATEGORIES:Occupational First Aid Level 3 (Occupational Advanced First Aid)
ORGANIZER;CN="Metro Safety Training":MAILTO:Info@metrosafety.ca
GEO:49.235584;-122.871897
X-APPLE-STRUCTURED-LOCATION;VALUE=URI;X-ADDRESS=Coquitlam Campus 914 Sherwood Ave Coquitlam British Columbia V3K 1A6 Canada;X-APPLE-RADIUS=500;X-TITLE=914 Sherwood Ave:geo:-122.871897,49.235584
END:VEVENT
BEGIN:VEVENT
DTSTART;TZID=America/Los_Angeles:20240701T083000
DTEND;TZID=America/Los_Angeles:20240705T163000
DTSTAMP:20260419T111752
CREATED:20240405T035550Z
LAST-MODIFIED:20240608T044624Z
UID:10000559-1719822600-1720197000@metrosafety.ca
SUMMARY:July 1 - 5\, 2024 - OFA 3 Pro Renewal - Full
DESCRIPTION:Course: Occupational First Aid Level 3 Pro Renewal \nCourse dates: July 1 – 5\, 2024 (Class will run as scheduled on July 1st despite it being a holiday) \nIt is recommended that you attend the Thursday and Friday before your start date for a refresher and practice to be ready for Monday \nCourse times: 8:30 am – 4:30 pm \nLocation: 914 Sherwood Ave\, Coquitlam \nCourse cost: $688 per person \nThis course is taught in English and all reading materials for the class will be in English.
URL:https://metrosafety.ca/event/july-1-july-5-2024-ofa-3-pro-renewal/
LOCATION:Coquitlam Campus\, 914 Sherwood Ave\, Coquitlam\, British Columbia\, V3K 1A6\, Canada
CATEGORIES:Occupational First Aid Level 3 Pro Renew
ORGANIZER;CN="Metro Safety Training":MAILTO:Info@metrosafety.ca
GEO:49.235584;-122.871897
X-APPLE-STRUCTURED-LOCATION;VALUE=URI;X-ADDRESS=Coquitlam Campus 914 Sherwood Ave Coquitlam British Columbia V3K 1A6 Canada;X-APPLE-RADIUS=500;X-TITLE=914 Sherwood Ave:geo:-122.871897,49.235584
END:VEVENT
BEGIN:VEVENT
DTSTART;TZID=America/Los_Angeles:20240701T083000
DTEND;TZID=America/Los_Angeles:20240705T163000
DTSTAMP:20260419T111752
CREATED:20240430T004454Z
LAST-MODIFIED:20240617T233622Z
UID:10000274-1719822600-1720197000@metrosafety.ca
SUMMARY:July 1 - 5 2024\, - OFA 2 - Full
DESCRIPTION:Course: Occupational First Aid Level 2 \nCourse dates: July 1 – 5\, 2024 (Class will run as scheduled on July 1st despite it being a holiday) \nCourse times: 8:30 am – 4:30 pm \nLocation: 914 Sherwood Ave\, Coquitlam \nCourse cost: $598 per person \nThis course is taught in English and all reading materials for the class will be in English.
URL:https://metrosafety.ca/event/july-1-5-2024-ofa-2/
LOCATION:Coquitlam Campus\, 914 Sherwood Ave\, Coquitlam\, British Columbia\, V3K 1A6\, Canada
CATEGORIES:Occupational First Aid Level 2 (Intermediate First Aid)
ORGANIZER;CN="Metro Safety Training":MAILTO:Info@metrosafety.ca
GEO:49.235584;-122.871897
X-APPLE-STRUCTURED-LOCATION;VALUE=URI;X-ADDRESS=Coquitlam Campus 914 Sherwood Ave Coquitlam British Columbia V3K 1A6 Canada;X-APPLE-RADIUS=500;X-TITLE=914 Sherwood Ave:geo:-122.871897,49.235584
END:VEVENT
BEGIN:VEVENT
DTSTART;TZID=America/Los_Angeles:20240703T083000
DTEND;TZID=America/Los_Angeles:20240703T163000
DTSTAMP:20260419T111752
CREATED:20240608T005720Z
LAST-MODIFIED:20240629T021436Z
UID:10000588-1719995400-1720024200@metrosafety.ca
SUMMARY:July 3\, 2024 - OFA 1 - Full
DESCRIPTION:Course: Occupational First Aid Level 1 \nCourse date:  July 3\, 2024 \nCourse time: 8:30 am – 4:30 pm \nLocation: 914 Sherwood Ave\, Coquitlam \nCourse cost: $98 per person \nThis course is taught in English and all reading materials for the class will be in English.
URL:https://metrosafety.ca/event/july-3-2024-ofa-1/
LOCATION:Coquitlam Campus\, 914 Sherwood Ave\, Coquitlam\, British Columbia\, V3K 1A6\, Canada
CATEGORIES:Occupational First Aid Level 1 (Basic First Aid)
ORGANIZER;CN="Metro Safety Training":MAILTO:Info@metrosafety.ca
GEO:49.235584;-122.871897
X-APPLE-STRUCTURED-LOCATION;VALUE=URI;X-ADDRESS=Coquitlam Campus 914 Sherwood Ave Coquitlam British Columbia V3K 1A6 Canada;X-APPLE-RADIUS=500;X-TITLE=914 Sherwood Ave:geo:-122.871897,49.235584
END:VEVENT
BEGIN:VEVENT
DTSTART;TZID=America/Los_Angeles:20240704T083000
DTEND;TZID=America/Los_Angeles:20240704T163000
DTSTAMP:20260419T111752
CREATED:20240608T005856Z
LAST-MODIFIED:20240613T021030Z
UID:10000589-1720081800-1720110600@metrosafety.ca
SUMMARY:July 4\, 2024 - OFA 1 - Full
DESCRIPTION:Course: Occupational First Aid Level 1 \nCourse date:  July 4\, 2024 \nCourse time: 8:30 am – 4:30 pm \nLocation: 914 Sherwood Ave\, Coquitlam \nCourse cost: $98 per person \nThis course is taught in English and all reading materials for the class will be in English.
URL:https://metrosafety.ca/event/july-4-2024-ofa-1/
LOCATION:Coquitlam Campus\, 914 Sherwood Ave\, Coquitlam\, British Columbia\, V3K 1A6\, Canada
CATEGORIES:Occupational First Aid Level 1 (Basic First Aid)
ORGANIZER;CN="Metro Safety Training":MAILTO:Info@metrosafety.ca
GEO:49.235584;-122.871897
X-APPLE-STRUCTURED-LOCATION;VALUE=URI;X-ADDRESS=Coquitlam Campus 914 Sherwood Ave Coquitlam British Columbia V3K 1A6 Canada;X-APPLE-RADIUS=500;X-TITLE=914 Sherwood Ave:geo:-122.871897,49.235584
END:VEVENT
BEGIN:VEVENT
DTSTART;TZID=America/Los_Angeles:20240705T083000
DTEND;TZID=America/Los_Angeles:20240705T163000
DTSTAMP:20260419T111752
CREATED:20240608T005943Z
LAST-MODIFIED:20240620T232558Z
UID:10000590-1720168200-1720197000@metrosafety.ca
SUMMARY:July 5\, 2024 - OFA 1 - Full
DESCRIPTION:Course: Occupational First Aid Level 1 \nCourse date:  July 5\, 2024 \nCourse time: 8:30 am – 4:30 pm \nLocation: 914 Sherwood Ave\, Coquitlam \nCourse cost: $98 per person \nThis course is taught in English and all reading materials for the class will be in English.
URL:https://metrosafety.ca/event/july-5-2024-ofa-1/
LOCATION:Coquitlam Campus\, 914 Sherwood Ave\, Coquitlam\, British Columbia\, V3K 1A6\, Canada
CATEGORIES:Occupational First Aid Level 1 (Basic First Aid)
ORGANIZER;CN="Metro Safety Training":MAILTO:Info@metrosafety.ca
GEO:49.235584;-122.871897
X-APPLE-STRUCTURED-LOCATION;VALUE=URI;X-ADDRESS=Coquitlam Campus 914 Sherwood Ave Coquitlam British Columbia V3K 1A6 Canada;X-APPLE-RADIUS=500;X-TITLE=914 Sherwood Ave:geo:-122.871897,49.235584
END:VEVENT
BEGIN:VEVENT
DTSTART;TZID=America/Los_Angeles:20240706T080000
DTEND;TZID=America/Los_Angeles:20240706T130000
DTSTAMP:20260419T111752
CREATED:20240606T033134Z
LAST-MODIFIED:20240705T224244Z
UID:10000285-1720252800-1720270800@metrosafety.ca
SUMMARY:July 6\, 2024 - Fall Protection Training - Full
DESCRIPTION:Course: Fall Protection Training \nCourse date: July 6 2024 \nCourse time: 8:00 am – 1:00 pm \nLocation: 914 Sherwood Ave\, Coquitlam \nCourse cost: $128 (Special Spring Pricing) \nIf you have your own harness\, please bring it with you. \nThis course is run in English with reading material and understanding English is mandatory. \nSpecial arrangements for private classes in other languages can be arranged\, please contact the office for more information.
URL:https://metrosafety.ca/event/july-6-2024-fall-protection-training/
LOCATION:Coquitlam Campus\, 914 Sherwood Ave\, Coquitlam\, British Columbia\, V3K 1A6\, Canada
CATEGORIES:Fall Protection Training
ORGANIZER;CN="Metro Safety Training":MAILTO:Info@metrosafety.ca
GEO:49.235584;-122.871897
X-APPLE-STRUCTURED-LOCATION;VALUE=URI;X-ADDRESS=Coquitlam Campus 914 Sherwood Ave Coquitlam British Columbia V3K 1A6 Canada;X-APPLE-RADIUS=500;X-TITLE=914 Sherwood Ave:geo:-122.871897,49.235584
END:VEVENT
BEGIN:VEVENT
DTSTART;TZID=America/Los_Angeles:20240706T083000
DTEND;TZID=America/Los_Angeles:20240706T163000
DTSTAMP:20260419T111752
CREATED:20240611T221018Z
LAST-MODIFIED:20240626T231939Z
UID:10000591-1720254600-1720283400@metrosafety.ca
SUMMARY:July 6\, 2024 - OFA 1 - Full
DESCRIPTION:Course: Occupational First Aid Level 1 \nCourse date:  July 6\, 2024 \nCourse time: 8:30 am – 4:30 pm \nLocation: 914 Sherwood Ave\, Coquitlam \nCourse cost: $98 per person \nThis course is taught in English and all reading materials for the class will be in English.
URL:https://metrosafety.ca/event/july-6-2024-ofa-1/
LOCATION:Coquitlam Campus\, 914 Sherwood Ave\, Coquitlam\, British Columbia\, V3K 1A6\, Canada
CATEGORIES:Occupational First Aid Level 1 (Basic First Aid)
ORGANIZER;CN="Metro Safety Training":MAILTO:Info@metrosafety.ca
GEO:49.235584;-122.871897
X-APPLE-STRUCTURED-LOCATION;VALUE=URI;X-ADDRESS=Coquitlam Campus 914 Sherwood Ave Coquitlam British Columbia V3K 1A6 Canada;X-APPLE-RADIUS=500;X-TITLE=914 Sherwood Ave:geo:-122.871897,49.235584
END:VEVENT
BEGIN:VEVENT
DTSTART;TZID=America/Los_Angeles:20240706T133000
DTEND;TZID=America/Los_Angeles:20240706T183000
DTSTAMP:20260419T111752
CREATED:20240606T033728Z
LAST-MODIFIED:20240705T235640Z
UID:10000287-1720272600-1720290600@metrosafety.ca
SUMMARY:July 6\, 2024 - Confined Space\, Monitor\, and Entrant
DESCRIPTION:Course: Confined Space\, Monitor\, and Entrant \nCourse date: July 6\, 2024 \nCourse time: 1:30 pm – 6:30 pm \nLocation: 914 Sherwood Ave\, Coquitlam \nCourse cost: $158 (Special Spring Pricing) \nIf you have your own harness\, please bring it with you. \nThis course is run in English with reading material and understanding English is mandatory. \nSpecial arrangements for private classes in other languages can be arranged\, please contact the office for more information.
URL:https://metrosafety.ca/event/july-6-2024-confined-space-monitor-and-entrant/
LOCATION:Coquitlam Campus\, 914 Sherwood Ave\, Coquitlam\, British Columbia\, V3K 1A6\, Canada
CATEGORIES:Confined Space
ORGANIZER;CN="Metro Safety Training":MAILTO:Info@metrosafety.ca
GEO:49.235584;-122.871897
X-APPLE-STRUCTURED-LOCATION;VALUE=URI;X-ADDRESS=Coquitlam Campus 914 Sherwood Ave Coquitlam British Columbia V3K 1A6 Canada;X-APPLE-RADIUS=500;X-TITLE=914 Sherwood Ave:geo:-122.871897,49.235584
END:VEVENT
END:VCALENDAR