BEGIN:VCALENDAR
VERSION:2.0
PRODID:-//Metro Safety Training - First Aid Training - ECPv6.15.15//NONSGML v1.0//EN
CALSCALE:GREGORIAN
METHOD:PUBLISH
X-ORIGINAL-URL:https://metrosafety.ca
X-WR-CALDESC:Events for Metro Safety Training - First Aid Training
REFRESH-INTERVAL;VALUE=DURATION:PT1H
X-Robots-Tag:noindex
X-PUBLISHED-TTL:PT1H
BEGIN:VTIMEZONE
TZID:America/Los_Angeles
BEGIN:DAYLIGHT
TZOFFSETFROM:-0800
TZOFFSETTO:-0700
TZNAME:PDT
DTSTART:20230312T100000
END:DAYLIGHT
BEGIN:STANDARD
TZOFFSETFROM:-0700
TZOFFSETTO:-0800
TZNAME:PST
DTSTART:20231105T090000
END:STANDARD
BEGIN:DAYLIGHT
TZOFFSETFROM:-0800
TZOFFSETTO:-0700
TZNAME:PDT
DTSTART:20240310T100000
END:DAYLIGHT
BEGIN:STANDARD
TZOFFSETFROM:-0700
TZOFFSETTO:-0800
TZNAME:PST
DTSTART:20241103T090000
END:STANDARD
BEGIN:DAYLIGHT
TZOFFSETFROM:-0800
TZOFFSETTO:-0700
TZNAME:PDT
DTSTART:20250309T100000
END:DAYLIGHT
BEGIN:STANDARD
TZOFFSETFROM:-0700
TZOFFSETTO:-0800
TZNAME:PST
DTSTART:20251102T090000
END:STANDARD
END:VTIMEZONE
BEGIN:VTIMEZONE
TZID:UTC
BEGIN:STANDARD
TZOFFSETFROM:+0000
TZOFFSETTO:+0000
TZNAME:UTC
DTSTART:20230101T000000
END:STANDARD
END:VTIMEZONE
BEGIN:VEVENT
DTSTART;TZID=America/Los_Angeles:20240513T083000
DTEND;TZID=America/Los_Angeles:20240524T163000
DTSTAMP:20260420T002146
CREATED:20240215T085445Z
LAST-MODIFIED:20240501T005101Z
UID:10000238-1715589000-1716568200@metrosafety.ca
SUMMARY:May 13 - May 24\, 2024 - OFA 3 - Full
DESCRIPTION:Course: Occupational First Aid Level 3 \nCourse dates: May 13 – May 24\, 2024 (Class will be running May 20th as normal despite it being a holiday) \nCourse times: 8:30 am – 4:30 pm \nLocation: 914 Sherwood Ave\, Coquitlam \nCourse cost: $858 per person
URL:https://metrosafety.ca/event/may-13-may-24-2024-ofa-3/
LOCATION:Coquitlam Campus\, 914 Sherwood Ave\, Coquitlam\, British Columbia\, V3K 1A6\, Canada
CATEGORIES:Occupational First Aid Level 3 (Occupational Advanced First Aid)
ORGANIZER;CN="Metro Safety Training":MAILTO:Info@metrosafety.ca
GEO:49.235584;-122.871897
X-APPLE-STRUCTURED-LOCATION;VALUE=URI;X-ADDRESS=Coquitlam Campus 914 Sherwood Ave Coquitlam British Columbia V3K 1A6 Canada;X-APPLE-RADIUS=500;X-TITLE=914 Sherwood Ave:geo:-122.871897,49.235584
END:VEVENT
BEGIN:VEVENT
DTSTART;TZID=America/Los_Angeles:20240514T173000
DTEND;TZID=America/Los_Angeles:20240615T163000
DTSTAMP:20260420T002146
CREATED:20240417T041958Z
LAST-MODIFIED:20240513T234036Z
UID:10000567-1715707800-1718469000@metrosafety.ca
SUMMARY:May 14 - June 15 2024 - Part-time OFA 3
DESCRIPTION:Course: Part-time Occupational First Aid Level 3 \nCourse dates: May 14 – June 15 2024 (Tuesdays\, Thursdays\, and Saturdays) \nCourse times: 5:30 pm – 9:30 pm (Tuesday + Thursday) 8:30 am -4:30 pm(Saturdays) \nLocation: 914 Sherwood Ave\, Coquitlam \nCourse cost: $858 per person \nThis course is taught in English and all reading materials for the class will be in English.
URL:https://metrosafety.ca/event/may-14-june-15-2024-part-time-ofa-3/
LOCATION:Coquitlam Campus\, 914 Sherwood Ave\, Coquitlam\, British Columbia\, V3K 1A6\, Canada
CATEGORIES:Occupational First Aid Level 3 (Advanced) Part Time
ORGANIZER;CN="Metro Safety Training":MAILTO:Info@metrosafety.ca
GEO:49.235584;-122.871897
X-APPLE-STRUCTURED-LOCATION;VALUE=URI;X-ADDRESS=Coquitlam Campus 914 Sherwood Ave Coquitlam British Columbia V3K 1A6 Canada;X-APPLE-RADIUS=500;X-TITLE=914 Sherwood Ave:geo:-122.871897,49.235584
END:VEVENT
BEGIN:VEVENT
DTSTART;TZID=America/Los_Angeles:20240520T083000
DTEND;TZID=America/Los_Angeles:20240524T163000
DTSTAMP:20260420T002146
CREATED:20240215T084056Z
LAST-MODIFIED:20240514T054629Z
UID:10000226-1716193800-1716568200@metrosafety.ca
SUMMARY:May 20 - 24 2024\, - OFA 2 -  Full
DESCRIPTION:Course: Occupational First Aid Level 2 \nCourse dates: May 20 – 24\, 2024 (Class will be running May 20th as normal despite it being a holiday) \nCourse times: 8:30 am – 4:30 pm \nLocation: 914 Sherwood Ave\, Coquitlam \nCourse cost: $598 per person \nThis course is taught in English and all reading materials for the class will be in English.
URL:https://metrosafety.ca/event/may-20-24-2024-ofa-2/
LOCATION:Coquitlam Campus\, 914 Sherwood Ave\, Coquitlam\, British Columbia\, V3K 1A6\, Canada
CATEGORIES:Occupational First Aid Level 2 (Intermediate First Aid)
ORGANIZER;CN="Metro Safety Training":MAILTO:Info@metrosafety.ca
GEO:49.235584;-122.871897
X-APPLE-STRUCTURED-LOCATION;VALUE=URI;X-ADDRESS=Coquitlam Campus 914 Sherwood Ave Coquitlam British Columbia V3K 1A6 Canada;X-APPLE-RADIUS=500;X-TITLE=914 Sherwood Ave:geo:-122.871897,49.235584
END:VEVENT
BEGIN:VEVENT
DTSTART;TZID=America/Los_Angeles:20240520T083000
DTEND;TZID=America/Los_Angeles:20240524T163000
DTSTAMP:20260420T002146
CREATED:20240215T085623Z
LAST-MODIFIED:20240501T005056Z
UID:10000239-1716193800-1716568200@metrosafety.ca
SUMMARY:May 20 - 24 2024 - OFA 3 Pro Renewal - Full
DESCRIPTION:Course: Occupational First Aid Level 3 Pro Renewal \nCourse dates: May 20 – 24 2024 (Class will be running May 20th as normal despite it being a holiday) \nIt is recommended that you attend the Thursday and Friday before your start date for a refresher and practice to be ready for Monday \nCourse times: 8:30 am – 4:30 pm \nLocation: 914 Sherwood Ave\, Coquitlam \nCourse cost: $688 per person \nThis course is taught in English and all reading materials for the class will be in English.
URL:https://metrosafety.ca/event/may-20-24-2024-ofa-3-pro-renewal/
LOCATION:Coquitlam Campus\, 914 Sherwood Ave\, Coquitlam\, British Columbia\, V3K 1A6\, Canada
CATEGORIES:Occupational First Aid Level 3 Pro Renew
ORGANIZER;CN="Metro Safety Training":MAILTO:Info@metrosafety.ca
GEO:49.235584;-122.871897
X-APPLE-STRUCTURED-LOCATION;VALUE=URI;X-ADDRESS=Coquitlam Campus 914 Sherwood Ave Coquitlam British Columbia V3K 1A6 Canada;X-APPLE-RADIUS=500;X-TITLE=914 Sherwood Ave:geo:-122.871897,49.235584
END:VEVENT
BEGIN:VEVENT
DTSTART;TZID=America/Los_Angeles:20240521T083000
DTEND;TZID=America/Los_Angeles:20240521T163000
DTSTAMP:20260420T002146
CREATED:20240405T025236Z
LAST-MODIFIED:20240424T021525Z
UID:10000555-1716280200-1716309000@metrosafety.ca
SUMMARY:May 21\, 2024 - OFA 1
DESCRIPTION:Course: Occupational First Aid Level 1 \nCourse date:  May 21\, 2024 \nCourse time: 8:30 am – 4:30 pm \nLocation: 914 Sherwood Ave\, Coquitlam \nCourse cost: $98 per person \nThis course is taught in English and all reading materials for the class will be in English.
URL:https://metrosafety.ca/event/may-21-2024-ofa-1/
LOCATION:Coquitlam Campus\, 914 Sherwood Ave\, Coquitlam\, British Columbia\, V3K 1A6\, Canada
CATEGORIES:Occupational First Aid Level 1 (Basic First Aid)
ORGANIZER;CN="Metro Safety Training":MAILTO:Info@metrosafety.ca
GEO:49.235584;-122.871897
X-APPLE-STRUCTURED-LOCATION;VALUE=URI;X-ADDRESS=Coquitlam Campus 914 Sherwood Ave Coquitlam British Columbia V3K 1A6 Canada;X-APPLE-RADIUS=500;X-TITLE=914 Sherwood Ave:geo:-122.871897,49.235584
END:VEVENT
BEGIN:VEVENT
DTSTART;TZID=UTC:20240523T083000
DTEND;TZID=UTC:20240523T163000
DTSTAMP:20260420T002146
CREATED:20240405T025341Z
LAST-MODIFIED:20240508T230606Z
UID:10000556-1716453000-1716481800@metrosafety.ca
SUMMARY:May 23\, 2024 - OFA 1 - Full
DESCRIPTION:Course: Occupational First Aid Level 1 \nCourse date:  May 23\, 2024 \nCourse time: 8:30 am – 4:30 pm \nLocation: 914 Sherwood Ave\, Coquitlam \nCourse cost: $98 per person \nThis course is taught in English and all reading materials for the class will be in English.
URL:https://metrosafety.ca/event/may-23-2024-ofa-1/
LOCATION:Coquitlam Campus\, 914 Sherwood Ave\, Coquitlam\, British Columbia\, V3K 1A6\, Canada
CATEGORIES:Occupational First Aid Level 1 (Basic First Aid)
ORGANIZER;CN="Metro Safety Training":MAILTO:Info@metrosafety.ca
GEO:49.235584;-122.871897
X-APPLE-STRUCTURED-LOCATION;VALUE=URI;X-ADDRESS=Coquitlam Campus 914 Sherwood Ave Coquitlam British Columbia V3K 1A6 Canada;X-APPLE-RADIUS=500;X-TITLE=914 Sherwood Ave:geo:-122.871897,49.235584
END:VEVENT
BEGIN:VEVENT
DTSTART;TZID=America/Los_Angeles:20240525T080000
DTEND;TZID=America/Los_Angeles:20240525T130000
DTSTAMP:20260420T002146
CREATED:20240417T014338Z
LAST-MODIFIED:20240426T225519Z
UID:10000563-1716624000-1716642000@metrosafety.ca
SUMMARY:May 25\, 2024 - Fall Protection Training
DESCRIPTION:Course: Fall Protection Training \nCourse date: May 25\, 2024 \nCourse time: 8:00 am – 1:00 pm \nLocation: 914 Sherwood Ave\, Coquitlam \nCourse cost: $128 (Special Spring Pricing) \nIf you have your own harness\, please bring it with you. \nThis course is run in English with reading material and understanding English is mandatory. \nSpecial arrangements for private classes in other languages can be arranged\, please contact the office for more information.
URL:https://metrosafety.ca/event/may-25-2024-fall-protection-training/
LOCATION:Coquitlam Campus\, 914 Sherwood Ave\, Coquitlam\, British Columbia\, V3K 1A6\, Canada
CATEGORIES:Fall Protection Training
ORGANIZER;CN="Metro Safety Training":MAILTO:Info@metrosafety.ca
GEO:49.235584;-122.871897
X-APPLE-STRUCTURED-LOCATION;VALUE=URI;X-ADDRESS=Coquitlam Campus 914 Sherwood Ave Coquitlam British Columbia V3K 1A6 Canada;X-APPLE-RADIUS=500;X-TITLE=914 Sherwood Ave:geo:-122.871897,49.235584
END:VEVENT
BEGIN:VEVENT
DTSTART;TZID=America/Los_Angeles:20240525T083000
DTEND;TZID=America/Los_Angeles:20240525T163000
DTSTAMP:20260420T002146
CREATED:20240405T025604Z
LAST-MODIFIED:20240524T053934Z
UID:10000557-1716625800-1716654600@metrosafety.ca
SUMMARY:May 25\, 2024 - OFA 1
DESCRIPTION:Course: Occupational First Aid Level 1 \nCourse date:  May 25\, 2024 \nCourse time: 8:30 am – 4:30 pm \nLocation: 914 Sherwood Ave\, Coquitlam \nCourse cost: $98 per person \nThis course is taught in English and all reading materials for the class will be in English.
URL:https://metrosafety.ca/event/may-25-2024-ofa-1/
LOCATION:Coquitlam Campus\, 914 Sherwood Ave\, Coquitlam\, British Columbia\, V3K 1A6\, Canada
CATEGORIES:Occupational First Aid Level 1 (Basic First Aid)
ORGANIZER;CN="Metro Safety Training":MAILTO:Info@metrosafety.ca
GEO:49.235584;-122.871897
X-APPLE-STRUCTURED-LOCATION;VALUE=URI;X-ADDRESS=Coquitlam Campus 914 Sherwood Ave Coquitlam British Columbia V3K 1A6 Canada;X-APPLE-RADIUS=500;X-TITLE=914 Sherwood Ave:geo:-122.871897,49.235584
END:VEVENT
BEGIN:VEVENT
DTSTART;TZID=America/Los_Angeles:20240525T133000
DTEND;TZID=America/Los_Angeles:20240525T180000
DTSTAMP:20260420T002146
CREATED:20240417T015053Z
LAST-MODIFIED:20240426T225521Z
UID:10000564-1716643800-1716660000@metrosafety.ca
SUMMARY:May 25\, 2024 - Confined Space\, Monitor\, and Entrant
DESCRIPTION:Course: Confined Space\, Monitor\, and Entrant \nCourse date: May 25\, 2024 \nCourse time: 1:30 pm – 6:00 pm \nLocation: 914 Sherwood Ave\, Coquitlam \nCourse cost: $158 (Special Spring Pricing) \nIf you have your own harness\, please bring it with you. \nThis course is run in English with reading material and understanding English is mandatory. \nSpecial arrangements for private classes in other languages can be arranged\, please contact the office for more information.
URL:https://metrosafety.ca/event/may-25-2024-confined-space-monitor-and-entrant/
LOCATION:Coquitlam Campus\, 914 Sherwood Ave\, Coquitlam\, British Columbia\, V3K 1A6\, Canada
CATEGORIES:Confined Space
ORGANIZER;CN="Metro Safety Training":MAILTO:Info@metrosafety.ca
GEO:49.235584;-122.871897
X-APPLE-STRUCTURED-LOCATION;VALUE=URI;X-ADDRESS=Coquitlam Campus 914 Sherwood Ave Coquitlam British Columbia V3K 1A6 Canada;X-APPLE-RADIUS=500;X-TITLE=914 Sherwood Ave:geo:-122.871897,49.235584
END:VEVENT
END:VCALENDAR