BEGIN:VCALENDAR
VERSION:2.0
PRODID:-//Metro Safety Training - First Aid Training - ECPv6.15.15//NONSGML v1.0//EN
CALSCALE:GREGORIAN
METHOD:PUBLISH
X-ORIGINAL-URL:https://metrosafety.ca
X-WR-CALDESC:Events for Metro Safety Training - First Aid Training
REFRESH-INTERVAL;VALUE=DURATION:PT1H
X-Robots-Tag:noindex
X-PUBLISHED-TTL:PT1H
BEGIN:VTIMEZONE
TZID:America/Vancouver
BEGIN:DAYLIGHT
TZOFFSETFROM:-0800
TZOFFSETTO:-0700
TZNAME:PDT
DTSTART:20240310T100000
END:DAYLIGHT
BEGIN:STANDARD
TZOFFSETFROM:-0700
TZOFFSETTO:-0800
TZNAME:PST
DTSTART:20241103T090000
END:STANDARD
BEGIN:DAYLIGHT
TZOFFSETFROM:-0800
TZOFFSETTO:-0700
TZNAME:PDT
DTSTART:20250309T100000
END:DAYLIGHT
BEGIN:STANDARD
TZOFFSETFROM:-0700
TZOFFSETTO:-0800
TZNAME:PST
DTSTART:20251102T090000
END:STANDARD
BEGIN:DAYLIGHT
TZOFFSETFROM:-0800
TZOFFSETTO:-0700
TZNAME:PDT
DTSTART:20260308T100000
END:DAYLIGHT
BEGIN:STANDARD
TZOFFSETFROM:-0700
TZOFFSETTO:-0800
TZNAME:PST
DTSTART:20261101T090000
END:STANDARD
END:VTIMEZONE
BEGIN:VEVENT
DTSTART;TZID=America/Vancouver:20250310T073000
DTEND;TZID=America/Vancouver:20250311T153000
DTSTAMP:20260421T113438
CREATED:20250206T225354Z
LAST-MODIFIED:20250305T200208Z
UID:10000824-1741591800-1741707000@metrosafety.ca
SUMMARY:March 10/11\, 2025 - Emergency First Aid or Standard First Aid - Surrey
DESCRIPTION:Course: Emergency First Aid + Standard First Aid \nCourse date: March 10/11\, 2025 (EFA is only March 10th\, SFA is for March 10 and 11) \nCourse time: 7:30 am – 3:30 pm \nLocation: 15685 Fraser Hwy unit 4a\, Surrey\, BC V4N 0Y6 \nCourse cost: EFA – $98 per person. SFA – $158 per person \nThis course is taught in English and all reading materials for the class will be in English.
URL:https://metrosafety.ca/event/march-10-11-2025-basic-first-aid-formerly-ofa-1-or-intermediate-first-aid-formerly-ofa-2-surrey/
LOCATION:Surrey Campus\, 15685 Fraser Hwy Unit 4A\, Surrey\, BC\, V4N 0Y6\, Canada
CATEGORIES:Emergency First Aid with CPR/AED Level C,Standard First Aid with CPR/AED Level C
ORGANIZER;CN="Metro Safety Training":MAILTO:Info@metrosafety.ca
END:VEVENT
END:VCALENDAR