BEGIN:VCALENDAR
VERSION:2.0
PRODID:-//Metro Safety Training - First Aid Training - ECPv6.15.15//NONSGML v1.0//EN
CALSCALE:GREGORIAN
METHOD:PUBLISH
X-WR-CALNAME:Metro Safety Training - First Aid Training
X-ORIGINAL-URL:https://metrosafety.ca
X-WR-CALDESC:Events for Metro Safety Training - First Aid Training
REFRESH-INTERVAL;VALUE=DURATION:PT1H
X-Robots-Tag:noindex
X-PUBLISHED-TTL:PT1H
BEGIN:VTIMEZONE
TZID:America/Los_Angeles
BEGIN:DAYLIGHT
TZOFFSETFROM:-0800
TZOFFSETTO:-0700
TZNAME:PDT
DTSTART:20230312T100000
END:DAYLIGHT
BEGIN:STANDARD
TZOFFSETFROM:-0700
TZOFFSETTO:-0800
TZNAME:PST
DTSTART:20231105T090000
END:STANDARD
BEGIN:DAYLIGHT
TZOFFSETFROM:-0800
TZOFFSETTO:-0700
TZNAME:PDT
DTSTART:20240310T100000
END:DAYLIGHT
BEGIN:STANDARD
TZOFFSETFROM:-0700
TZOFFSETTO:-0800
TZNAME:PST
DTSTART:20241103T090000
END:STANDARD
BEGIN:DAYLIGHT
TZOFFSETFROM:-0800
TZOFFSETTO:-0700
TZNAME:PDT
DTSTART:20250309T100000
END:DAYLIGHT
BEGIN:STANDARD
TZOFFSETFROM:-0700
TZOFFSETTO:-0800
TZNAME:PST
DTSTART:20251102T090000
END:STANDARD
END:VTIMEZONE
BEGIN:VEVENT
DTSTART;TZID=America/Los_Angeles:20240429T083000
DTEND;TZID=America/Los_Angeles:20240510T163000
DTSTAMP:20260420T215602
CREATED:20240215T085059Z
LAST-MODIFIED:20240405T024848Z
UID:10000235-1714379400-1715358600@metrosafety.ca
SUMMARY:April 29 - May 10\, 2024 - OFA 3 - Full
DESCRIPTION:Course: Occupational First Aid Level 3 \nCourse dates: April 29 – May 10\, 2024 \nCourse times: 8:30 am – 4:30 pm \nLocation: 914 Sherwood Ave\, Coquitlam \nCourse cost: $858 per person
URL:https://metrosafety.ca/event/april-29-may-10-2024-ofa-3/
LOCATION:Coquitlam Campus\, 914 Sherwood Ave\, Coquitlam\, British Columbia\, V3K 1A6\, Canada
CATEGORIES:Occupational First Aid Level 3 (Occupational Advanced First Aid)
ORGANIZER;CN="Metro Safety Training":MAILTO:Info@metrosafety.ca
GEO:49.235584;-122.871897
X-APPLE-STRUCTURED-LOCATION;VALUE=URI;X-ADDRESS=Coquitlam Campus 914 Sherwood Ave Coquitlam British Columbia V3K 1A6 Canada;X-APPLE-RADIUS=500;X-TITLE=914 Sherwood Ave:geo:-122.871897,49.235584
END:VEVENT
BEGIN:VEVENT
DTSTART;TZID=America/Los_Angeles:20240429T083000
DTEND;TZID=America/Los_Angeles:20240503T163000
DTSTAMP:20260420T215602
CREATED:20240215T083534Z
LAST-MODIFIED:20240424T002526Z
UID:10000532-1714379400-1714753800@metrosafety.ca
SUMMARY:April 29 - May 3 2024\, - OFA 2 - Full
DESCRIPTION:Course: Occupational First Aid Level 2 \nCourse dates: April 29 – May 3\, 2024 \nCourse times: 8:30 am – 4:30 pm \nLocation: 914 Sherwood Ave\, Coquitlam \nCourse cost: $598 per person
URL:https://metrosafety.ca/event/april-29-may-1-2024-ofa-2/
LOCATION:Coquitlam Campus\, 914 Sherwood Ave\, Coquitlam\, British Columbia\, V3K 1A6\, Canada
CATEGORIES:Occupational First Aid Level 2 (Intermediate First Aid)
ORGANIZER;CN="Metro Safety Training":MAILTO:Info@metrosafety.ca
GEO:49.235584;-122.871897
X-APPLE-STRUCTURED-LOCATION;VALUE=URI;X-ADDRESS=Coquitlam Campus 914 Sherwood Ave Coquitlam British Columbia V3K 1A6 Canada;X-APPLE-RADIUS=500;X-TITLE=914 Sherwood Ave:geo:-122.871897,49.235584
END:VEVENT
BEGIN:VEVENT
DTSTART;TZID=America/Los_Angeles:20240427T133000
DTEND;TZID=America/Los_Angeles:20240427T180000
DTSTAMP:20260420T215602
CREATED:20240326T030037Z
LAST-MODIFIED:20240426T225510Z
UID:10000551-1714224600-1714240800@metrosafety.ca
SUMMARY:April 27\, 2024 - Confined Space\, Monitor\, and Entrant
DESCRIPTION:Course: Confined Space\, Monitor\, and Entrant \nCourse date: April 27\, 2024 \nCourse time: 1:30 pm – 6:00 pm \nLocation: 914 Sherwood Ave\, Coquitlam \nCourse cost: $158 (Special Spring Pricing) \nIf you have your own harness\, please bring it with you. \nThis course is run in English with reading material and understanding English is mandatory. \nSpecial arrangements for private classes in other languages can be arranged\, please contact the office for more information.
URL:https://metrosafety.ca/event/april-27-2024-confined-space-monitor-and-entrant/
LOCATION:Coquitlam Campus\, 914 Sherwood Ave\, Coquitlam\, British Columbia\, V3K 1A6\, Canada
CATEGORIES:Confined Space
ORGANIZER;CN="Metro Safety Training":MAILTO:Info@metrosafety.ca
GEO:49.235584;-122.871897
X-APPLE-STRUCTURED-LOCATION;VALUE=URI;X-ADDRESS=Coquitlam Campus 914 Sherwood Ave Coquitlam British Columbia V3K 1A6 Canada;X-APPLE-RADIUS=500;X-TITLE=914 Sherwood Ave:geo:-122.871897,49.235584
END:VEVENT
BEGIN:VEVENT
DTSTART;TZID=America/Los_Angeles:20240427T083000
DTEND;TZID=America/Los_Angeles:20240427T163000
DTSTAMP:20260420T215602
CREATED:20240301T045338Z
LAST-MODIFIED:20240427T044433Z
UID:10000549-1714206600-1714235400@metrosafety.ca
SUMMARY:April 27\, 2024 - OFA 1
DESCRIPTION:Course: Occupational First Aid Level 1 \nCourse date:  April 27\, 2024 \nCourse time: 8:30 am – 4:30 pm \nLocation: 914 Sherwood Ave\, Coquitlam \nCourse cost: $98 per person
URL:https://metrosafety.ca/event/april-27-2024-ofa-1/
LOCATION:Coquitlam Campus\, 914 Sherwood Ave\, Coquitlam\, British Columbia\, V3K 1A6\, Canada
CATEGORIES:Occupational First Aid Level 1 (Basic First Aid)
ORGANIZER;CN="Metro Safety Training":MAILTO:Info@metrosafety.ca
GEO:49.235584;-122.871897
X-APPLE-STRUCTURED-LOCATION;VALUE=URI;X-ADDRESS=Coquitlam Campus 914 Sherwood Ave Coquitlam British Columbia V3K 1A6 Canada;X-APPLE-RADIUS=500;X-TITLE=914 Sherwood Ave:geo:-122.871897,49.235584
END:VEVENT
BEGIN:VEVENT
DTSTART;TZID=America/Los_Angeles:20240427T080000
DTEND;TZID=America/Los_Angeles:20240427T130000
DTSTAMP:20260420T215602
CREATED:20240326T025533Z
LAST-MODIFIED:20240426T225512Z
UID:10000256-1714204800-1714222800@metrosafety.ca
SUMMARY:April 27\, 2024 - Fall Protection Training
DESCRIPTION:Course: Fall Protection Training \nCourse date: April 27\, 2024 \nCourse time: 8:00 am – 1:00 pm \nLocation: 914 Sherwood Ave\, Coquitlam \nCourse cost: $128 (Special Spring Pricing) \nIf you have your own harness\, please bring it with you. \nThis course is run in English with reading material and understanding English is mandatory. \nSpecial arrangements for private classes in other languages can be arranged\, please contact the office for more information.
URL:https://metrosafety.ca/event/april-27-2024-fall-protection-training/
LOCATION:Coquitlam Campus\, 914 Sherwood Ave\, Coquitlam\, British Columbia\, V3K 1A6\, Canada
CATEGORIES:Fall Protection Training
ORGANIZER;CN="Metro Safety Training":MAILTO:Info@metrosafety.ca
GEO:49.235584;-122.871897
X-APPLE-STRUCTURED-LOCATION;VALUE=URI;X-ADDRESS=Coquitlam Campus 914 Sherwood Ave Coquitlam British Columbia V3K 1A6 Canada;X-APPLE-RADIUS=500;X-TITLE=914 Sherwood Ave:geo:-122.871897,49.235584
END:VEVENT
BEGIN:VEVENT
DTSTART;TZID=America/Los_Angeles:20240425T083000
DTEND;TZID=America/Los_Angeles:20240425T163000
DTSTAMP:20260420T215602
CREATED:20240301T045234Z
LAST-MODIFIED:20240418T020413Z
UID:10000548-1714033800-1714062600@metrosafety.ca
SUMMARY:April 25\, 2024 - OFA 1 - Full
DESCRIPTION:Course: Occupational First Aid Level 1 \nCourse date:  April 25\, 2024 \nCourse time: 8:30 am – 4:30 pm \nLocation: 914 Sherwood Ave\, Coquitlam \nCourse cost: $98 per person
URL:https://metrosafety.ca/event/april-25-2024-ofa-1/
LOCATION:Coquitlam Campus\, 914 Sherwood Ave\, Coquitlam\, British Columbia\, V3K 1A6\, Canada
CATEGORIES:Occupational First Aid Level 1 (Basic First Aid)
ORGANIZER;CN="Metro Safety Training":MAILTO:Info@metrosafety.ca
GEO:49.235584;-122.871897
X-APPLE-STRUCTURED-LOCATION;VALUE=URI;X-ADDRESS=Coquitlam Campus 914 Sherwood Ave Coquitlam British Columbia V3K 1A6 Canada;X-APPLE-RADIUS=500;X-TITLE=914 Sherwood Ave:geo:-122.871897,49.235584
END:VEVENT
BEGIN:VEVENT
DTSTART;TZID=America/Los_Angeles:20240422T083000
DTEND;TZID=America/Los_Angeles:20240426T163000
DTSTAMP:20260420T215602
CREATED:20231102T002947Z
LAST-MODIFIED:20240419T010026Z
UID:10000196-1713774600-1714149000@metrosafety.ca
SUMMARY:April 22 - 26 2024\, - OFA 2
DESCRIPTION:Course: Occupational First Aid Level 2 \nCourse dates: April 22 – 26 2024 \nCourse times: 8:30 am – 4:30 pm \nLocation: 914 Sherwood Ave\, Coquitlam \nCourse cost: $598 per person
URL:https://metrosafety.ca/event/april-22-26-2024-ofa-2/
LOCATION:Coquitlam Campus\, 914 Sherwood Ave\, Coquitlam\, British Columbia\, V3K 1A6\, Canada
CATEGORIES:Occupational First Aid Level 2 (Intermediate First Aid)
ORGANIZER;CN="Metro Safety Training":MAILTO:Info@metrosafety.ca
GEO:49.235584;-122.871897
X-APPLE-STRUCTURED-LOCATION;VALUE=URI;X-ADDRESS=Coquitlam Campus 914 Sherwood Ave Coquitlam British Columbia V3K 1A6 Canada;X-APPLE-RADIUS=500;X-TITLE=914 Sherwood Ave:geo:-122.871897,49.235584
END:VEVENT
BEGIN:VEVENT
DTSTART;TZID=America/Los_Angeles:20240422T083000
DTEND;TZID=America/Los_Angeles:20240426T163000
DTSTAMP:20260420T215602
CREATED:20231101T040808Z
LAST-MODIFIED:20240417T043210Z
UID:10000485-1713774600-1714149000@metrosafety.ca
SUMMARY:April 22 - 26 2024 - OFA 3 Pro Renewal
DESCRIPTION:Course: Occupational First Aid Level 3 Pro Renewal \nCourse dates: April 22 – 26 2024 \nIt is recommended that you attend the Thursday and Friday prior to your start date for a refresher and practice to be ready for Monday \nCourse times: 8:30 am – 4:30 pm \nLocation: 914 Sherwood Ave\, Coquitlam \nCourse cost: $688 per person
URL:https://metrosafety.ca/event/april-22-26-2024-ofa-3-pro-renewal/
LOCATION:Coquitlam Campus\, 914 Sherwood Ave\, Coquitlam\, British Columbia\, V3K 1A6\, Canada
CATEGORIES:Occupational First Aid Level 3 Pro Renew
ORGANIZER;CN="Metro Safety Training":MAILTO:Info@metrosafety.ca
GEO:49.235584;-122.871897
X-APPLE-STRUCTURED-LOCATION;VALUE=URI;X-ADDRESS=Coquitlam Campus 914 Sherwood Ave Coquitlam British Columbia V3K 1A6 Canada;X-APPLE-RADIUS=500;X-TITLE=914 Sherwood Ave:geo:-122.871897,49.235584
END:VEVENT
BEGIN:VEVENT
DTSTART;TZID=America/Los_Angeles:20240422T083000
DTEND;TZID=America/Los_Angeles:20240422T163000
DTSTAMP:20260420T215602
CREATED:20240301T044953Z
LAST-MODIFIED:20240420T003721Z
UID:10000547-1713774600-1713803400@metrosafety.ca
SUMMARY:April 22\, 2024 - OFA 1
DESCRIPTION:Course: Occupational First Aid Level 1 \nCourse date:  April 22\, 2024 \nCourse time: 8:30 am – 4:30 pm \nLocation: 914 Sherwood Ave\, Coquitlam \nCourse cost: $98 per person
URL:https://metrosafety.ca/event/april-22-2024-ofa-1/
LOCATION:Coquitlam Campus\, 914 Sherwood Ave\, Coquitlam\, British Columbia\, V3K 1A6\, Canada
CATEGORIES:Occupational First Aid Level 1 (Basic First Aid)
ORGANIZER;CN="Metro Safety Training":MAILTO:Info@metrosafety.ca
GEO:49.235584;-122.871897
X-APPLE-STRUCTURED-LOCATION;VALUE=URI;X-ADDRESS=Coquitlam Campus 914 Sherwood Ave Coquitlam British Columbia V3K 1A6 Canada;X-APPLE-RADIUS=500;X-TITLE=914 Sherwood Ave:geo:-122.871897,49.235584
END:VEVENT
BEGIN:VEVENT
DTSTART;TZID=America/Los_Angeles:20240420T083000
DTEND;TZID=America/Los_Angeles:20240421T163000
DTSTAMP:20260420T215602
CREATED:20240312T044926Z
LAST-MODIFIED:20240417T225931Z
UID:10000245-1713601800-1713717000@metrosafety.ca
SUMMARY:April 20-21\, 2024 - Red Cross - SFA with CPR/AED C
DESCRIPTION:Course: Red Cross – Standard First Aid with CPR C and AED \nCourse date: April 20 & 21\, 2024 \nCourse time: 8:30 am – 4:30 pm \nLocation: 914 Sherwood Ave\, Coquitlam \nCourse cost: $158 per person
URL:https://metrosafety.ca/event/april-20-21-2024-red-cross-sfa-with-cpr-aed-c/
LOCATION:Coquitlam Campus\, 914 Sherwood Ave\, Coquitlam\, British Columbia\, V3K 1A6\, Canada
CATEGORIES:Standard First Aid with CPR/AED Level C
ORGANIZER;CN="Metro Safety Training":MAILTO:Info@metrosafety.ca
GEO:49.235584;-122.871897
X-APPLE-STRUCTURED-LOCATION;VALUE=URI;X-ADDRESS=Coquitlam Campus 914 Sherwood Ave Coquitlam British Columbia V3K 1A6 Canada;X-APPLE-RADIUS=500;X-TITLE=914 Sherwood Ave:geo:-122.871897,49.235584
END:VEVENT
BEGIN:VEVENT
DTSTART;TZID=America/Los_Angeles:20240415T083000
DTEND;TZID=America/Los_Angeles:20240426T163000
DTSTAMP:20260420T215602
CREATED:20231101T032304Z
LAST-MODIFIED:20240320T033422Z
UID:10000185-1713169800-1714149000@metrosafety.ca
SUMMARY:April 15 - 26\, 2024 - OFA 3 - FULL
DESCRIPTION:Course: Occupational First Aid Level 3 \nCourse dates: April 15 – 26\, 2024 – OFA 3 \nCourse times: 8:30 am – 4:30 pm \nLocation: 914 Sherwood Ave\, Coquitlam \nCourse cost: $858 per person
URL:https://metrosafety.ca/event/april-15-26-2024-ofa-3/
LOCATION:Coquitlam Campus\, 914 Sherwood Ave\, Coquitlam\, British Columbia\, V3K 1A6\, Canada
CATEGORIES:Occupational First Aid Level 3 (Occupational Advanced First Aid)
ORGANIZER;CN="Metro Safety Training":MAILTO:Info@metrosafety.ca
GEO:49.235584;-122.871897
X-APPLE-STRUCTURED-LOCATION;VALUE=URI;X-ADDRESS=Coquitlam Campus 914 Sherwood Ave Coquitlam British Columbia V3K 1A6 Canada;X-APPLE-RADIUS=500;X-TITLE=914 Sherwood Ave:geo:-122.871897,49.235584
END:VEVENT
END:VCALENDAR