BEGIN:VCALENDAR
VERSION:2.0
PRODID:-//Metro Safety Training - First Aid Training - ECPv6.15.15//NONSGML v1.0//EN
CALSCALE:GREGORIAN
METHOD:PUBLISH
X-ORIGINAL-URL:https://metrosafety.ca
X-WR-CALDESC:Events for Metro Safety Training - First Aid Training
REFRESH-INTERVAL;VALUE=DURATION:PT1H
X-Robots-Tag:noindex
X-PUBLISHED-TTL:PT1H
BEGIN:VTIMEZONE
TZID:America/Vancouver
BEGIN:DAYLIGHT
TZOFFSETFROM:-0800
TZOFFSETTO:-0700
TZNAME:PDT
DTSTART:20240310T100000
END:DAYLIGHT
BEGIN:STANDARD
TZOFFSETFROM:-0700
TZOFFSETTO:-0800
TZNAME:PST
DTSTART:20241103T090000
END:STANDARD
BEGIN:DAYLIGHT
TZOFFSETFROM:-0800
TZOFFSETTO:-0700
TZNAME:PDT
DTSTART:20250309T100000
END:DAYLIGHT
BEGIN:STANDARD
TZOFFSETFROM:-0700
TZOFFSETTO:-0800
TZNAME:PST
DTSTART:20251102T090000
END:STANDARD
BEGIN:DAYLIGHT
TZOFFSETFROM:-0800
TZOFFSETTO:-0700
TZNAME:PDT
DTSTART:20260308T100000
END:DAYLIGHT
BEGIN:STANDARD
TZOFFSETFROM:-0700
TZOFFSETTO:-0800
TZNAME:PST
DTSTART:20261101T090000
END:STANDARD
END:VTIMEZONE
BEGIN:VTIMEZONE
TZID:America/Los_Angeles
BEGIN:DAYLIGHT
TZOFFSETFROM:-0800
TZOFFSETTO:-0700
TZNAME:PDT
DTSTART:20230312T100000
END:DAYLIGHT
BEGIN:STANDARD
TZOFFSETFROM:-0700
TZOFFSETTO:-0800
TZNAME:PST
DTSTART:20231105T090000
END:STANDARD
BEGIN:DAYLIGHT
TZOFFSETFROM:-0800
TZOFFSETTO:-0700
TZNAME:PDT
DTSTART:20240310T100000
END:DAYLIGHT
BEGIN:STANDARD
TZOFFSETFROM:-0700
TZOFFSETTO:-0800
TZNAME:PST
DTSTART:20241103T090000
END:STANDARD
BEGIN:DAYLIGHT
TZOFFSETFROM:-0800
TZOFFSETTO:-0700
TZNAME:PDT
DTSTART:20250309T100000
END:DAYLIGHT
BEGIN:STANDARD
TZOFFSETFROM:-0700
TZOFFSETTO:-0800
TZNAME:PST
DTSTART:20251102T090000
END:STANDARD
BEGIN:DAYLIGHT
TZOFFSETFROM:-0800
TZOFFSETTO:-0700
TZNAME:PDT
DTSTART:20260308T100000
END:DAYLIGHT
BEGIN:STANDARD
TZOFFSETFROM:-0700
TZOFFSETTO:-0800
TZNAME:PST
DTSTART:20261101T090000
END:STANDARD
END:VTIMEZONE
BEGIN:VTIMEZONE
TZID:UTC
BEGIN:STANDARD
TZOFFSETFROM:+0000
TZOFFSETTO:+0000
TZNAME:UTC
DTSTART:20230101T000000
END:STANDARD
END:VTIMEZONE
BEGIN:VEVENT
DTSTART;TZID=America/Vancouver:20250331T083000
DTEND;TZID=America/Vancouver:20250401T163000
DTSTAMP:20260422T074437
CREATED:20250219T202927Z
LAST-MODIFIED:20250219T202927Z
UID:10000835-1743409800-1743525000@metrosafety.ca
SUMMARY:March 31/April 1st\, 2025 - Emergency First Aid with CPR/AED C + Standard First Aid with CPR/AED C
DESCRIPTION:Course: Emergency First Aid with CPR/AED C + Standard First Aid with CPR/AED C \nCourse date:  Emergency First Aid will run on March 31st\, 2025\, Standard First Aid will run on March 31st and April 1st 2025\, CPR/AED Level C will run for 4 hours (8:30-4:30) on March 31st 2025 \nCourse time: 8:30 am – 4:30 pm \nLocation: 914 Sherwood Ave\, Coquitlam\, BC\, V3K 1A6 \nCourse cost: $98 per person for EFA\, $158 per person for SFA\, $59.95 for CPR/AED Level C \nThis course is taught in English and all reading materials for the class will be in English.
URL:https://metrosafety.ca/event/march-31-april-1st-2025-emergency-first-aid-with-cpr-aed-c-standard-first-aid-with-cpr-aed-c/
LOCATION:Coquitlam Campus\, 914 Sherwood Ave\, Coquitlam\, British Columbia\, V3K 1A6\, Canada
CATEGORIES:CPR C,CPR-C/AED Recertification,Emergency First Aid with CPR/AED Level C,Standard First Aid with CPR/AED Level C
ORGANIZER;CN="Metro Safety Training":MAILTO:Info@metrosafety.ca
GEO:49.235584;-122.871897
X-APPLE-STRUCTURED-LOCATION;VALUE=URI;X-ADDRESS=Coquitlam Campus 914 Sherwood Ave Coquitlam British Columbia V3K 1A6 Canada;X-APPLE-RADIUS=500;X-TITLE=914 Sherwood Ave:geo:-122.871897,49.235584
END:VEVENT
BEGIN:VEVENT
DTSTART;TZID=America/Vancouver:20250329T083000
DTEND;TZID=America/Vancouver:20250329T163000
DTSTAMP:20260422T074437
CREATED:20250219T202058Z
LAST-MODIFIED:20250219T202058Z
UID:10000834-1743237000-1743265800@metrosafety.ca
SUMMARY:March 29th 2025 - Emergency Childcare First Aid and CPR B
DESCRIPTION:Course: Emergency Childcare First Aid and CPR B \nCourse dates: March 29th\, 2025 \nCourse times: 8:30 am – 4:30 pm \nLocation: 914 Sherwood Ave\, Coquitlam \nCourse cost: $88 per person \nThis course is taught in English and all reading materials for the class will be in English.
URL:https://metrosafety.ca/event/march-29th-2025-emergency-childcare-first-aid-and-cpr-b/
LOCATION:Coquitlam Campus\, 914 Sherwood Ave\, Coquitlam\, British Columbia\, V3K 1A6\, Canada
CATEGORIES:Emergency First AId Childcare with CPR/AED B,Emergency First Aid Childcare with CPR/AED B Recert,Emergency First Aid with CPR/AED Level C,Standard First Aid with CPR/AED Level C
ORGANIZER;CN="Metro Safety Training":MAILTO:Info@metrosafety.ca
GEO:49.235584;-122.871897
X-APPLE-STRUCTURED-LOCATION;VALUE=URI;X-ADDRESS=Coquitlam Campus 914 Sherwood Ave Coquitlam British Columbia V3K 1A6 Canada;X-APPLE-RADIUS=500;X-TITLE=914 Sherwood Ave:geo:-122.871897,49.235584
END:VEVENT
BEGIN:VEVENT
DTSTART;TZID=America/Vancouver:20250322T083000
DTEND;TZID=America/Vancouver:20250322T163000
DTSTAMP:20260422T074437
CREATED:20250219T200031Z
LAST-MODIFIED:20250320T170813Z
UID:10000833-1742632200-1742661000@metrosafety.ca
SUMMARY:March 22\, 2025 - Emergency First Aid with CPR/AED C
DESCRIPTION:Course: Emergency First Aid with CPR/AED C \nCourse date:  March 22\, 2025 \nCourse time: EFA – 8:30 am – 4:30 pm\, CPR-C – 8:30 – 1:30 pm \nLocation: 914 Sherwood Ave\, Coquitlam\, BC\, V3K 1A6 \nCourse cost: $98 per person – EFA\, $59.95 per person – CPR/AED C \nThis course is taught in English and all reading materials for the class will be in English.
URL:https://metrosafety.ca/event/march-22-2025-emergency-first-aid-with-cpr-aed-c/
LOCATION:Coquitlam Campus\, 914 Sherwood Ave\, Coquitlam\, British Columbia\, V3K 1A6\, Canada
CATEGORIES:CPR C,CPR-C/AED Recertification,Emergency First Aid with CPR/AED Level C
ORGANIZER;CN="Metro Safety Training":MAILTO:Info@metrosafety.ca
GEO:49.235584;-122.871897
X-APPLE-STRUCTURED-LOCATION;VALUE=URI;X-ADDRESS=Coquitlam Campus 914 Sherwood Ave Coquitlam British Columbia V3K 1A6 Canada;X-APPLE-RADIUS=500;X-TITLE=914 Sherwood Ave:geo:-122.871897,49.235584
END:VEVENT
BEGIN:VEVENT
DTSTART;TZID=America/Vancouver:20250318T083000
DTEND;TZID=America/Vancouver:20250318T163000
DTSTAMP:20260422T074437
CREATED:20250219T195038Z
LAST-MODIFIED:20250219T195038Z
UID:10000831-1742286600-1742315400@metrosafety.ca
SUMMARY:March 18th 2025 - Emergency Childcare First Aid and CPR B
DESCRIPTION:Course: Emergency Childcare First Aid and CPR B \nCourse dates: March 18th\, 2025 \nCourse times: 8:30 am – 4:30 pm \nLocation: 914 Sherwood Ave\, Coquitlam \nCourse cost: $88 per person \nThis course is taught in English and all reading materials for the class will be in English.
URL:https://metrosafety.ca/event/march-18th-2025-emergency-childcare-first-aid-and-cpr-b/
LOCATION:Coquitlam Campus\, 914 Sherwood Ave\, Coquitlam\, British Columbia\, V3K 1A6\, Canada
CATEGORIES:Emergency First Aid with CPR/AED Level C,Standard First Aid with CPR/AED Level C
ORGANIZER;CN="Metro Safety Training":MAILTO:Info@metrosafety.ca
GEO:49.235584;-122.871897
X-APPLE-STRUCTURED-LOCATION;VALUE=URI;X-ADDRESS=Coquitlam Campus 914 Sherwood Ave Coquitlam British Columbia V3K 1A6 Canada;X-APPLE-RADIUS=500;X-TITLE=914 Sherwood Ave:geo:-122.871897,49.235584
END:VEVENT
BEGIN:VEVENT
DTSTART;TZID=America/Vancouver:20250310T073000
DTEND;TZID=America/Vancouver:20250311T153000
DTSTAMP:20260422T074437
CREATED:20250206T225354Z
LAST-MODIFIED:20250305T200208Z
UID:10000824-1741591800-1741707000@metrosafety.ca
SUMMARY:March 10/11\, 2025 - Emergency First Aid or Standard First Aid - Surrey
DESCRIPTION:Course: Emergency First Aid + Standard First Aid \nCourse date: March 10/11\, 2025 (EFA is only March 10th\, SFA is for March 10 and 11) \nCourse time: 7:30 am – 3:30 pm \nLocation: 15685 Fraser Hwy unit 4a\, Surrey\, BC V4N 0Y6 \nCourse cost: EFA – $98 per person. SFA – $158 per person \nThis course is taught in English and all reading materials for the class will be in English.
URL:https://metrosafety.ca/event/march-10-11-2025-basic-first-aid-formerly-ofa-1-or-intermediate-first-aid-formerly-ofa-2-surrey/
LOCATION:Surrey Campus\, 15685 Fraser Hwy Unit 4A\, Surrey\, BC\, V4N 0Y6\, Canada
CATEGORIES:Emergency First Aid with CPR/AED Level C,Standard First Aid with CPR/AED Level C
ORGANIZER;CN="Metro Safety Training":MAILTO:Info@metrosafety.ca
END:VEVENT
BEGIN:VEVENT
DTSTART;TZID=America/Vancouver:20250218T083000
DTEND;TZID=America/Vancouver:20250218T163000
DTSTAMP:20260422T074438
CREATED:20250121T174503Z
LAST-MODIFIED:20250213T213317Z
UID:10000761-1739867400-1739896200@metrosafety.ca
SUMMARY:February 18\, 2025 - Emergency First Aid with CPR/AED C
DESCRIPTION:Course: Emergency First Aid with CPR/AED C \nCourse date:  February 18\, 2025 \nCourse time: 8:30 am – 4:30 pm \nLocation: 914 Sherwood Ave\, Coquitlam\, BC\, V3K 1A6 \nCourse cost: $98 per person \nThis course is taught in English and all reading materials for the class will be in English.
URL:https://metrosafety.ca/event/february-18-2025-emergency-first-aid-with-cpr-aed-c/
LOCATION:Coquitlam Campus\, 914 Sherwood Ave\, Coquitlam\, British Columbia\, V3K 1A6\, Canada
CATEGORIES:Emergency First Aid with CPR/AED Level C
ORGANIZER;CN="Metro Safety Training":MAILTO:Info@metrosafety.ca
GEO:49.235584;-122.871897
X-APPLE-STRUCTURED-LOCATION;VALUE=URI;X-ADDRESS=Coquitlam Campus 914 Sherwood Ave Coquitlam British Columbia V3K 1A6 Canada;X-APPLE-RADIUS=500;X-TITLE=914 Sherwood Ave:geo:-122.871897,49.235584
END:VEVENT
BEGIN:VEVENT
DTSTART;TZID=America/Vancouver:20250215T083000
DTEND;TZID=America/Vancouver:20250215T143000
DTSTAMP:20260422T074438
CREATED:20250121T174451Z
LAST-MODIFIED:20250214T170557Z
UID:10000757-1739608200-1739629800@metrosafety.ca
SUMMARY:February 15th 2025 - Emergency Childcare First Aid and CPR B
DESCRIPTION:Course: Emergency Childcare First Aid and CPR B \nCourse dates: February 15th\, 2025 \nCourse times: 8:30 am – 14:30 pm \nLocation: 914 Sherwood Ave\, Coquitlam \nCourse cost: $88 per person \nCourse Cost: $59.95 CPRC ONLY \nThis course is taught in English and all reading materials for the class will be in English.
URL:https://metrosafety.ca/event/february-15th-2025-emergency-childcare-first-aid-and-cpr-b/
LOCATION:Coquitlam Campus\, 914 Sherwood Ave\, Coquitlam\, British Columbia\, V3K 1A6\, Canada
CATEGORIES:Emergency First Aid with CPR/AED Level C,Standard First Aid with CPR/AED Level C
ORGANIZER;CN="Metro Safety Training":MAILTO:Info@metrosafety.ca
GEO:49.235584;-122.871897
X-APPLE-STRUCTURED-LOCATION;VALUE=URI;X-ADDRESS=Coquitlam Campus 914 Sherwood Ave Coquitlam British Columbia V3K 1A6 Canada;X-APPLE-RADIUS=500;X-TITLE=914 Sherwood Ave:geo:-122.871897,49.235584
END:VEVENT
BEGIN:VEVENT
DTSTART;TZID=America/Vancouver:20250210T073000
DTEND;TZID=America/Vancouver:20250210T153000
DTSTAMP:20260422T074438
CREATED:20250118T001231Z
LAST-MODIFIED:20250209T222402Z
UID:10000778-1739172600-1739201400@metrosafety.ca
SUMMARY:February 10\, 2025 - Emergency First Aid with CPR/AED C
DESCRIPTION:Course: Emergency First Aid with CPR/AED C \nCourse date:  February 10\, 2025 \nCourse time: 7:30 am – 3:30 pm \nLocation: 15685 Fraser Hwy unit 4a\, Surrey\, BC V4N 0Y6 \nCourse cost: $98 per person \nThis course is taught in English and all reading materials for the class will be in English.
URL:https://metrosafety.ca/event/february-10-2025-emergency-first-aid-with-cpr-aed-c/
LOCATION:Surrey Campus\, 15685 Fraser Hwy Unit 4A\, Surrey\, BC\, V4N 0Y6\, Canada
CATEGORIES:Emergency First Aid with CPR/AED Level C
ORGANIZER;CN="Metro Safety Training":MAILTO:Info@metrosafety.ca
END:VEVENT
BEGIN:VEVENT
DTSTART;TZID=America/Vancouver:20250208T083000
DTEND;TZID=America/Vancouver:20250208T163000
DTSTAMP:20260422T074438
CREATED:20250115T191250Z
LAST-MODIFIED:20250205T002135Z
UID:10000746-1739003400-1739032200@metrosafety.ca
SUMMARY:February 8\, 2025 - Emergency First Aid with CPR/AED C
DESCRIPTION:Course: Emergency First Aid with CPR/AED C \nCourse date:  February 8\, 2025 \nCourse time: 8:30 am – 4:30 pm \nLocation: 914 Sherwood Ave\, Coquitlam\, BC\, V3K 1A6 \nCourse cost: $98 per person \nThis course is taught in English and all reading materials for the class will be in English.
URL:https://metrosafety.ca/event/february-8-2025-emergency-first-aid/
LOCATION:Coquitlam Campus\, 914 Sherwood Ave\, Coquitlam\, British Columbia\, V3K 1A6\, Canada
CATEGORIES:Emergency First Aid with CPR/AED Level C
ORGANIZER;CN="Metro Safety Training":MAILTO:Info@metrosafety.ca
GEO:49.235584;-122.871897
X-APPLE-STRUCTURED-LOCATION;VALUE=URI;X-ADDRESS=Coquitlam Campus 914 Sherwood Ave Coquitlam British Columbia V3K 1A6 Canada;X-APPLE-RADIUS=500;X-TITLE=914 Sherwood Ave:geo:-122.871897,49.235584
END:VEVENT
BEGIN:VEVENT
DTSTART;TZID=America/Los_Angeles:20250127T083000
DTEND;TZID=America/Los_Angeles:20250127T163000
DTSTAMP:20260422T074438
CREATED:20241221T061059Z
LAST-MODIFIED:20250117T183429Z
UID:10000445-1737966600-1737995400@metrosafety.ca
SUMMARY:January 27\, 2025 - Emergency First Aid - Surrey
DESCRIPTION:Course: Emergency First Aid \nCourse date:  January 27\, 2025 \nCourse time: 8:30 am – 4:30 pm \nLocation: 15685 Fraser Hwy unit 4a\, Surrey\, BC V4N 0Y6 \nCourse cost: $98 per person \nThis course is taught in English and all reading materials for the class will be in English.
URL:https://metrosafety.ca/event/january-27-2025-emergency-first-aid-surrey/
LOCATION:Surrey Campus\, 15685 Fraser Hwy Unit 4A\, Surrey\, BC\, V4N 0Y6\, Canada
CATEGORIES:Emergency First Aid with CPR/AED Level C
ORGANIZER;CN="Metro Safety Training":MAILTO:Info@metrosafety.ca
END:VEVENT
BEGIN:VEVENT
DTSTART;TZID=America/Los_Angeles:20250125T083000
DTEND;TZID=America/Los_Angeles:20250125T163000
DTSTAMP:20260422T074438
CREATED:20241221T060813Z
LAST-MODIFIED:20250121T175730Z
UID:10000443-1737793800-1737822600@metrosafety.ca
SUMMARY:January 25\, 2025 - Emergency First Aid with CPR/AED C
DESCRIPTION:Course: Emergency First Aid with CPR/AED C \nCourse date:  January 25\, 2025 \nCourse time: 8:30 am – 4:30 pm \nLocation: 914 Sherwood Ave\, Coquitlam\, BC\, V3K 1A6 \nCourse cost: $98 per person \nThis course is taught in English and all reading materials for the class will be in English.
URL:https://metrosafety.ca/event/january-25-2025-emergency-first-aid/
LOCATION:Coquitlam Campus\, 914 Sherwood Ave\, Coquitlam\, British Columbia\, V3K 1A6\, Canada
CATEGORIES:Emergency First Aid with CPR/AED Level C
ORGANIZER;CN="Metro Safety Training":MAILTO:Info@metrosafety.ca
GEO:49.235584;-122.871897
X-APPLE-STRUCTURED-LOCATION;VALUE=URI;X-ADDRESS=Coquitlam Campus 914 Sherwood Ave Coquitlam British Columbia V3K 1A6 Canada;X-APPLE-RADIUS=500;X-TITLE=914 Sherwood Ave:geo:-122.871897,49.235584
END:VEVENT
BEGIN:VEVENT
DTSTART;TZID=America/Los_Angeles:20250122T083000
DTEND;TZID=America/Los_Angeles:20250122T163000
DTSTAMP:20260422T074438
CREATED:20241221T060623Z
LAST-MODIFIED:20241221T060623Z
UID:10000442-1737534600-1737563400@metrosafety.ca
SUMMARY:January 22nd 2025 - Emergency Childcare First Aid and CPR B
DESCRIPTION:Course: Emergency Childcare First Aid and CPR B \nCourse dates: January 22nd\, 2025 \nCourse times: 8:30 am – 14:30 pm \nLocation: 914 Sherwood Ave\, Coquitlam \nCourse cost: $88 per person \nThis course is taught in English and all reading materials for the class will be in English.
URL:https://metrosafety.ca/event/january-22nd-2025-emergency-childcare-first-aid-and-cpr-b/
LOCATION:Coquitlam Campus\, 914 Sherwood Ave\, Coquitlam\, British Columbia\, V3K 1A6\, Canada
CATEGORIES:Emergency First Aid with CPR/AED Level C,Standard First Aid with CPR/AED Level C
ORGANIZER;CN="Metro Safety Training":MAILTO:Info@metrosafety.ca
GEO:49.235584;-122.871897
X-APPLE-STRUCTURED-LOCATION;VALUE=URI;X-ADDRESS=Coquitlam Campus 914 Sherwood Ave Coquitlam British Columbia V3K 1A6 Canada;X-APPLE-RADIUS=500;X-TITLE=914 Sherwood Ave:geo:-122.871897,49.235584
END:VEVENT
BEGIN:VEVENT
DTSTART;TZID=America/Los_Angeles:20250115T083000
DTEND;TZID=America/Los_Angeles:20250115T163000
DTSTAMP:20260422T074438
CREATED:20241221T034006Z
LAST-MODIFIED:20241221T040404Z
UID:10000437-1736929800-1736958600@metrosafety.ca
SUMMARY:January 15th 2025 - Emergency First Aid with CPR/AED Level C
DESCRIPTION:Course: Emergency First Aid with AED/CPR Level C \nCourse dates: January 15th\, 2025 \nCourse times: 8:30 am – 4:30 pm \nLocation: 914 Sherwood Ave\, Coquitlam \nCourse cost: $98 per person \nThis course is taught in English and all reading materials for the class will be in English.
URL:https://metrosafety.ca/event/january-15th-2024-emergency-first-aid-with-cpr-aed-level-c/
LOCATION:Coquitlam Campus\, 914 Sherwood Ave\, Coquitlam\, British Columbia\, V3K 1A6\, Canada
CATEGORIES:Emergency First Aid with CPR/AED Level C
ORGANIZER;CN="Metro Safety Training":MAILTO:Info@metrosafety.ca
GEO:49.235584;-122.871897
X-APPLE-STRUCTURED-LOCATION;VALUE=URI;X-ADDRESS=Coquitlam Campus 914 Sherwood Ave Coquitlam British Columbia V3K 1A6 Canada;X-APPLE-RADIUS=500;X-TITLE=914 Sherwood Ave:geo:-122.871897,49.235584
END:VEVENT
BEGIN:VEVENT
DTSTART;TZID=America/Los_Angeles:20250108T083000
DTEND;TZID=America/Los_Angeles:20250108T163000
DTSTAMP:20260422T074438
CREATED:20241130T020012Z
LAST-MODIFIED:20241221T060905Z
UID:10000687-1736325000-1736353800@metrosafety.ca
SUMMARY:January 8\, 2025 - Emergency First Aid - Surrey - Full
DESCRIPTION:Course: Emergency First Aid \nCourse date:  January 8\, 2025 \nCourse time: 8:30 am – 4:30 pm \nLocation: 15685 Fraser Hwy unit 4a\, Surrey\, BC V4N 0Y6 \nCourse cost: $98 per person \nThis course is taught in English and all reading materials for the class will be in English.
URL:https://metrosafety.ca/event/january-8-2025-basic-first-aid-formerly-ofa-1-surrey-full/
LOCATION:Surrey Campus\, 15685 Fraser Hwy Unit 4A\, Surrey\, BC\, V4N 0Y6\, Canada
CATEGORIES:Emergency First Aid with CPR/AED Level C
ORGANIZER;CN="Metro Safety Training":MAILTO:Info@metrosafety.ca
END:VEVENT
BEGIN:VEVENT
DTSTART;TZID=America/Los_Angeles:20241216T083000
DTEND;TZID=America/Los_Angeles:20241216T163000
DTSTAMP:20260422T074438
CREATED:20241116T055648Z
LAST-MODIFIED:20241216T051247Z
UID:10000382-1734337800-1734366600@metrosafety.ca
SUMMARY:December 16th 2024 - Emergency First Aid with CPR/AED Level C
DESCRIPTION:Course: Emergency First Aid with AED/CPR Level C \nCourse dates: December 16th 2024 \nCourse times: 8:30 am – 4:30 pm \nLocation: 914 Sherwood Ave\, Coquitlam \nCourse cost: $98 per person \nThis course is taught in English and all reading materials for the class will be in English.
URL:https://metrosafety.ca/event/december-16th-2024-emergency-first-aid-with-cpr-aed-level-c/
LOCATION:Coquitlam Campus\, 914 Sherwood Ave\, Coquitlam\, British Columbia\, V3K 1A6\, Canada
CATEGORIES:Emergency First Aid with CPR/AED Level C
ORGANIZER;CN="Metro Safety Training":MAILTO:Info@metrosafety.ca
GEO:49.235584;-122.871897
X-APPLE-STRUCTURED-LOCATION;VALUE=URI;X-ADDRESS=Coquitlam Campus 914 Sherwood Ave Coquitlam British Columbia V3K 1A6 Canada;X-APPLE-RADIUS=500;X-TITLE=914 Sherwood Ave:geo:-122.871897,49.235584
END:VEVENT
BEGIN:VEVENT
DTSTART;TZID=America/Los_Angeles:20241122T083000
DTEND;TZID=America/Los_Angeles:20241122T163000
DTSTAMP:20260422T074438
CREATED:20241023T014421Z
LAST-MODIFIED:20241108T074618Z
UID:10000362-1732264200-1732293000@metrosafety.ca
SUMMARY:November 22nd 2024 - Emergency First Aid with CPR/AED Level C
DESCRIPTION:Course: Emergency First Aid with AED/CPR Level C \nCourse dates: November 22nd 2024 \nCourse times: 8:30 am – 4:30 pm \nLocation: 914 Sherwood Ave\, Coquitlam \nCourse cost: $98 per person \nThis course is taught in English and all reading materials for the class will be in English.
URL:https://metrosafety.ca/event/november-22nd-2024-emergency-first-aid-with-cpr-aed-level-c/
LOCATION:Coquitlam Campus\, 914 Sherwood Ave\, Coquitlam\, British Columbia\, V3K 1A6\, Canada
CATEGORIES:Emergency First Aid with CPR/AED Level C
ORGANIZER;CN="Metro Safety Training":MAILTO:Info@metrosafety.ca
GEO:49.235584;-122.871897
X-APPLE-STRUCTURED-LOCATION;VALUE=URI;X-ADDRESS=Coquitlam Campus 914 Sherwood Ave Coquitlam British Columbia V3K 1A6 Canada;X-APPLE-RADIUS=500;X-TITLE=914 Sherwood Ave:geo:-122.871897,49.235584
END:VEVENT
BEGIN:VEVENT
DTSTART;TZID=America/Los_Angeles:20241005T083000
DTEND;TZID=America/Los_Angeles:20241005T163000
DTSTAMP:20260422T074438
CREATED:20240911T050551Z
LAST-MODIFIED:20241004T000154Z
UID:10000342-1728117000-1728145800@metrosafety.ca
SUMMARY:October 5th 2024 - Emergency First Aid with CPR/AED Level C
DESCRIPTION:Course: Emergency First Aid with AED/CPR Level C \nCourse dates: October 5th 2024 \nCourse times: 8:30 am – 4:30 pm \nLocation: 914 Sherwood Ave\, Coquitlam \nCourse cost: $98 per person \nThis course is taught in English and all reading materials for the class will be in English.
URL:https://metrosafety.ca/event/october-5th-2024-emergency-first-aid-with-cpr-aed-level-c/
LOCATION:Coquitlam Campus\, 914 Sherwood Ave\, Coquitlam\, British Columbia\, V3K 1A6\, Canada
CATEGORIES:Emergency First Aid with CPR/AED Level C
ORGANIZER;CN="Metro Safety Training":MAILTO:Info@metrosafety.ca
GEO:49.235584;-122.871897
X-APPLE-STRUCTURED-LOCATION;VALUE=URI;X-ADDRESS=Coquitlam Campus 914 Sherwood Ave Coquitlam British Columbia V3K 1A6 Canada;X-APPLE-RADIUS=500;X-TITLE=914 Sherwood Ave:geo:-122.871897,49.235584
END:VEVENT
BEGIN:VEVENT
DTSTART;TZID=UTC:20240903T083000
DTEND;TZID=UTC:20240903T163000
DTSTAMP:20260422T074438
CREATED:20240807T024403Z
LAST-MODIFIED:20240822T234213Z
UID:10000624-1725352200-1725381000@metrosafety.ca
SUMMARY:September 3rd 2024 - Emergency First Aid with CPR/AED Level C
DESCRIPTION:Course: Emergency First Aid with AED/CPR Level C \nCourse dates: September 3rd 2024 \nCourse times: 8:30 am – 4:30 pm \nLocation: 914 Sherwood Ave\, Coquitlam \nCourse cost: $98 per person \nThis course is taught in English and all reading materials for the class will be in English.
URL:https://metrosafety.ca/event/september-3rd-2024-emergency-first-aid-with-cpr-aed-level-c/
LOCATION:Coquitlam Campus\, 914 Sherwood Ave\, Coquitlam\, British Columbia\, V3K 1A6\, Canada
CATEGORIES:Emergency First Aid with CPR/AED Level C
ORGANIZER;CN="Metro Safety Training":MAILTO:Info@metrosafety.ca
GEO:49.235584;-122.871897
X-APPLE-STRUCTURED-LOCATION;VALUE=URI;X-ADDRESS=Coquitlam Campus 914 Sherwood Ave Coquitlam British Columbia V3K 1A6 Canada;X-APPLE-RADIUS=500;X-TITLE=914 Sherwood Ave:geo:-122.871897,49.235584
END:VEVENT
BEGIN:VEVENT
DTSTART;TZID=America/Los_Angeles:20240817T083000
DTEND;TZID=America/Los_Angeles:20240817T163000
DTSTAMP:20260422T074438
CREATED:20240710T031317Z
LAST-MODIFIED:20240814T225427Z
UID:10000297-1723883400-1723912200@metrosafety.ca
SUMMARY:August 17 2024 - Emergency First Aid with CPR/AED Level C
DESCRIPTION:Course: Emergency First Aid with AED/CPR Level C \nCourse dates: August 17 2024 \nCourse times: 8:30 am – 4:30 pm \nLocation: 914 Sherwood Ave\, Coquitlam \nCourse cost: $98 per person \nThis course is taught in English and all reading materials for the class will be in English.
URL:https://metrosafety.ca/event/august-17-2024-emergency-first-aid-with-cpr-aed-level-c/
LOCATION:Coquitlam Campus\, 914 Sherwood Ave\, Coquitlam\, British Columbia\, V3K 1A6\, Canada
CATEGORIES:Emergency First Aid with CPR/AED Level C
ORGANIZER;CN="Metro Safety Training":MAILTO:Info@metrosafety.ca
GEO:49.235584;-122.871897
X-APPLE-STRUCTURED-LOCATION;VALUE=URI;X-ADDRESS=Coquitlam Campus 914 Sherwood Ave Coquitlam British Columbia V3K 1A6 Canada;X-APPLE-RADIUS=500;X-TITLE=914 Sherwood Ave:geo:-122.871897,49.235584
END:VEVENT
BEGIN:VEVENT
DTSTART;TZID=America/Los_Angeles:20240801T083000
DTEND;TZID=America/Los_Angeles:20240801T163000
DTSTAMP:20260422T074438
CREATED:20240710T030933Z
LAST-MODIFIED:20240710T030948Z
UID:10000293-1722501000-1722529800@metrosafety.ca
SUMMARY:August 1 2024 - Emergency First Aid with CPR/AED Level C
DESCRIPTION:Course: Emergency First Aid with AED/CPR Level C \nCourse dates: August 1 2024 \nCourse times: 8:30 am – 4:30 pm \nLocation: 914 Sherwood Ave\, Coquitlam \nCourse cost: $98 per person \nThis course is taught in English and all reading materials for the class will be in English.
URL:https://metrosafety.ca/event/august-1-2024-emergency-first-aid-with-cpr-aed-level-c/
LOCATION:Coquitlam Campus\, 914 Sherwood Ave\, Coquitlam\, British Columbia\, V3K 1A6\, Canada
CATEGORIES:Emergency First Aid with CPR/AED Level C
ORGANIZER;CN="Metro Safety Training":MAILTO:Info@metrosafety.ca
GEO:49.235584;-122.871897
X-APPLE-STRUCTURED-LOCATION;VALUE=URI;X-ADDRESS=Coquitlam Campus 914 Sherwood Ave Coquitlam British Columbia V3K 1A6 Canada;X-APPLE-RADIUS=500;X-TITLE=914 Sherwood Ave:geo:-122.871897,49.235584
END:VEVENT
BEGIN:VEVENT
DTSTART;TZID=America/Los_Angeles:20240725T083000
DTEND;TZID=America/Los_Angeles:20240725T163000
DTSTAMP:20260422T074438
CREATED:20240507T040848Z
LAST-MODIFIED:20240723T011339Z
UID:10000587-1721896200-1721925000@metrosafety.ca
SUMMARY:July 25 2024 - Emergency First Aid with CPR/AED Level C
DESCRIPTION:Course: Emergency First Aid with AED/CPR Level C \nCourse dates: July 25\, 2024 \nCourse times: 8:30 am – 4:30 pm \nLocation: 914 Sherwood Ave\, Coquitlam \nCourse cost: $98 per person \nThis course is taught in English and all reading materials for the class will be in English.
URL:https://metrosafety.ca/event/july-25-2024-emergency-first-aid-with-cpr-aed-level-c/
LOCATION:Coquitlam Campus\, 914 Sherwood Ave\, Coquitlam\, British Columbia\, V3K 1A6\, Canada
CATEGORIES:Emergency First Aid with CPR/AED Level C
ORGANIZER;CN="Metro Safety Training":MAILTO:Info@metrosafety.ca
GEO:49.235584;-122.871897
X-APPLE-STRUCTURED-LOCATION;VALUE=URI;X-ADDRESS=Coquitlam Campus 914 Sherwood Ave Coquitlam British Columbia V3K 1A6 Canada;X-APPLE-RADIUS=500;X-TITLE=914 Sherwood Ave:geo:-122.871897,49.235584
END:VEVENT
BEGIN:VEVENT
DTSTART;TZID=America/Los_Angeles:20240623T083000
DTEND;TZID=America/Los_Angeles:20240623T163000
DTSTAMP:20260422T074438
CREATED:20240507T020934Z
LAST-MODIFIED:20240608T034051Z
UID:10000585-1719131400-1719160200@metrosafety.ca
SUMMARY:June 23 2024 - Emergency First Aid with CPR/AED Level C
DESCRIPTION:Course: Emergency First Aid with AED/CPR Level C \nCourse dates: June 23\, 2024 \nCourse times: 8:30 am – 4:30 pm \nLocation: 914 Sherwood Ave\, Coquitlam \nCourse cost: $98 per person \nThis course is taught in English and all reading materials for the class will be in English.
URL:https://metrosafety.ca/event/june-23-2024-emergency-first-aid-with-cpr-aed-level-c/
LOCATION:Coquitlam Campus\, 914 Sherwood Ave\, Coquitlam\, British Columbia\, V3K 1A6\, Canada
CATEGORIES:Emergency First Aid with CPR/AED Level C
ORGANIZER;CN="Metro Safety Training":MAILTO:Info@metrosafety.ca
GEO:49.235584;-122.871897
X-APPLE-STRUCTURED-LOCATION;VALUE=URI;X-ADDRESS=Coquitlam Campus 914 Sherwood Ave Coquitlam British Columbia V3K 1A6 Canada;X-APPLE-RADIUS=500;X-TITLE=914 Sherwood Ave:geo:-122.871897,49.235584
END:VEVENT
BEGIN:VEVENT
DTSTART;TZID=America/Los_Angeles:20240529T083000
DTEND;TZID=America/Los_Angeles:20240529T163000
DTSTAMP:20260422T074438
CREATED:20240501T041102Z
LAST-MODIFIED:20240501T041226Z
UID:10000576-1716971400-1717000200@metrosafety.ca
SUMMARY:May 29 2024 - Emergency First Aid with CPR/AED Level C
DESCRIPTION:Course: Emergency First Aid with AED/CPR Level C \nCourse dates: May 29\, 2024 \nCourse times: 8:30 am – 4:30 pm \nLocation: 914 Sherwood Ave\, Coquitlam \nCourse cost: $98 per person \nThis course is taught in English and all reading materials for the class will be in English.
URL:https://metrosafety.ca/event/may-29-2024-emergency-first-aid-with-cpr-aed-level-c/
LOCATION:Coquitlam Campus\, 914 Sherwood Ave\, Coquitlam\, British Columbia\, V3K 1A6\, Canada
CATEGORIES:Emergency First Aid with CPR/AED Level C
ORGANIZER;CN="Metro Safety Training":MAILTO:Info@metrosafety.ca
GEO:49.235584;-122.871897
X-APPLE-STRUCTURED-LOCATION;VALUE=URI;X-ADDRESS=Coquitlam Campus 914 Sherwood Ave Coquitlam British Columbia V3K 1A6 Canada;X-APPLE-RADIUS=500;X-TITLE=914 Sherwood Ave:geo:-122.871897,49.235584
END:VEVENT
BEGIN:VEVENT
DTSTART;TZID=America/Los_Angeles:20240506T083000
DTEND;TZID=America/Los_Angeles:20240506T163000
DTSTAMP:20260422T074438
CREATED:20240418T005523Z
LAST-MODIFIED:20240503T051247Z
UID:10000260-1714984200-1715013000@metrosafety.ca
SUMMARY:May 6 2024 - Emergency First Aid with CPR/AED Level C
DESCRIPTION:Course: Emergency First Aid with AED/CPR Level C \nCourse dates: May 6\, 2024 \nCourse times: 8:30 am – 4:30 pm \nLocation: 914 Sherwood Ave\, Coquitlam \nCourse cost: $98 per person \nThis course is taught in English and all reading materials for the class will be in English.
URL:https://metrosafety.ca/event/may-6-2024-emergency-first-aid-with-cpr-aed-level-c-2/
LOCATION:Coquitlam Campus\, 914 Sherwood Ave\, Coquitlam\, British Columbia\, V3K 1A6\, Canada
CATEGORIES:Emergency First Aid with CPR/AED Level C
ORGANIZER;CN="Metro Safety Training":MAILTO:Info@metrosafety.ca
GEO:49.235584;-122.871897
X-APPLE-STRUCTURED-LOCATION;VALUE=URI;X-ADDRESS=Coquitlam Campus 914 Sherwood Ave Coquitlam British Columbia V3K 1A6 Canada;X-APPLE-RADIUS=500;X-TITLE=914 Sherwood Ave:geo:-122.871897,49.235584
END:VEVENT
END:VCALENDAR