BEGIN:VCALENDAR
VERSION:2.0
PRODID:-//Metro Safety Training - First Aid Training - ECPv6.15.15//NONSGML v1.0//EN
CALSCALE:GREGORIAN
METHOD:PUBLISH
X-ORIGINAL-URL:https://metrosafety.ca
X-WR-CALDESC:Events for Metro Safety Training - First Aid Training
REFRESH-INTERVAL;VALUE=DURATION:PT1H
X-Robots-Tag:noindex
X-PUBLISHED-TTL:PT1H
BEGIN:VTIMEZONE
TZID:America/Vancouver
BEGIN:DAYLIGHT
TZOFFSETFROM:-0800
TZOFFSETTO:-0700
TZNAME:PDT
DTSTART:20240310T100000
END:DAYLIGHT
BEGIN:STANDARD
TZOFFSETFROM:-0700
TZOFFSETTO:-0800
TZNAME:PST
DTSTART:20241103T090000
END:STANDARD
BEGIN:DAYLIGHT
TZOFFSETFROM:-0800
TZOFFSETTO:-0700
TZNAME:PDT
DTSTART:20250309T100000
END:DAYLIGHT
BEGIN:STANDARD
TZOFFSETFROM:-0700
TZOFFSETTO:-0800
TZNAME:PST
DTSTART:20251102T090000
END:STANDARD
BEGIN:DAYLIGHT
TZOFFSETFROM:-0800
TZOFFSETTO:-0700
TZNAME:PDT
DTSTART:20260308T100000
END:DAYLIGHT
BEGIN:STANDARD
TZOFFSETFROM:-0700
TZOFFSETTO:-0800
TZNAME:PST
DTSTART:20261101T090000
END:STANDARD
END:VTIMEZONE
BEGIN:VTIMEZONE
TZID:America/Los_Angeles
BEGIN:DAYLIGHT
TZOFFSETFROM:-0800
TZOFFSETTO:-0700
TZNAME:PDT
DTSTART:20230312T100000
END:DAYLIGHT
BEGIN:STANDARD
TZOFFSETFROM:-0700
TZOFFSETTO:-0800
TZNAME:PST
DTSTART:20231105T090000
END:STANDARD
BEGIN:DAYLIGHT
TZOFFSETFROM:-0800
TZOFFSETTO:-0700
TZNAME:PDT
DTSTART:20240310T100000
END:DAYLIGHT
BEGIN:STANDARD
TZOFFSETFROM:-0700
TZOFFSETTO:-0800
TZNAME:PST
DTSTART:20241103T090000
END:STANDARD
BEGIN:DAYLIGHT
TZOFFSETFROM:-0800
TZOFFSETTO:-0700
TZNAME:PDT
DTSTART:20250309T100000
END:DAYLIGHT
BEGIN:STANDARD
TZOFFSETFROM:-0700
TZOFFSETTO:-0800
TZNAME:PST
DTSTART:20251102T090000
END:STANDARD
BEGIN:DAYLIGHT
TZOFFSETFROM:-0800
TZOFFSETTO:-0700
TZNAME:PDT
DTSTART:20260308T100000
END:DAYLIGHT
BEGIN:STANDARD
TZOFFSETFROM:-0700
TZOFFSETTO:-0800
TZNAME:PST
DTSTART:20261101T090000
END:STANDARD
END:VTIMEZONE
BEGIN:VTIMEZONE
TZID:UTC
BEGIN:STANDARD
TZOFFSETFROM:+0000
TZOFFSETTO:+0000
TZNAME:UTC
DTSTART:20230101T000000
END:STANDARD
END:VTIMEZONE
BEGIN:VEVENT
DTSTART;TZID=America/Vancouver:20250214T123000
DTEND;TZID=America/Vancouver:20250214T173000
DTSTAMP:20260422T211015
CREATED:20250120T235549Z
LAST-MODIFIED:20250212T203955Z
UID:10000755-1739536200-1739554200@metrosafety.ca
SUMMARY:February 14th\, 2025 - Confined Space\, Monitor\, and Entrant
DESCRIPTION:Course: Confined Space\, Monitor\, and Entrant \nCourse date: February 14th\, 2025 \nCourse time: 12:30 pm – 5:30 pm \nLocation: 914 Sherwood Ave\, Coquitlam \nCourse cost: $158 (Special Summer Pricing) \nIf you have your own harness\, please bring it with you. \nThis course is run in English with reading material and understanding English is mandatory. \nSpecial arrangements for private classes in other languages can be arranged\, please contact the office for more information.
URL:https://metrosafety.ca/event/february-14th-2025-confined-space-monitor-and-entrant/
LOCATION:Coquitlam Campus\, 914 Sherwood Ave\, Coquitlam\, British Columbia\, V3K 1A6\, Canada
CATEGORIES:Confined Space
ORGANIZER;CN="Metro Safety Training":MAILTO:Info@metrosafety.ca
GEO:49.235584;-122.871897
X-APPLE-STRUCTURED-LOCATION;VALUE=URI;X-ADDRESS=Coquitlam Campus 914 Sherwood Ave Coquitlam British Columbia V3K 1A6 Canada;X-APPLE-RADIUS=500;X-TITLE=914 Sherwood Ave:geo:-122.871897,49.235584
END:VEVENT
BEGIN:VEVENT
DTSTART;TZID=America/Vancouver:20250206T133000
DTEND;TZID=America/Vancouver:20250206T183000
DTSTAMP:20260422T211015
CREATED:20250120T235238Z
LAST-MODIFIED:20250130T234520Z
UID:10000753-1738848600-1738866600@metrosafety.ca
SUMMARY:February 6th\, 2025 - Confined Space\, Monitor\, and Entrant
DESCRIPTION:Course: Confined Space\, Monitor\, and Entrant \nCourse date: February 6th\, 2025 \nCourse time: 1:30 pm – 6:30 pm \nLocation: 914 Sherwood Ave\, Coquitlam \nCourse cost: $158 (Special Summer Pricing) \nIf you have your own harness\, please bring it with you. \nThis course is run in English with reading material and understanding English is mandatory. \nSpecial arrangements for private classes in other languages can be arranged\, please contact the office for more information.
URL:https://metrosafety.ca/event/february-6th-2025-confined-space-monitor-and-entrant/
LOCATION:Coquitlam Campus\, 914 Sherwood Ave\, Coquitlam\, British Columbia\, V3K 1A6\, Canada
CATEGORIES:Confined Space
ORGANIZER;CN="Metro Safety Training":MAILTO:Info@metrosafety.ca
GEO:49.235584;-122.871897
X-APPLE-STRUCTURED-LOCATION;VALUE=URI;X-ADDRESS=Coquitlam Campus 914 Sherwood Ave Coquitlam British Columbia V3K 1A6 Canada;X-APPLE-RADIUS=500;X-TITLE=914 Sherwood Ave:geo:-122.871897,49.235584
END:VEVENT
BEGIN:VEVENT
DTSTART;TZID=America/Los_Angeles:20250201T130000
DTEND;TZID=America/Los_Angeles:20250201T180000
DTSTAMP:20260422T211015
CREATED:20241210T063526Z
LAST-MODIFIED:20250129T231154Z
UID:10000714-1738414800-1738432800@metrosafety.ca
SUMMARY:February 1st\, 2025 - Confined Space\, Monitor\, and Entrant
DESCRIPTION:Course: Confined Space\, Monitor\, and Entrant \nCourse date: February 1st\, 2025 \nCourse time: 1:00 pm – 6:00 pm \nLocation: 914 Sherwood Ave\, Coquitlam \nCourse cost: $158 (Special Summer Pricing) \nIf you have your own harness\, please bring it with you. \nThis course is run in English with reading material and understanding English is mandatory. \nSpecial arrangements for private classes in other languages can be arranged\, please contact the office for more information.
URL:https://metrosafety.ca/event/february-1st-2024-confined-space-monitor-and-entrant/
LOCATION:Coquitlam Campus\, 914 Sherwood Ave\, Coquitlam\, British Columbia\, V3K 1A6\, Canada
CATEGORIES:Confined Space
ORGANIZER;CN="Metro Safety Training":MAILTO:Info@metrosafety.ca
GEO:49.235584;-122.871897
X-APPLE-STRUCTURED-LOCATION;VALUE=URI;X-ADDRESS=Coquitlam Campus 914 Sherwood Ave Coquitlam British Columbia V3K 1A6 Canada;X-APPLE-RADIUS=500;X-TITLE=914 Sherwood Ave:geo:-122.871897,49.235584
END:VEVENT
BEGIN:VEVENT
DTSTART;TZID=America/Los_Angeles:20250118T130000
DTEND;TZID=America/Los_Angeles:20250118T180000
DTSTAMP:20260422T211015
CREATED:20241210T041107Z
LAST-MODIFIED:20250102T221513Z
UID:10000415-1737205200-1737223200@metrosafety.ca
SUMMARY:January 18th\, 2025 - Confined Space\, Monitor\, and Entrant
DESCRIPTION:Course: Confined Space\, Monitor\, and Entrant \nCourse date: January 18th\, 2025 \nCourse time: 1:00 pm – 6:00 pm \nLocation: 914 Sherwood Ave\, Coquitlam \nCourse cost: $158 (Special Summer Pricing) \nIf you have your own harness\, please bring it with you. \nThis course is run in English with reading material and understanding English is mandatory. \nSpecial arrangements for private classes in other languages can be arranged\, please contact the office for more information.
URL:https://metrosafety.ca/event/january-18th-2024-confined-space-monitor-and-entrant/
LOCATION:Coquitlam Campus\, 914 Sherwood Ave\, Coquitlam\, British Columbia\, V3K 1A6\, Canada
CATEGORIES:Confined Space
ORGANIZER;CN="Metro Safety Training":MAILTO:Info@metrosafety.ca
GEO:49.235584;-122.871897
X-APPLE-STRUCTURED-LOCATION;VALUE=URI;X-ADDRESS=Coquitlam Campus 914 Sherwood Ave Coquitlam British Columbia V3K 1A6 Canada;X-APPLE-RADIUS=500;X-TITLE=914 Sherwood Ave:geo:-122.871897,49.235584
END:VEVENT
BEGIN:VEVENT
DTSTART;TZID=UTC:20241130T130000
DTEND;TZID=UTC:20241130T180000
DTSTAMP:20260422T211015
CREATED:20240911T041957Z
LAST-MODIFIED:20241120T023303Z
UID:10000341-1732971600-1732989600@metrosafety.ca
SUMMARY:November 30th\, 2024 - Confined Space\, Monitor\, and Entrant
DESCRIPTION:Course: Confined Space\, Monitor\, and Entrant \nCourse date: November 30th\, 2024 \nCourse time: 1:00 pm – 6:00 pm \nLocation: 914 Sherwood Ave\, Coquitlam \nCourse cost: $158 (Special Summer Pricing) \nIf you have your own harness\, please bring it with you. \nThis course is run in English with reading material and understanding English is mandatory. \nSpecial arrangements for private classes in other languages can be arranged\, please contact the office for more information.
URL:https://metrosafety.ca/event/november-30th-2024-confined-space-monitor-and-entrant/
LOCATION:Coquitlam Campus\, 914 Sherwood Ave\, Coquitlam\, British Columbia\, V3K 1A6\, Canada
CATEGORIES:Confined Space
ORGANIZER;CN="Metro Safety Training":MAILTO:Info@metrosafety.ca
GEO:49.235584;-122.871897
X-APPLE-STRUCTURED-LOCATION;VALUE=URI;X-ADDRESS=Coquitlam Campus 914 Sherwood Ave Coquitlam British Columbia V3K 1A6 Canada;X-APPLE-RADIUS=500;X-TITLE=914 Sherwood Ave:geo:-122.871897,49.235584
END:VEVENT
BEGIN:VEVENT
DTSTART;TZID=America/Los_Angeles:20241108T070000
DTEND;TZID=America/Los_Angeles:20241108T120000
DTSTAMP:20260422T211015
CREATED:20240911T041358Z
LAST-MODIFIED:20241108T074423Z
UID:10000649-1731049200-1731067200@metrosafety.ca
SUMMARY:November 8th\, 2024 - Confined Space\, Monitor\, and Entrant
DESCRIPTION:Course: Confined Space\, Monitor\, and Entrant \nCourse date: November 8th\, 2024 \nCourse time: 7:00 am – 12:00 pm \nLocation: 914 Sherwood Ave\, Coquitlam \nCourse cost: $158 (Special Summer Pricing) \nIf you have your own harness\, please bring it with you. \nThis course is run in English with reading material and understanding English is mandatory. \nSpecial arrangements for private classes in other languages can be arranged\, please contact the office for more information.
URL:https://metrosafety.ca/event/november-8th-2024-confined-space-monitor-and-entrant/
LOCATION:Coquitlam Campus\, 914 Sherwood Ave\, Coquitlam\, British Columbia\, V3K 1A6\, Canada
CATEGORIES:Confined Space
ORGANIZER;CN="Metro Safety Training":MAILTO:Info@metrosafety.ca
GEO:49.235584;-122.871897
X-APPLE-STRUCTURED-LOCATION;VALUE=URI;X-ADDRESS=Coquitlam Campus 914 Sherwood Ave Coquitlam British Columbia V3K 1A6 Canada;X-APPLE-RADIUS=500;X-TITLE=914 Sherwood Ave:geo:-122.871897,49.235584
END:VEVENT
BEGIN:VEVENT
DTSTART;TZID=America/Los_Angeles:20241102T130000
DTEND;TZID=America/Los_Angeles:20241102T180000
DTSTAMP:20260422T211015
CREATED:20240911T041000Z
LAST-MODIFIED:20241031T052807Z
UID:10000648-1730552400-1730570400@metrosafety.ca
SUMMARY:November 2nd\, 2024 - Confined Space\, Monitor\, and Entrant - Full
DESCRIPTION:Course: Confined Space\, Monitor\, and Entrant \nCourse date: November 2nd\, 2024 \nCourse time: 12:00 pm – 5:00 pm \nLocation: 914 Sherwood Ave\, Coquitlam \nCourse cost: $158 (Special Summer Pricing) \nIf you have your own harness\, please bring it with you. \nThis course is run in English with reading material and understanding English is mandatory. \nSpecial arrangements for private classes in other languages can be arranged\, please contact the office for more information.
URL:https://metrosafety.ca/event/november-2nd-2024-confined-space-monitor-and-entrant/
LOCATION:Coquitlam Campus\, 914 Sherwood Ave\, Coquitlam\, British Columbia\, V3K 1A6\, Canada
CATEGORIES:Confined Space
ORGANIZER;CN="Metro Safety Training":MAILTO:Info@metrosafety.ca
GEO:49.235584;-122.871897
X-APPLE-STRUCTURED-LOCATION;VALUE=URI;X-ADDRESS=Coquitlam Campus 914 Sherwood Ave Coquitlam British Columbia V3K 1A6 Canada;X-APPLE-RADIUS=500;X-TITLE=914 Sherwood Ave:geo:-122.871897,49.235584
END:VEVENT
BEGIN:VEVENT
DTSTART;TZID=America/Los_Angeles:20241019T130000
DTEND;TZID=America/Los_Angeles:20241019T180000
DTSTAMP:20260422T211015
CREATED:20240911T040044Z
LAST-MODIFIED:20240925T060329Z
UID:10000646-1729342800-1729360800@metrosafety.ca
SUMMARY:October 19th\, 2024 - Confined Space\, Monitor\, and Entrant
DESCRIPTION:Course: Confined Space\, Monitor\, and Entrant \nCourse date: October 19th\, 2024 \nCourse time: 12:00 pm – 5:00 pm \nLocation: 914 Sherwood Ave\, Coquitlam \nCourse cost: $158 (Special Summer Pricing) \nIf you have your own harness\, please bring it with you. \nThis course is run in English with reading material and understanding English is mandatory. \nSpecial arrangements for private classes in other languages can be arranged\, please contact the office for more information.
URL:https://metrosafety.ca/event/october-19th-2024-confined-space-monitor-and-entrant/
LOCATION:Coquitlam Campus\, 914 Sherwood Ave\, Coquitlam\, British Columbia\, V3K 1A6\, Canada
CATEGORIES:Confined Space
ORGANIZER;CN="Metro Safety Training":MAILTO:Info@metrosafety.ca
GEO:49.235584;-122.871897
X-APPLE-STRUCTURED-LOCATION;VALUE=URI;X-ADDRESS=Coquitlam Campus 914 Sherwood Ave Coquitlam British Columbia V3K 1A6 Canada;X-APPLE-RADIUS=500;X-TITLE=914 Sherwood Ave:geo:-122.871897,49.235584
END:VEVENT
BEGIN:VEVENT
DTSTART;TZID=America/Los_Angeles:20240928T130000
DTEND;TZID=America/Los_Angeles:20240928T180000
DTSTAMP:20260422T211015
CREATED:20240816T033525Z
LAST-MODIFIED:20240926T004653Z
UID:10000629-1727528400-1727546400@metrosafety.ca
SUMMARY:September 28th\, 2024 - Confined Space\, Monitor\, and Entrant
DESCRIPTION:Course: Confined Space\, Monitor\, and Entrant \nCourse date: September 28th\, 2024 \nCourse time: 1:00 pm – 6:00 pm \nLocation: 914 Sherwood Ave\, Coquitlam \nCourse cost: $158 (Special Summer Pricing) \nIf you have your own harness\, please bring it with you. \nThis course is run in English with reading material and understanding English is mandatory. \nSpecial arrangements for private classes in other languages can be arranged\, please contact the office for more information.
URL:https://metrosafety.ca/event/september-28th-2024-confined-space-monitor-and-entrant/
LOCATION:Coquitlam Campus\, 914 Sherwood Ave\, Coquitlam\, British Columbia\, V3K 1A6\, Canada
CATEGORIES:Confined Space
ORGANIZER;CN="Metro Safety Training":MAILTO:Info@metrosafety.ca
GEO:49.235584;-122.871897
X-APPLE-STRUCTURED-LOCATION;VALUE=URI;X-ADDRESS=Coquitlam Campus 914 Sherwood Ave Coquitlam British Columbia V3K 1A6 Canada;X-APPLE-RADIUS=500;X-TITLE=914 Sherwood Ave:geo:-122.871897,49.235584
END:VEVENT
BEGIN:VEVENT
DTSTART;TZID=America/Los_Angeles:20240914T120000
DTEND;TZID=America/Los_Angeles:20240914T170000
DTSTAMP:20260422T211015
CREATED:20240816T032305Z
LAST-MODIFIED:20240816T032315Z
UID:10000628-1726315200-1726333200@metrosafety.ca
SUMMARY:September 14th\, 2024 - Confined Space\, Monitor\, and Entrant
DESCRIPTION:Course: Confined Space\, Monitor\, and Entrant \nCourse date: September 14th\, 2024 \nCourse time: 12:00 pm – 5:00 pm \nLocation: 914 Sherwood Ave\, Coquitlam \nCourse cost: $158 (Special Summer Pricing) \nIf you have your own harness\, please bring it with you. \nThis course is run in English with reading material and understanding English is mandatory. \nSpecial arrangements for private classes in other languages can be arranged\, please contact the office for more information.
URL:https://metrosafety.ca/event/september-14th-2024-confined-space-monitor-and-entrant/
LOCATION:Coquitlam Campus\, 914 Sherwood Ave\, Coquitlam\, British Columbia\, V3K 1A6\, Canada
CATEGORIES:Confined Space
ORGANIZER;CN="Metro Safety Training":MAILTO:Info@metrosafety.ca
GEO:49.235584;-122.871897
X-APPLE-STRUCTURED-LOCATION;VALUE=URI;X-ADDRESS=Coquitlam Campus 914 Sherwood Ave Coquitlam British Columbia V3K 1A6 Canada;X-APPLE-RADIUS=500;X-TITLE=914 Sherwood Ave:geo:-122.871897,49.235584
END:VEVENT
BEGIN:VEVENT
DTSTART;TZID=America/Los_Angeles:20240829T140000
DTEND;TZID=America/Los_Angeles:20240829T190000
DTSTAMP:20260422T211015
CREATED:20240709T053755Z
LAST-MODIFIED:20240709T053809Z
UID:10000601-1724940000-1724958000@metrosafety.ca
SUMMARY:August 29\, 2024 - Confined Space\, Monitor\, and Entrant
DESCRIPTION:Course: Confined Space\, Monitor\, and Entrant \nCourse date: August 24\, 2024 \nCourse time: 2:00 pm – 7:00 pm \nLocation: 914 Sherwood Ave\, Coquitlam \nCourse cost: $158 (Special Summer Pricing) \nIf you have your own harness\, please bring it with you. \nThis course is run in English with reading material and understanding English is mandatory. \nSpecial arrangements for private classes in other languages can be arranged\, please contact the office for more information.
URL:https://metrosafety.ca/event/august-29-2024-confined-space-monitor-and-entrant/
LOCATION:Coquitlam Campus\, 914 Sherwood Ave\, Coquitlam\, British Columbia\, V3K 1A6\, Canada
CATEGORIES:Confined Space
ORGANIZER;CN="Metro Safety Training":MAILTO:Info@metrosafety.ca
GEO:49.235584;-122.871897
X-APPLE-STRUCTURED-LOCATION;VALUE=URI;X-ADDRESS=Coquitlam Campus 914 Sherwood Ave Coquitlam British Columbia V3K 1A6 Canada;X-APPLE-RADIUS=500;X-TITLE=914 Sherwood Ave:geo:-122.871897,49.235584
END:VEVENT
BEGIN:VEVENT
DTSTART;TZID=America/Los_Angeles:20240821T133000
DTEND;TZID=America/Los_Angeles:20240821T183000
DTSTAMP:20260422T211015
CREATED:20240709T053602Z
LAST-MODIFIED:20240802T032552Z
UID:10000600-1724247000-1724265000@metrosafety.ca
SUMMARY:August 21\, 2024 - Confined Space\, Monitor\, and Entrant
DESCRIPTION:Course: Confined Space\, Monitor\, and Entrant \nCourse date: August 21\, 2024 \nCourse time: 12:00 pm – 5:00 pm \nLocation: 914 Sherwood Ave\, Coquitlam \nCourse cost: $158 (Special Summer Pricing) \nIf you have your own harness\, please bring it with you. \nThis course is run in English with reading material and understanding English is mandatory. \nSpecial arrangements for private classes in other languages can be arranged\, please contact the office for more information.
URL:https://metrosafety.ca/event/august-24-2024-confined-space-monitor-and-entrant/
LOCATION:Coquitlam Campus\, 914 Sherwood Ave\, Coquitlam\, British Columbia\, V3K 1A6\, Canada
CATEGORIES:Confined Space
ORGANIZER;CN="Metro Safety Training":MAILTO:Info@metrosafety.ca
GEO:49.235584;-122.871897
X-APPLE-STRUCTURED-LOCATION;VALUE=URI;X-ADDRESS=Coquitlam Campus 914 Sherwood Ave Coquitlam British Columbia V3K 1A6 Canada;X-APPLE-RADIUS=500;X-TITLE=914 Sherwood Ave:geo:-122.871897,49.235584
END:VEVENT
BEGIN:VEVENT
DTSTART;TZID=UTC:20240719T070000
DTEND;TZID=UTC:20240719T120000
DTSTAMP:20260422T211015
CREATED:20240606T034455Z
LAST-MODIFIED:20240606T034545Z
UID:10000290-1721372400-1721390400@metrosafety.ca
SUMMARY:July 19\, 2024 - Confined Space\, Monitor\, and Entrant
DESCRIPTION:Course: Confined Space\, Monitor\, and Entrant \nCourse date: July 19\, 2024 \nCourse time: 7:00 am – 12:00 pm \nLocation: 914 Sherwood Ave\, Coquitlam \nCourse cost: $158 (Special Spring Pricing) \nIf you have your own harness\, please bring it with you. \nThis course is run in English with reading material and understanding English is mandatory. \nSpecial arrangements for private classes in other languages can be arranged\, please contact the office for more information.
URL:https://metrosafety.ca/event/july-19-2024-confined-space-monitor-and-entrant/
LOCATION:Coquitlam Campus\, 914 Sherwood Ave\, Coquitlam\, British Columbia\, V3K 1A6\, Canada
CATEGORIES:Confined Space
ORGANIZER;CN="Metro Safety Training":MAILTO:Info@metrosafety.ca
GEO:49.235584;-122.871897
X-APPLE-STRUCTURED-LOCATION;VALUE=URI;X-ADDRESS=Coquitlam Campus 914 Sherwood Ave Coquitlam British Columbia V3K 1A6 Canada;X-APPLE-RADIUS=500;X-TITLE=914 Sherwood Ave:geo:-122.871897,49.235584
END:VEVENT
BEGIN:VEVENT
DTSTART;TZID=America/Los_Angeles:20240706T133000
DTEND;TZID=America/Los_Angeles:20240706T183000
DTSTAMP:20260422T211015
CREATED:20240606T033728Z
LAST-MODIFIED:20240705T235640Z
UID:10000287-1720272600-1720290600@metrosafety.ca
SUMMARY:July 6\, 2024 - Confined Space\, Monitor\, and Entrant
DESCRIPTION:Course: Confined Space\, Monitor\, and Entrant \nCourse date: July 6\, 2024 \nCourse time: 1:30 pm – 6:30 pm \nLocation: 914 Sherwood Ave\, Coquitlam \nCourse cost: $158 (Special Spring Pricing) \nIf you have your own harness\, please bring it with you. \nThis course is run in English with reading material and understanding English is mandatory. \nSpecial arrangements for private classes in other languages can be arranged\, please contact the office for more information.
URL:https://metrosafety.ca/event/july-6-2024-confined-space-monitor-and-entrant/
LOCATION:Coquitlam Campus\, 914 Sherwood Ave\, Coquitlam\, British Columbia\, V3K 1A6\, Canada
CATEGORIES:Confined Space
ORGANIZER;CN="Metro Safety Training":MAILTO:Info@metrosafety.ca
GEO:49.235584;-122.871897
X-APPLE-STRUCTURED-LOCATION;VALUE=URI;X-ADDRESS=Coquitlam Campus 914 Sherwood Ave Coquitlam British Columbia V3K 1A6 Canada;X-APPLE-RADIUS=500;X-TITLE=914 Sherwood Ave:geo:-122.871897,49.235584
END:VEVENT
BEGIN:VEVENT
DTSTART;TZID=America/Los_Angeles:20240605T070000
DTEND;TZID=America/Los_Angeles:20240605T120000
DTSTAMP:20260422T211015
CREATED:20240531T010506Z
LAST-MODIFIED:20240606T033234Z
UID:10000280-1717570800-1717588800@metrosafety.ca
SUMMARY:June 5\, 2024 - Confined Space\, Monitor\, and Entrant - Full
DESCRIPTION:Course: Confined Space\, Monitor\, and Entrant \nCourse date: June 5\, 2024 \nCourse time: 7:00 am – 12:00 pm \nLocation: 914 Sherwood Ave\, Coquitlam \nCourse cost: $158 (Special Spring Pricing) \nIf you have your own harness\, please bring it with you. \nThis course is run in English with reading material and understanding English is mandatory. \nSpecial arrangements for private classes in other languages can be arranged\, please contact the office for more information.
URL:https://metrosafety.ca/event/june-5-2024-confined-space-monitor-and-entrant/
LOCATION:Coquitlam Campus\, 914 Sherwood Ave\, Coquitlam\, British Columbia\, V3K 1A6\, Canada
CATEGORIES:Confined Space
ORGANIZER;CN="Metro Safety Training":MAILTO:Info@metrosafety.ca
GEO:49.235584;-122.871897
X-APPLE-STRUCTURED-LOCATION;VALUE=URI;X-ADDRESS=Coquitlam Campus 914 Sherwood Ave Coquitlam British Columbia V3K 1A6 Canada;X-APPLE-RADIUS=500;X-TITLE=914 Sherwood Ave:geo:-122.871897,49.235584
END:VEVENT
BEGIN:VEVENT
DTSTART;TZID=America/Los_Angeles:20240525T133000
DTEND;TZID=America/Los_Angeles:20240525T180000
DTSTAMP:20260422T211015
CREATED:20240417T015053Z
LAST-MODIFIED:20240426T225521Z
UID:10000564-1716643800-1716660000@metrosafety.ca
SUMMARY:May 25\, 2024 - Confined Space\, Monitor\, and Entrant
DESCRIPTION:Course: Confined Space\, Monitor\, and Entrant \nCourse date: May 25\, 2024 \nCourse time: 1:30 pm – 6:00 pm \nLocation: 914 Sherwood Ave\, Coquitlam \nCourse cost: $158 (Special Spring Pricing) \nIf you have your own harness\, please bring it with you. \nThis course is run in English with reading material and understanding English is mandatory. \nSpecial arrangements for private classes in other languages can be arranged\, please contact the office for more information.
URL:https://metrosafety.ca/event/may-25-2024-confined-space-monitor-and-entrant/
LOCATION:Coquitlam Campus\, 914 Sherwood Ave\, Coquitlam\, British Columbia\, V3K 1A6\, Canada
CATEGORIES:Confined Space
ORGANIZER;CN="Metro Safety Training":MAILTO:Info@metrosafety.ca
GEO:49.235584;-122.871897
X-APPLE-STRUCTURED-LOCATION;VALUE=URI;X-ADDRESS=Coquitlam Campus 914 Sherwood Ave Coquitlam British Columbia V3K 1A6 Canada;X-APPLE-RADIUS=500;X-TITLE=914 Sherwood Ave:geo:-122.871897,49.235584
END:VEVENT
BEGIN:VEVENT
DTSTART;TZID=America/Los_Angeles:20240427T133000
DTEND;TZID=America/Los_Angeles:20240427T180000
DTSTAMP:20260422T211015
CREATED:20240326T030037Z
LAST-MODIFIED:20240426T225510Z
UID:10000551-1714224600-1714240800@metrosafety.ca
SUMMARY:April 27\, 2024 - Confined Space\, Monitor\, and Entrant
DESCRIPTION:Course: Confined Space\, Monitor\, and Entrant \nCourse date: April 27\, 2024 \nCourse time: 1:30 pm – 6:00 pm \nLocation: 914 Sherwood Ave\, Coquitlam \nCourse cost: $158 (Special Spring Pricing) \nIf you have your own harness\, please bring it with you. \nThis course is run in English with reading material and understanding English is mandatory. \nSpecial arrangements for private classes in other languages can be arranged\, please contact the office for more information.
URL:https://metrosafety.ca/event/april-27-2024-confined-space-monitor-and-entrant/
LOCATION:Coquitlam Campus\, 914 Sherwood Ave\, Coquitlam\, British Columbia\, V3K 1A6\, Canada
CATEGORIES:Confined Space
ORGANIZER;CN="Metro Safety Training":MAILTO:Info@metrosafety.ca
GEO:49.235584;-122.871897
X-APPLE-STRUCTURED-LOCATION;VALUE=URI;X-ADDRESS=Coquitlam Campus 914 Sherwood Ave Coquitlam British Columbia V3K 1A6 Canada;X-APPLE-RADIUS=500;X-TITLE=914 Sherwood Ave:geo:-122.871897,49.235584
END:VEVENT
END:VCALENDAR