BEGIN:VCALENDAR
VERSION:2.0
PRODID:-//Metro Safety Training - First Aid Training - ECPv6.15.15//NONSGML v1.0//EN
CALSCALE:GREGORIAN
METHOD:PUBLISH
X-WR-CALNAME:Metro Safety Training - First Aid Training
X-ORIGINAL-URL:https://metrosafety.ca
X-WR-CALDESC:Events for Metro Safety Training - First Aid Training
REFRESH-INTERVAL;VALUE=DURATION:PT1H
X-Robots-Tag:noindex
X-PUBLISHED-TTL:PT1H
BEGIN:VTIMEZONE
TZID:America/Vancouver
BEGIN:DAYLIGHT
TZOFFSETFROM:-0800
TZOFFSETTO:-0700
TZNAME:PDT
DTSTART:20250309T100000
END:DAYLIGHT
BEGIN:STANDARD
TZOFFSETFROM:-0700
TZOFFSETTO:-0800
TZNAME:PST
DTSTART:20251102T090000
END:STANDARD
BEGIN:DAYLIGHT
TZOFFSETFROM:-0800
TZOFFSETTO:-0700
TZNAME:PDT
DTSTART:20260308T100000
END:DAYLIGHT
BEGIN:STANDARD
TZOFFSETFROM:-0700
TZOFFSETTO:-0800
TZNAME:PST
DTSTART:20261101T090000
END:STANDARD
BEGIN:DAYLIGHT
TZOFFSETFROM:-0800
TZOFFSETTO:-0700
TZNAME:PDT
DTSTART:20270314T100000
END:DAYLIGHT
BEGIN:STANDARD
TZOFFSETFROM:-0700
TZOFFSETTO:-0800
TZNAME:PST
DTSTART:20271107T090000
END:STANDARD
END:VTIMEZONE
BEGIN:VEVENT
DTSTART;TZID=America/Vancouver:20260425T140000
DTEND;TZID=America/Vancouver:20260425T190000
DTSTAMP:20260422T013330
CREATED:20260410T180502Z
LAST-MODIFIED:20260410T180502Z
UID:10003705-1777125600-1777143600@metrosafety.ca
SUMMARY:Confined Space Training- April 25\, 2026- Coquitlam BC
DESCRIPTION:Metro Safety Training is offering Confined Space Training in Coquitlam\, BC on April 25\, 2026\, designed to meet WorkSafeBC confined space safety requirements for workers who enter or work around confined spaces. \n📍 Location:Metro Safety Training914 Sherwood Ave\, Coquitlam\, BC📌 Google Maps: https://share.google/N6lUk5u6CNzJBcqSf \n⏰ Time: 1:00 PM – 6:00 PM💲 Price: $158.00 per person \n\nConfined Space Training in Coquitlam\, BC\nThis Confined Space Training course in Coquitlam provides essential safety knowledge for workers who may be required to enter\, work in\, or supervise confined spaces. The course aligns with WorkSafeBC regulations and focuses on hazard recognition\, safe work procedures\, and emergency preparedness. \nParticipants receive practical instruction to help reduce risk\, prevent serious injuries\, and ensure compliance with provincial safety standards. \n\nWhat This Confined Space Course Covers\n\n\nDefinition and identification of confined spaces \n\n\nWorkSafeBC confined space regulations and responsibilities \n\n\nHazard assessment and risk control methods \n\n\nEntry permits and safe work procedures \n\n\nAtmospheric testing and monitoring basics \n\n\nRoles and responsibilities of entrants\, attendants\, and supervisors \n\n\nEmergency response and rescue considerations \n\n\n\nWho Should Take Confined Space Training\nThis course is ideal for: \n\n\nWorkers who enter confined spaces \n\n\nSupervisors overseeing confined space work \n\n\nSafety officers and site managers \n\n\nEmployers responsible for confined space safety \n\n\nMaintenance\, utility\, and industrial workers \n\n\n\nConfined Space Certification\nParticipants who successfully complete the course will receive a Confined Space Training Certificate\, suitable for WorkSafeBC compliance. \n\nWhy Choose Metro Safety Training in Coquitlam\n\n\nExperienced\, industry-qualified instructors \n\n\nWorkSafeBC-aligned curriculum \n\n\nPractical\, real-world instruction \n\n\nConvenient Coquitlam training location \n\n\nTransparent pricing with no hidden fees \n\n\n\nTraining Location – Coquitlam\, BC\nMetro Safety Training914 Sherwood AveCoquitlam\, BC \nConvenient for workers traveling from Coquitlam\, Port Coquitlam\, Port Moody\, Burnaby\, and surrounding Lower Mainland communities. \n\nLearn More About Confined Space Training\nFor full course details and regulatory information\, visit:👉 https://metrosafety.ca/confined-space-safety-for-entrants/
URL:https://metrosafety.ca/event/confined-space-training-april-25-2026-coquitlam-bc/
LOCATION:Coquitlam Campus\, 914 Sherwood Ave\, Coquitlam\, British Columbia\, V3K 1A6\, Canada
CATEGORIES:Confined Space
ORGANIZER;CN="Metro Safety Training":MAILTO:Info@metrosafety.ca
GEO:49.235584;-122.871897
X-APPLE-STRUCTURED-LOCATION;VALUE=URI;X-ADDRESS=Coquitlam Campus 914 Sherwood Ave Coquitlam British Columbia V3K 1A6 Canada;X-APPLE-RADIUS=500;X-TITLE=914 Sherwood Ave:geo:-122.871897,49.235584
END:VEVENT
BEGIN:VEVENT
DTSTART;TZID=America/Vancouver:20260509T140000
DTEND;TZID=America/Vancouver:20260509T190000
DTSTAMP:20260422T013330
CREATED:20260410T180915Z
LAST-MODIFIED:20260410T180915Z
UID:10003706-1778335200-1778353200@metrosafety.ca
SUMMARY:Confined Space Training- May 9\, 2026- Coquitlam BC
DESCRIPTION:Metro Safety Training is offering Confined Space Training in Coquitlam\, BC on May 9\, 2026\, designed to meet WorkSafeBC confined space safety requirements for workers who enter or work around confined spaces. \n📍 Location:Metro Safety Training914 Sherwood Ave\, Coquitlam\, BC📌 Google Maps: https://share.google/N6lUk5u6CNzJBcqSf \n⏰ Time: 2:00 PM – 7:00 PM💲 Price: $158.00 per person \n\nConfined Space Training in Coquitlam\, BC\nThis Confined Space Training course in Coquitlam provides essential safety knowledge for workers who may be required to enter\, work in\, or supervise confined spaces. The course aligns with WorkSafeBC regulations and focuses on hazard recognition\, safe work procedures\, and emergency preparedness. \nParticipants receive practical instruction to help reduce risk\, prevent serious injuries\, and ensure compliance with provincial safety standards. \n\nWhat This Confined Space Course Covers\n\n\nDefinition and identification of confined spaces \n\n\nWorkSafeBC confined space regulations and responsibilities \n\n\nHazard assessment and risk control methods \n\n\nEntry permits and safe work procedures \n\n\nAtmospheric testing and monitoring basics \n\n\nRoles and responsibilities of entrants\, attendants\, and supervisors \n\n\nEmergency response and rescue considerations \n\n\n\nWho Should Take Confined Space Training\nThis course is ideal for: \n\n\nWorkers who enter confined spaces \n\n\nSupervisors overseeing confined space work \n\n\nSafety officers and site managers \n\n\nEmployers responsible for confined space safety \n\n\nMaintenance\, utility\, and industrial workers \n\n\n\nConfined Space Certification\nParticipants who successfully complete the course will receive a Confined Space Training Certificate\, suitable for WorkSafeBC compliance. \n\nWhy Choose Metro Safety Training in Coquitlam\n\n\nExperienced\, industry-qualified instructors \n\n\nWorkSafeBC-aligned curriculum \n\n\nPractical\, real-world instruction \n\n\nConvenient Coquitlam training location \n\n\nTransparent pricing with no hidden fees \n\n\n\nTraining Location – Coquitlam\, BC\nMetro Safety Training914 Sherwood AveCoquitlam\, BC \nConvenient for workers traveling from Coquitlam\, Port Coquitlam\, Port Moody\, Burnaby\, and surrounding Lower Mainland communities. \n\nLearn More About Confined Space Training\nFor full course details and regulatory information\, visit:👉 https://metrosafety.ca/confined-space-safety-for-entrants/
URL:https://metrosafety.ca/event/confined-space-training-may-9-2026-coquitlam-bc/
LOCATION:Coquitlam Campus\, 914 Sherwood Ave\, Coquitlam\, British Columbia\, V3K 1A6\, Canada
CATEGORIES:Confined Space
ORGANIZER;CN="Metro Safety Training":MAILTO:Info@metrosafety.ca
GEO:49.235584;-122.871897
X-APPLE-STRUCTURED-LOCATION;VALUE=URI;X-ADDRESS=Coquitlam Campus 914 Sherwood Ave Coquitlam British Columbia V3K 1A6 Canada;X-APPLE-RADIUS=500;X-TITLE=914 Sherwood Ave:geo:-122.871897,49.235584
END:VEVENT
BEGIN:VEVENT
DTSTART;TZID=America/Vancouver:20260515T130000
DTEND;TZID=America/Vancouver:20260515T180000
DTSTAMP:20260422T013330
CREATED:20260410T181207Z
LAST-MODIFIED:20260410T181207Z
UID:10003707-1778850000-1778868000@metrosafety.ca
SUMMARY:Confined Space Training- May 15\, 2026- Coquitlam BC
DESCRIPTION:Metro Safety Training is offering Confined Space Training in Coquitlam\, BC on May 15\, 2026\, designed to meet WorkSafeBC confined space safety requirements for workers who enter or work around confined spaces. \n📍 Location:Metro Safety Training914 Sherwood Ave\, Coquitlam\, BC📌 Google Maps: https://share.google/N6lUk5u6CNzJBcqSf \n⏰ Time: 1:00 PM – 6:00 PM💲 Price: $158.00 per person \n\nConfined Space Training in Coquitlam\, BC\nThis Confined Space Training course in Coquitlam provides essential safety knowledge for workers who may be required to enter\, work in\, or supervise confined spaces. The course aligns with WorkSafeBC regulations and focuses on hazard recognition\, safe work procedures\, and emergency preparedness. \nParticipants receive practical instruction to help reduce risk\, prevent serious injuries\, and ensure compliance with provincial safety standards. \n\nWhat This Confined Space Course Covers\n\n\nDefinition and identification of confined spaces \n\n\nWorkSafeBC confined space regulations and responsibilities \n\n\nHazard assessment and risk control methods \n\n\nEntry permits and safe work procedures \n\n\nAtmospheric testing and monitoring basics \n\n\nRoles and responsibilities of entrants\, attendants\, and supervisors \n\n\nEmergency response and rescue considerations \n\n\n\nWho Should Take Confined Space Training\nThis course is ideal for: \n\n\nWorkers who enter confined spaces \n\n\nSupervisors overseeing confined space work \n\n\nSafety officers and site managers \n\n\nEmployers responsible for confined space safety \n\n\nMaintenance\, utility\, and industrial workers \n\n\n\nConfined Space Certification\nParticipants who successfully complete the course will receive a Confined Space Training Certificate\, suitable for WorkSafeBC compliance. \n\nWhy Choose Metro Safety Training in Coquitlam\n\n\nExperienced\, industry-qualified instructors \n\n\nWorkSafeBC-aligned curriculum \n\n\nPractical\, real-world instruction \n\n\nConvenient Coquitlam training location \n\n\nTransparent pricing with no hidden fees \n\n\n\nTraining Location – Coquitlam\, BC\nMetro Safety Training914 Sherwood AveCoquitlam\, BC \nConvenient for workers traveling from Coquitlam\, Port Coquitlam\, Port Moody\, Burnaby\, and surrounding Lower Mainland communities. \n\nLearn More About Confined Space Training\nFor full course details and regulatory information\, visit:👉 https://metrosafety.ca/confined-space-safety-for-entrants/
URL:https://metrosafety.ca/event/confined-space-training-may-15-2026-coquitlam-bc/
LOCATION:Coquitlam Campus\, 914 Sherwood Ave\, Coquitlam\, British Columbia\, V3K 1A6\, Canada
CATEGORIES:Confined Space
ORGANIZER;CN="Metro Safety Training":MAILTO:Info@metrosafety.ca
GEO:49.235584;-122.871897
X-APPLE-STRUCTURED-LOCATION;VALUE=URI;X-ADDRESS=Coquitlam Campus 914 Sherwood Ave Coquitlam British Columbia V3K 1A6 Canada;X-APPLE-RADIUS=500;X-TITLE=914 Sherwood Ave:geo:-122.871897,49.235584
END:VEVENT
BEGIN:VEVENT
DTSTART;TZID=America/Vancouver:20260523T140000
DTEND;TZID=America/Vancouver:20260523T190000
DTSTAMP:20260422T013330
CREATED:20260410T182231Z
LAST-MODIFIED:20260410T182231Z
UID:10003708-1779544800-1779562800@metrosafety.ca
SUMMARY:Confined Space Training- May 23\, 2026- Coquitlam BC
DESCRIPTION:Metro Safety Training is offering Confined Space Training in Coquitlam\, BC on May 23\, 2026\, designed to meet WorkSafeBC confined space safety requirements for workers who enter or work around confined spaces. \n📍 Location:Metro Safety Training914 Sherwood Ave\, Coquitlam\, BC📌 Google Maps: https://share.google/N6lUk5u6CNzJBcqSf \n⏰ Time: 1:00 PM – 6:00 PM💲 Price: $158.00 per person \n\nConfined Space Training in Coquitlam\, BC\nThis Confined Space Training course in Coquitlam provides essential safety knowledge for workers who may be required to enter\, work in\, or supervise confined spaces. The course aligns with WorkSafeBC regulations and focuses on hazard recognition\, safe work procedures\, and emergency preparedness. \nParticipants receive practical instruction to help reduce risk\, prevent serious injuries\, and ensure compliance with provincial safety standards. \n\nWhat This Confined Space Course Covers\n\n\nDefinition and identification of confined spaces \n\n\nWorkSafeBC confined space regulations and responsibilities \n\n\nHazard assessment and risk control methods \n\n\nEntry permits and safe work procedures \n\n\nAtmospheric testing and monitoring basics \n\n\nRoles and responsibilities of entrants\, attendants\, and supervisors \n\n\nEmergency response and rescue considerations \n\n\n\nWho Should Take Confined Space Training\nThis course is ideal for: \n\n\nWorkers who enter confined spaces \n\n\nSupervisors overseeing confined space work \n\n\nSafety officers and site managers \n\n\nEmployers responsible for confined space safety \n\n\nMaintenance\, utility\, and industrial workers \n\n\n\nConfined Space Certification\nParticipants who successfully complete the course will receive a Confined Space Training Certificate\, suitable for WorkSafeBC compliance. \n\nWhy Choose Metro Safety Training in Coquitlam\n\n\nExperienced\, industry-qualified instructors \n\n\nWorkSafeBC-aligned curriculum \n\n\nPractical\, real-world instruction \n\n\nConvenient Coquitlam training location \n\n\nTransparent pricing with no hidden fees \n\n\n\nTraining Location – Coquitlam\, BC\nMetro Safety Training914 Sherwood AveCoquitlam\, BC \nConvenient for workers traveling from Coquitlam\, Port Coquitlam\, Port Moody\, Burnaby\, and surrounding Lower Mainland communities. \n\nLearn More About Confined Space Training\nFor full course details and regulatory information\, visit:👉 https://metrosafety.ca/confined-space-safety-for-entrants/
URL:https://metrosafety.ca/event/confined-space-training-may-23-2026-coquitlam-bc/
LOCATION:Coquitlam Campus\, 914 Sherwood Ave\, Coquitlam\, British Columbia\, V3K 1A6\, Canada
CATEGORIES:Confined Space
ORGANIZER;CN="Metro Safety Training":MAILTO:Info@metrosafety.ca
GEO:49.235584;-122.871897
X-APPLE-STRUCTURED-LOCATION;VALUE=URI;X-ADDRESS=Coquitlam Campus 914 Sherwood Ave Coquitlam British Columbia V3K 1A6 Canada;X-APPLE-RADIUS=500;X-TITLE=914 Sherwood Ave:geo:-122.871897,49.235584
END:VEVENT
BEGIN:VEVENT
DTSTART;TZID=America/Vancouver:20260529T130000
DTEND;TZID=America/Vancouver:20260529T180000
DTSTAMP:20260422T013330
CREATED:20260410T182544Z
LAST-MODIFIED:20260410T182544Z
UID:10003709-1780059600-1780077600@metrosafety.ca
SUMMARY:Confined Space Training- May 29\, 2026- Coquitlam BC
DESCRIPTION:Metro Safety Training is offering Confined Space Training in Coquitlam\, BC on May 29\, 2026\, designed to meet WorkSafeBC confined space safety requirements for workers who enter or work around confined spaces. \n📍 Location:Metro Safety Training914 Sherwood Ave\, Coquitlam\, BC📌 Google Maps: https://share.google/N6lUk5u6CNzJBcqSf \n⏰ Time: 1:00 PM – 6:00 PM💲 Price: $158.00 per person \n\nConfined Space Training in Coquitlam\, BC\nThis Confined Space Training course in Coquitlam provides essential safety knowledge for workers who may be required to enter\, work in\, or supervise confined spaces. The course aligns with WorkSafeBC regulations and focuses on hazard recognition\, safe work procedures\, and emergency preparedness. \nParticipants receive practical instruction to help reduce risk\, prevent serious injuries\, and ensure compliance with provincial safety standards. \n\nWhat This Confined Space Course Covers\n\n\nDefinition and identification of confined spaces \n\n\nWorkSafeBC confined space regulations and responsibilities \n\n\nHazard assessment and risk control methods \n\n\nEntry permits and safe work procedures \n\n\nAtmospheric testing and monitoring basics \n\n\nRoles and responsibilities of entrants\, attendants\, and supervisors \n\n\nEmergency response and rescue considerations \n\n\n\nWho Should Take Confined Space Training\nThis course is ideal for: \n\n\nWorkers who enter confined spaces \n\n\nSupervisors overseeing confined space work \n\n\nSafety officers and site managers \n\n\nEmployers responsible for confined space safety \n\n\nMaintenance\, utility\, and industrial workers \n\n\n\nConfined Space Certification\nParticipants who successfully complete the course will receive a Confined Space Training Certificate\, suitable for WorkSafeBC compliance. \n\nWhy Choose Metro Safety Training in Coquitlam\n\n\nExperienced\, industry-qualified instructors \n\n\nWorkSafeBC-aligned curriculum \n\n\nPractical\, real-world instruction \n\n\nConvenient Coquitlam training location \n\n\nTransparent pricing with no hidden fees \n\n\n\nTraining Location – Coquitlam\, BC\nMetro Safety Training914 Sherwood AveCoquitlam\, BC \nConvenient for workers traveling from Coquitlam\, Port Coquitlam\, Port Moody\, Burnaby\, and surrounding Lower Mainland communities. \n\nLearn More About Confined Space Training\nFor full course details and regulatory information\, visit:👉 https://metrosafety.ca/confined-space-safety-for-entrants/
URL:https://metrosafety.ca/event/confined-space-training-may-29-2026-coquitlam-bc/
LOCATION:Coquitlam Campus\, 914 Sherwood Ave\, Coquitlam\, British Columbia\, V3K 1A6\, Canada
CATEGORIES:Confined Space
ORGANIZER;CN="Metro Safety Training":MAILTO:Info@metrosafety.ca
GEO:49.235584;-122.871897
X-APPLE-STRUCTURED-LOCATION;VALUE=URI;X-ADDRESS=Coquitlam Campus 914 Sherwood Ave Coquitlam British Columbia V3K 1A6 Canada;X-APPLE-RADIUS=500;X-TITLE=914 Sherwood Ave:geo:-122.871897,49.235584
END:VEVENT
BEGIN:VEVENT
DTSTART;TZID=America/Vancouver:20260606T140000
DTEND;TZID=America/Vancouver:20260606T190000
DTSTAMP:20260422T013330
CREATED:20260410T183032Z
LAST-MODIFIED:20260410T183032Z
UID:10003710-1780754400-1780772400@metrosafety.ca
SUMMARY:Confined Space Training- June 6\, 2026- Coquitlam BC
DESCRIPTION:Metro Safety Training is offering Confined Space Training in Coquitlam\, BC on June 6\, 2026\, designed to meet WorkSafeBC confined space safety requirements for workers who enter or work around confined spaces. \n📍 Location:Metro Safety Training914 Sherwood Ave\, Coquitlam\, BC📌 Google Maps: https://share.google/N6lUk5u6CNzJBcqSf \n⏰ Time: 2:00 PM – 7:00 PM💲 Price: $158.00 per person \n\nConfined Space Training in Coquitlam\, BC\nThis Confined Space Training course in Coquitlam provides essential safety knowledge for workers who may be required to enter\, work in\, or supervise confined spaces. The course aligns with WorkSafeBC regulations and focuses on hazard recognition\, safe work procedures\, and emergency preparedness. \nParticipants receive practical instruction to help reduce risk\, prevent serious injuries\, and ensure compliance with provincial safety standards. \n\nWhat This Confined Space Course Covers\n\n\nDefinition and identification of confined spaces \n\n\nWorkSafeBC confined space regulations and responsibilities \n\n\nHazard assessment and risk control methods \n\n\nEntry permits and safe work procedures \n\n\nAtmospheric testing and monitoring basics \n\n\nRoles and responsibilities of entrants\, attendants\, and supervisors \n\n\nEmergency response and rescue considerations \n\n\n\nWho Should Take Confined Space Training\nThis course is ideal for: \n\n\nWorkers who enter confined spaces \n\n\nSupervisors overseeing confined space work \n\n\nSafety officers and site managers \n\n\nEmployers responsible for confined space safety \n\n\nMaintenance\, utility\, and industrial workers \n\n\n\nConfined Space Certification\nParticipants who successfully complete the course will receive a Confined Space Training Certificate\, suitable for WorkSafeBC compliance. \n\nWhy Choose Metro Safety Training in Coquitlam\n\n\nExperienced\, industry-qualified instructors \n\n\nWorkSafeBC-aligned curriculum \n\n\nPractical\, real-world instruction \n\n\nConvenient Coquitlam training location \n\n\nTransparent pricing with no hidden fees \n\n\n\nTraining Location – Coquitlam\, BC\nMetro Safety Training914 Sherwood AveCoquitlam\, BC \nConvenient for workers traveling from Coquitlam\, Port Coquitlam\, Port Moody\, Burnaby\, and surrounding Lower Mainland communities. \n\nLearn More About Confined Space Training\nFor full course details and regulatory information\, visit:👉 https://metrosafety.ca/confined-space-safety-for-entrants/
URL:https://metrosafety.ca/event/confined-space-training-june-6-2026-coquitlam-bc/
LOCATION:Coquitlam Campus\, 914 Sherwood Ave\, Coquitlam\, British Columbia\, V3K 1A6\, Canada
CATEGORIES:Confined Space
ORGANIZER;CN="Metro Safety Training":MAILTO:Info@metrosafety.ca
GEO:49.235584;-122.871897
X-APPLE-STRUCTURED-LOCATION;VALUE=URI;X-ADDRESS=Coquitlam Campus 914 Sherwood Ave Coquitlam British Columbia V3K 1A6 Canada;X-APPLE-RADIUS=500;X-TITLE=914 Sherwood Ave:geo:-122.871897,49.235584
END:VEVENT
BEGIN:VEVENT
DTSTART;TZID=America/Vancouver:20260612T130000
DTEND;TZID=America/Vancouver:20260612T180000
DTSTAMP:20260422T013330
CREATED:20260410T184920Z
LAST-MODIFIED:20260410T184920Z
UID:10003711-1781269200-1781287200@metrosafety.ca
SUMMARY:Confined Space Training- June 12\, 2026- Coquitlam BC
DESCRIPTION:Metro Safety Training is offering Confined Space Training in Coquitlam\, BC on June 12\, 2026\, designed to meet WorkSafeBC confined space safety requirements for workers who enter or work around confined spaces. \n📍 Location:Metro Safety Training914 Sherwood Ave\, Coquitlam\, BC📌 Google Maps: https://share.google/N6lUk5u6CNzJBcqSf \n⏰ Time: 1:00 PM – 6:00 PM💲 Price: $158.00 per person \n\nConfined Space Training in Coquitlam\, BC\nThis Confined Space Training course in Coquitlam provides essential safety knowledge for workers who may be required to enter\, work in\, or supervise confined spaces. The course aligns with WorkSafeBC regulations and focuses on hazard recognition\, safe work procedures\, and emergency preparedness. \nParticipants receive practical instruction to help reduce risk\, prevent serious injuries\, and ensure compliance with provincial safety standards. \n\nWhat This Confined Space Course Covers\n\n\nDefinition and identification of confined spaces \n\n\nWorkSafeBC confined space regulations and responsibilities \n\n\nHazard assessment and risk control methods \n\n\nEntry permits and safe work procedures \n\n\nAtmospheric testing and monitoring basics \n\n\nRoles and responsibilities of entrants\, attendants\, and supervisors \n\n\nEmergency response and rescue considerations \n\n\n\nWho Should Take Confined Space Training\nThis course is ideal for: \n\n\nWorkers who enter confined spaces \n\n\nSupervisors overseeing confined space work \n\n\nSafety officers and site managers \n\n\nEmployers responsible for confined space safety \n\n\nMaintenance\, utility\, and industrial workers \n\n\n\nConfined Space Certification\nParticipants who successfully complete the course will receive a Confined Space Training Certificate\, suitable for WorkSafeBC compliance. \n\nWhy Choose Metro Safety Training in Coquitlam\n\n\nExperienced\, industry-qualified instructors \n\n\nWorkSafeBC-aligned curriculum \n\n\nPractical\, real-world instruction \n\n\nConvenient Coquitlam training location \n\n\nTransparent pricing with no hidden fees \n\n\n\nTraining Location – Coquitlam\, BC\nMetro Safety Training914 Sherwood AveCoquitlam\, BC \nConvenient for workers traveling from Coquitlam\, Port Coquitlam\, Port Moody\, Burnaby\, and surrounding Lower Mainland communities. \n\nLearn More About Confined Space Training\nFor full course details and regulatory information\, visit:👉 https://metrosafety.ca/confined-space-safety-for-entrants/
URL:https://metrosafety.ca/event/confined-space-training-june-12-2026-coquitlam-bc/
LOCATION:Coquitlam Campus\, 914 Sherwood Ave\, Coquitlam\, British Columbia\, V3K 1A6\, Canada
CATEGORIES:Confined Space
ORGANIZER;CN="Metro Safety Training":MAILTO:Info@metrosafety.ca
GEO:49.235584;-122.871897
X-APPLE-STRUCTURED-LOCATION;VALUE=URI;X-ADDRESS=Coquitlam Campus 914 Sherwood Ave Coquitlam British Columbia V3K 1A6 Canada;X-APPLE-RADIUS=500;X-TITLE=914 Sherwood Ave:geo:-122.871897,49.235584
END:VEVENT
BEGIN:VEVENT
DTSTART;TZID=America/Vancouver:20260620T140000
DTEND;TZID=America/Vancouver:20260620T190000
DTSTAMP:20260422T013330
CREATED:20260410T185216Z
LAST-MODIFIED:20260410T185216Z
UID:10003712-1781964000-1781982000@metrosafety.ca
SUMMARY:Confined Space Training- June 20\, 2026- Coquitlam BC
DESCRIPTION:Metro Safety Training is offering Confined Space Training in Coquitlam\, BC on June 20\, 2026\, designed to meet WorkSafeBC confined space safety requirements for workers who enter or work around confined spaces. \n📍 Location:Metro Safety Training914 Sherwood Ave\, Coquitlam\, BC📌 Google Maps: https://share.google/N6lUk5u6CNzJBcqSf \n⏰ Time: 2:00 PM – 7:00 PM💲 Price: $158.00 per person \n\nConfined Space Training in Coquitlam\, BC\nThis Confined Space Training course in Coquitlam provides essential safety knowledge for workers who may be required to enter\, work in\, or supervise confined spaces. The course aligns with WorkSafeBC regulations and focuses on hazard recognition\, safe work procedures\, and emergency preparedness. \nParticipants receive practical instruction to help reduce risk\, prevent serious injuries\, and ensure compliance with provincial safety standards. \n\nWhat This Confined Space Course Covers\n\n\nDefinition and identification of confined spaces \n\n\nWorkSafeBC confined space regulations and responsibilities \n\n\nHazard assessment and risk control methods \n\n\nEntry permits and safe work procedures \n\n\nAtmospheric testing and monitoring basics \n\n\nRoles and responsibilities of entrants\, attendants\, and supervisors \n\n\nEmergency response and rescue considerations \n\n\n\nWho Should Take Confined Space Training\nThis course is ideal for: \n\n\nWorkers who enter confined spaces \n\n\nSupervisors overseeing confined space work \n\n\nSafety officers and site managers \n\n\nEmployers responsible for confined space safety \n\n\nMaintenance\, utility\, and industrial workers \n\n\n\nConfined Space Certification\nParticipants who successfully complete the course will receive a Confined Space Training Certificate\, suitable for WorkSafeBC compliance. \n\nWhy Choose Metro Safety Training in Coquitlam\n\n\nExperienced\, industry-qualified instructors \n\n\nWorkSafeBC-aligned curriculum \n\n\nPractical\, real-world instruction \n\n\nConvenient Coquitlam training location \n\n\nTransparent pricing with no hidden fees \n\n\n\nTraining Location – Coquitlam\, BC\nMetro Safety Training914 Sherwood AveCoquitlam\, BC \nConvenient for workers traveling from Coquitlam\, Port Coquitlam\, Port Moody\, Burnaby\, and surrounding Lower Mainland communities. \n\nLearn More About Confined Space Training\nFor full course details and regulatory information\, visit:👉 https://metrosafety.ca/confined-space-safety-for-entrants/
URL:https://metrosafety.ca/event/confined-space-training-june-20-2026-coquitlam-bc/
LOCATION:Coquitlam Campus\, 914 Sherwood Ave\, Coquitlam\, British Columbia\, V3K 1A6\, Canada
CATEGORIES:Confined Space
ORGANIZER;CN="Metro Safety Training":MAILTO:Info@metrosafety.ca
GEO:49.235584;-122.871897
X-APPLE-STRUCTURED-LOCATION;VALUE=URI;X-ADDRESS=Coquitlam Campus 914 Sherwood Ave Coquitlam British Columbia V3K 1A6 Canada;X-APPLE-RADIUS=500;X-TITLE=914 Sherwood Ave:geo:-122.871897,49.235584
END:VEVENT
END:VCALENDAR