BEGIN:VCALENDAR
VERSION:2.0
PRODID:-//Metro Safety Training - First Aid Training - ECPv6.15.15//NONSGML v1.0//EN
CALSCALE:GREGORIAN
METHOD:PUBLISH
X-WR-CALNAME:Metro Safety Training - First Aid Training
X-ORIGINAL-URL:https://metrosafety.ca
X-WR-CALDESC:Events for Metro Safety Training - First Aid Training
REFRESH-INTERVAL;VALUE=DURATION:PT1H
X-Robots-Tag:noindex
X-PUBLISHED-TTL:PT1H
BEGIN:VTIMEZONE
TZID:America/Vancouver
BEGIN:DAYLIGHT
TZOFFSETFROM:-0800
TZOFFSETTO:-0700
TZNAME:PDT
DTSTART:20240310T100000
END:DAYLIGHT
BEGIN:STANDARD
TZOFFSETFROM:-0700
TZOFFSETTO:-0800
TZNAME:PST
DTSTART:20241103T090000
END:STANDARD
BEGIN:DAYLIGHT
TZOFFSETFROM:-0800
TZOFFSETTO:-0700
TZNAME:PDT
DTSTART:20250309T100000
END:DAYLIGHT
BEGIN:STANDARD
TZOFFSETFROM:-0700
TZOFFSETTO:-0800
TZNAME:PST
DTSTART:20251102T090000
END:STANDARD
BEGIN:DAYLIGHT
TZOFFSETFROM:-0800
TZOFFSETTO:-0700
TZNAME:PDT
DTSTART:20260308T100000
END:DAYLIGHT
BEGIN:STANDARD
TZOFFSETFROM:-0700
TZOFFSETTO:-0800
TZNAME:PST
DTSTART:20261101T090000
END:STANDARD
END:VTIMEZONE
BEGIN:VEVENT
DTSTART;TZID=America/Vancouver:20250621T083000
DTEND;TZID=America/Vancouver:20250831T163000
DTSTAMP:20260419T094029
CREATED:20250522T170934Z
LAST-MODIFIED:20250618T221944Z
UID:10002951-1750494600-1756657800@metrosafety.ca
SUMMARY:Emergency First Aid with CPR/AED Level C (Blended Learning) - Online
DESCRIPTION:** EACH STUDENT MUST HAVE A UNIQUE EMAIL \n\nIf you require an invoice please select P/O at checkout\n\nCourse Fee: $88.00 CAD Certification Validity: 3 YearsDelivery Method: Blended (Online + In-Class) \nCourse Structure\n\n\nOnline Component: Access provided upon registration. Complete at your own pace within 60 days. \n\n\nIn-Class Session: June 21st 2025 \n\n\nCourse Time: 8:30-16:30 \nKey Topics Covered\n\n\nEmergency Scene Management \n\n\nAirway\, Breathing\, and Circulation Emergencies \n\n\nCPR Techniques for Adults\, Children\, and Infants \n\n\nAutomated External Defibrillator (AED) Usage \n\n\nWound Care and Bleeding Control \n\n\nShock Management \n\n\nFractures and Sprains \n\n\nBurns and Electrical Injuries \n\n\nEnvironmental Emergencies \n\n\nMedical Conditions (e.g.\, Heart Attack\, Stroke\, Diabetic Emergencies) \n\n\n\n\n\nImportant Notes\n\n\nCompletion Timeline: The online portion must be completed before the course start date \n\n\nIn-Class Scheduling: Upon completing the online component\, you’ll be contacted to select your preferred in-class session. \n\n\nCertification: Upon successful completion\, participants receive a Canadian Red Cross certificate valid for 3 years.
URL:https://metrosafety.ca/event/emergency-first-aid-with-cpr-aed-level-c-blended-learning-online/
LOCATION:Coquitlam Campus\, 914 Sherwood Ave\, Coquitlam\, British Columbia\, V3K 1A6\, Canada
CATEGORIES:Emergency First Aid with CPR/AED Level C
ORGANIZER;CN="Metro Safety Training":MAILTO:Info@metrosafety.ca
GEO:49.235584;-122.871897
X-APPLE-STRUCTURED-LOCATION;VALUE=URI;X-ADDRESS=Coquitlam Campus 914 Sherwood Ave Coquitlam British Columbia V3K 1A6 Canada;X-APPLE-RADIUS=500;X-TITLE=914 Sherwood Ave:geo:-122.871897,49.235584
END:VEVENT
BEGIN:VEVENT
DTSTART;TZID=America/Vancouver:20250830T080000
DTEND;TZID=America/Vancouver:20250830T130000
DTSTAMP:20260419T094029
CREATED:20250710T193435Z
LAST-MODIFIED:20250710T193435Z
UID:10003119-1756540800-1756558800@metrosafety.ca
SUMMARY:August 30th\, 2025 - Fall Protection
DESCRIPTION:Course: Fall Protection \nCourse date: August 30th\, 2025 \nCourse time: 8:00 am – 1:00 pm \nLocation: 914 Sherwood Ave\, Coquitlam \nCourse cost: $128 (Special Winter Pricing) \nIf you have your own harness\, please bring it with you. \nThis course is run in English with reading material and understanding English is mandatory. \nSpecial arrangements for private classes in other languages can be arranged\, please contact the office for more information.
URL:https://metrosafety.ca/event/august-30th-2025-fall-protection/
LOCATION:Coquitlam Campus\, 914 Sherwood Ave\, Coquitlam\, British Columbia\, V3K 1A6\, Canada
CATEGORIES:Fall Protection Training
ORGANIZER;CN="Metro Safety Training":MAILTO:Info@metrosafety.ca
GEO:49.235584;-122.871897
X-APPLE-STRUCTURED-LOCATION;VALUE=URI;X-ADDRESS=Coquitlam Campus 914 Sherwood Ave Coquitlam British Columbia V3K 1A6 Canada;X-APPLE-RADIUS=500;X-TITLE=914 Sherwood Ave:geo:-122.871897,49.235584
END:VEVENT
BEGIN:VEVENT
DTSTART;TZID=America/Vancouver:20250830T083000
DTEND;TZID=America/Vancouver:20250830T123000
DTSTAMP:20260419T094029
CREATED:20250708T115758Z
LAST-MODIFIED:20250708T115758Z
UID:10003046-1756542600-1756557000@metrosafety.ca
SUMMARY:Saturday Morning CPRC With AED Certification (Blended Learning)
DESCRIPTION:Learn life?saving CPR techniques for adults\, children\, and infants\, including two-person resuscitation and Automated External Defibrillator (AED) operations. This Canadian Red Cross Level C certification is valid for 3 years and is WorkSafeBC?recognized\, offered both in?class and blended online at Metro Safety’s Coquitlam location. Gain hands-on skills using current best practices—100–120 compressions per minute—and earn a nationally accepted certificate. Perfect for healthcare providers\, workplace first aid requirements\, or anyone wanting to be emergency-ready. Enroll now—only $59.95 CAD (all taxes included)!
URL:https://metrosafety.ca/event/saturday-morning-cprc-with-aed-certification-blended-learning-6/
LOCATION:Metro Safety Training Coquitlam\,  914 Sherwood Ave\, Coquitlam\, British Columbia\, V3K 1A6\, Canada
CATEGORIES:CPR C
GEO:49.235584;-122.871897
X-APPLE-STRUCTURED-LOCATION;VALUE=URI;X-ADDRESS=Metro Safety Training Coquitlam  914 Sherwood Ave Coquitlam British Columbia V3K 1A6 Canada;X-APPLE-RADIUS=500;X-TITLE=914 Sherwood Ave:geo:-122.871897,49.235584
END:VEVENT
BEGIN:VEVENT
DTSTART;TZID=America/Vancouver:20250830T130000
DTEND;TZID=America/Vancouver:20250830T163000
DTSTAMP:20260419T094029
CREATED:20250708T115800Z
LAST-MODIFIED:20250708T115800Z
UID:10003047-1756558800-1756571400@metrosafety.ca
SUMMARY:Saturday Afternoon CPRC With AED Certification  (Blended Learning)
DESCRIPTION:Learn life?saving CPR techniques for adults\, children\, and infants\, including two-person resuscitation and Automated External Defibrillator (AED) operations. This Canadian Red Cross Level C certification is valid for 3 years and is WorkSafeBC?recognized\, offered both in?class and blended online at Metro Safety’s Coquitlam location. Gain hands-on skills using current best practices—100–120 compressions per minute—and earn a nationally accepted certificate. Perfect for healthcare providers\, workplace first aid requirements\, or anyone wanting to be emergency-ready. Enroll now—only $59.95 CAD (all taxes included)!
URL:https://metrosafety.ca/event/saturday-afternoon-cprc-with-aed-certification-blended-learning-6/
LOCATION:Metro Safety Training Coquitlam\,  914 Sherwood Ave\, Coquitlam\, British Columbia\, V3K 1A6\, Canada
CATEGORIES:CPR C
GEO:49.235584;-122.871897
X-APPLE-STRUCTURED-LOCATION;VALUE=URI;X-ADDRESS=Metro Safety Training Coquitlam  914 Sherwood Ave Coquitlam British Columbia V3K 1A6 Canada;X-APPLE-RADIUS=500;X-TITLE=914 Sherwood Ave:geo:-122.871897,49.235584
END:VEVENT
BEGIN:VEVENT
DTSTART;TZID=America/Vancouver:20250830T133000
DTEND;TZID=America/Vancouver:20250830T183000
DTSTAMP:20260419T094029
CREATED:20250710T193847Z
LAST-MODIFIED:20250828T171911Z
UID:10003120-1756560600-1756578600@metrosafety.ca
SUMMARY:August 30th\, 2025 - Confined Space\, Monitor\, and Entrant
DESCRIPTION:Course: Confined Space\, Monitor\, and Entrant \nCourse date: August 30th\, 2025 \nCourse time: 1:30 pm – 6:30 pm \nLocation: 914 Sherwood Ave\, Coquitlam \nCourse cost: $158 (Special Summer Pricing) \nIf you have your own harness\, please bring it with you. \nThis course is run in English with reading material and understanding English is mandatory. \nSpecial arrangements for private classes in other languages can be arranged\, please contact the office for more information.
URL:https://metrosafety.ca/event/august-30th-2025-confined-space-monitor-and-entrant/
LOCATION:Coquitlam Campus\, 914 Sherwood Ave\, Coquitlam\, British Columbia\, V3K 1A6\, Canada
ORGANIZER;CN="Metro Safety Training":MAILTO:Info@metrosafety.ca
GEO:49.235584;-122.871897
X-APPLE-STRUCTURED-LOCATION;VALUE=URI;X-ADDRESS=Coquitlam Campus 914 Sherwood Ave Coquitlam British Columbia V3K 1A6 Canada;X-APPLE-RADIUS=500;X-TITLE=914 Sherwood Ave:geo:-122.871897,49.235584
END:VEVENT
END:VCALENDAR