BEGIN:VCALENDAR
VERSION:2.0
PRODID:-//Metro Safety Training - First Aid Training - ECPv6.15.15//NONSGML v1.0//EN
CALSCALE:GREGORIAN
METHOD:PUBLISH
X-WR-CALNAME:Metro Safety Training - First Aid Training
X-ORIGINAL-URL:https://metrosafety.ca
X-WR-CALDESC:Events for Metro Safety Training - First Aid Training
REFRESH-INTERVAL;VALUE=DURATION:PT1H
X-Robots-Tag:noindex
X-PUBLISHED-TTL:PT1H
BEGIN:VTIMEZONE
TZID:America/Los_Angeles
BEGIN:DAYLIGHT
TZOFFSETFROM:-0800
TZOFFSETTO:-0700
TZNAME:PDT
DTSTART:20230312T100000
END:DAYLIGHT
BEGIN:STANDARD
TZOFFSETFROM:-0700
TZOFFSETTO:-0800
TZNAME:PST
DTSTART:20231105T090000
END:STANDARD
BEGIN:DAYLIGHT
TZOFFSETFROM:-0800
TZOFFSETTO:-0700
TZNAME:PDT
DTSTART:20240310T100000
END:DAYLIGHT
BEGIN:STANDARD
TZOFFSETFROM:-0700
TZOFFSETTO:-0800
TZNAME:PST
DTSTART:20241103T090000
END:STANDARD
BEGIN:DAYLIGHT
TZOFFSETFROM:-0800
TZOFFSETTO:-0700
TZNAME:PDT
DTSTART:20250309T100000
END:DAYLIGHT
BEGIN:STANDARD
TZOFFSETFROM:-0700
TZOFFSETTO:-0800
TZNAME:PST
DTSTART:20251102T090000
END:STANDARD
END:VTIMEZONE
BEGIN:VEVENT
DTSTART;TZID=America/Los_Angeles:20240817T083000
DTEND;TZID=America/Los_Angeles:20240818T163000
DTSTAMP:20260419T223715
CREATED:20240710T031510Z
LAST-MODIFIED:20240814T225430Z
UID:10000298-1723883400-1723998600@metrosafety.ca
SUMMARY:August 17 & 18\, 2024 - Red Cross - SFA with CPR/AED C
DESCRIPTION:Course: Red Cross – Standard First Aid with CPR C and AED \nCourse date: August 17 & 18\, 2024 \nCourse time: 8:30 am – 4:30 pm \nLocation: 914 Sherwood Ave\, Coquitlam \nCourse cost: $158 per person \nThis course is taught in English and all reading materials for the class will be in English.
URL:https://metrosafety.ca/event/august-17-18-2024-red-cross-sfa-with-cpr-aed-c/
LOCATION:Coquitlam Campus\, 914 Sherwood Ave\, Coquitlam\, British Columbia\, V3K 1A6\, Canada
CATEGORIES:Standard First Aid with CPR/AED Level C
ORGANIZER;CN="Metro Safety Training":MAILTO:Info@metrosafety.ca
GEO:49.235584;-122.871897
X-APPLE-STRUCTURED-LOCATION;VALUE=URI;X-ADDRESS=Coquitlam Campus 914 Sherwood Ave Coquitlam British Columbia V3K 1A6 Canada;X-APPLE-RADIUS=500;X-TITLE=914 Sherwood Ave:geo:-122.871897,49.235584
END:VEVENT
END:VCALENDAR