BEGIN:VCALENDAR
VERSION:2.0
PRODID:-//Metro Safety Training - First Aid Training - ECPv6.15.15//NONSGML v1.0//EN
CALSCALE:GREGORIAN
METHOD:PUBLISH
X-ORIGINAL-URL:https://metrosafety.ca
X-WR-CALDESC:Events for Metro Safety Training - First Aid Training
REFRESH-INTERVAL;VALUE=DURATION:PT1H
X-Robots-Tag:noindex
X-PUBLISHED-TTL:PT1H
BEGIN:VTIMEZONE
TZID:America/Los_Angeles
BEGIN:DAYLIGHT
TZOFFSETFROM:-0800
TZOFFSETTO:-0700
TZNAME:PDT
DTSTART:20230312T100000
END:DAYLIGHT
BEGIN:STANDARD
TZOFFSETFROM:-0700
TZOFFSETTO:-0800
TZNAME:PST
DTSTART:20231105T090000
END:STANDARD
BEGIN:DAYLIGHT
TZOFFSETFROM:-0800
TZOFFSETTO:-0700
TZNAME:PDT
DTSTART:20240310T100000
END:DAYLIGHT
BEGIN:STANDARD
TZOFFSETFROM:-0700
TZOFFSETTO:-0800
TZNAME:PST
DTSTART:20241103T090000
END:STANDARD
BEGIN:DAYLIGHT
TZOFFSETFROM:-0800
TZOFFSETTO:-0700
TZNAME:PDT
DTSTART:20250309T100000
END:DAYLIGHT
BEGIN:STANDARD
TZOFFSETFROM:-0700
TZOFFSETTO:-0800
TZNAME:PST
DTSTART:20251102T090000
END:STANDARD
END:VTIMEZONE
BEGIN:VEVENT
DTSTART;TZID=America/Los_Angeles:20240514T173000
DTEND;TZID=America/Los_Angeles:20240615T163000
DTSTAMP:20260420T000724
CREATED:20240417T041958Z
LAST-MODIFIED:20240513T234036Z
UID:10000567-1715707800-1718469000@metrosafety.ca
SUMMARY:May 14 - June 15 2024 - Part-time OFA 3
DESCRIPTION:Course: Part-time Occupational First Aid Level 3 \nCourse dates: May 14 – June 15 2024 (Tuesdays\, Thursdays\, and Saturdays) \nCourse times: 5:30 pm – 9:30 pm (Tuesday + Thursday) 8:30 am -4:30 pm(Saturdays) \nLocation: 914 Sherwood Ave\, Coquitlam \nCourse cost: $858 per person \nThis course is taught in English and all reading materials for the class will be in English.
URL:https://metrosafety.ca/event/may-14-june-15-2024-part-time-ofa-3/
LOCATION:Coquitlam Campus\, 914 Sherwood Ave\, Coquitlam\, British Columbia\, V3K 1A6\, Canada
CATEGORIES:Occupational First Aid Level 3 (Advanced) Part Time
ORGANIZER;CN="Metro Safety Training":MAILTO:Info@metrosafety.ca
GEO:49.235584;-122.871897
X-APPLE-STRUCTURED-LOCATION;VALUE=URI;X-ADDRESS=Coquitlam Campus 914 Sherwood Ave Coquitlam British Columbia V3K 1A6 Canada;X-APPLE-RADIUS=500;X-TITLE=914 Sherwood Ave:geo:-122.871897,49.235584
END:VEVENT
BEGIN:VEVENT
DTSTART;TZID=America/Los_Angeles:20240527T083000
DTEND;TZID=America/Los_Angeles:20240607T163000
DTSTAMP:20260420T000724
CREATED:20240215T090028Z
LAST-MODIFIED:20240510T044330Z
UID:10000535-1716798600-1717777800@metrosafety.ca
SUMMARY:May 27 - June 7\, 2024 - OFA 3 - Full
DESCRIPTION:Course: Occupational First Aid Level 3 \nCourse dates: May 27 – June 7\, 2024 \nCourse times: 8:30 am – 4:30 pm \nLocation: 914 Sherwood Ave\, Coquitlam \nCourse cost: $858 per person \nThis course is taught in English and all reading materials for the class will be in English.
URL:https://metrosafety.ca/event/may-27-june-7-2024-ofa-3/
LOCATION:Coquitlam Campus\, 914 Sherwood Ave\, Coquitlam\, British Columbia\, V3K 1A6\, Canada
CATEGORIES:Occupational First Aid Level 3 (Occupational Advanced First Aid)
ORGANIZER;CN="Metro Safety Training":MAILTO:Info@metrosafety.ca
GEO:49.235584;-122.871897
X-APPLE-STRUCTURED-LOCATION;VALUE=URI;X-ADDRESS=Coquitlam Campus 914 Sherwood Ave Coquitlam British Columbia V3K 1A6 Canada;X-APPLE-RADIUS=500;X-TITLE=914 Sherwood Ave:geo:-122.871897,49.235584
END:VEVENT
BEGIN:VEVENT
DTSTART;TZID=America/Los_Angeles:20240601T083000
DTEND;TZID=America/Los_Angeles:20240615T163000
DTSTAMP:20260420T000724
CREATED:20240417T043335Z
LAST-MODIFIED:20240510T012900Z
UID:10000568-1717230600-1718469000@metrosafety.ca
SUMMARY:June 1 - 15\, 2024- Part-time OFA 3 Pro Renewal
DESCRIPTION:Course: Part-time Occupational First Aid Level 3 \nCourse dates:June 1 – 15 –  (Tuesdays\, Thursdays\, and Saturdays) \nCourse times: 5:30 pm – 9:30 pm (Tuesday + Thursday) 8:30 am-4:30 pm(Saturdays) \nLocation: 914 Sherwood Ave\, Coquitlam \nCourse cost: $688 per person \nThis course is taught in English and all reading materials for the class will be in English.
URL:https://metrosafety.ca/event/june-1-15-part-time-ofa-3-pro-renewal/
LOCATION:Coquitlam Campus\, 914 Sherwood Ave\, Coquitlam\, British Columbia\, V3K 1A6\, Canada
CATEGORIES:Occupational First Aid Level 3 (Advanced) Pro Renew Part Time
ORGANIZER;CN="Metro Safety Training":MAILTO:Info@metrosafety.ca
GEO:49.235584;-122.871897
X-APPLE-STRUCTURED-LOCATION;VALUE=URI;X-ADDRESS=Coquitlam Campus 914 Sherwood Ave Coquitlam British Columbia V3K 1A6 Canada;X-APPLE-RADIUS=500;X-TITLE=914 Sherwood Ave:geo:-122.871897,49.235584
END:VEVENT
BEGIN:VEVENT
DTSTART;TZID=America/Los_Angeles:20240603T083000
DTEND;TZID=America/Los_Angeles:20240603T163000
DTSTAMP:20260420T000724
CREATED:20240504T011852Z
LAST-MODIFIED:20240531T030800Z
UID:10000578-1717403400-1717432200@metrosafety.ca
SUMMARY:June 3\, 2024 - OFA 1 - Full
DESCRIPTION:Course: Occupational First Aid Level 1 \nCourse date:  June 3\, 2024 \nCourse time: 8:30 am – 4:30 pm \nLocation: 914 Sherwood Ave\, Coquitlam \nCourse cost: $98 per person \nThis course is taught in English and all reading materials for the class will be in English.
URL:https://metrosafety.ca/event/june-3-2024-ofa-1/
LOCATION:Coquitlam Campus\, 914 Sherwood Ave\, Coquitlam\, British Columbia\, V3K 1A6\, Canada
CATEGORIES:Occupational First Aid Level 1 (Basic First Aid)
ORGANIZER;CN="Metro Safety Training":MAILTO:Info@metrosafety.ca
GEO:49.235584;-122.871897
X-APPLE-STRUCTURED-LOCATION;VALUE=URI;X-ADDRESS=Coquitlam Campus 914 Sherwood Ave Coquitlam British Columbia V3K 1A6 Canada;X-APPLE-RADIUS=500;X-TITLE=914 Sherwood Ave:geo:-122.871897,49.235584
END:VEVENT
BEGIN:VEVENT
DTSTART;TZID=America/Los_Angeles:20240603T083000
DTEND;TZID=America/Los_Angeles:20240607T163000
DTSTAMP:20260420T000724
CREATED:20240215T084359Z
LAST-MODIFIED:20240524T041941Z
UID:10000229-1717403400-1717777800@metrosafety.ca
SUMMARY:June 3 - 7 2024\, - OFA 2 - Full
DESCRIPTION:Course: Occupational First Aid Level 2 \nCourse dates: June 3 – 7\, 2024 \nCourse times: 8:30 am – 4:30 pm \nLocation: 914 Sherwood Ave\, Coquitlam \nCourse cost: $598 per person \nThis course is taught in English and all reading materials for the class will be in English.
URL:https://metrosafety.ca/event/june-3-7-2024-ofa-2/
LOCATION:Coquitlam Campus\, 914 Sherwood Ave\, Coquitlam\, British Columbia\, V3K 1A6\, Canada
CATEGORIES:Occupational First Aid Level 2 (Intermediate First Aid)
ORGANIZER;CN="Metro Safety Training":MAILTO:Info@metrosafety.ca
GEO:49.235584;-122.871897
X-APPLE-STRUCTURED-LOCATION;VALUE=URI;X-ADDRESS=Coquitlam Campus 914 Sherwood Ave Coquitlam British Columbia V3K 1A6 Canada;X-APPLE-RADIUS=500;X-TITLE=914 Sherwood Ave:geo:-122.871897,49.235584
END:VEVENT
BEGIN:VEVENT
DTSTART;TZID=America/Los_Angeles:20240603T083000
DTEND;TZID=America/Los_Angeles:20240607T163000
DTSTAMP:20260420T000724
CREATED:20240215T090210Z
LAST-MODIFIED:20240530T030900Z
UID:10000536-1717403400-1717777800@metrosafety.ca
SUMMARY:June 3 - 7 2024 - OFA 3 Pro Renewal
DESCRIPTION:Course: Occupational First Aid Level 3 Pro Renewal \nCourse dates: June 3 – 7 2024 \nIt is recommended that you attend the Thursday and Friday before your start date for a refresher and practice to be ready for Monday \nCourse times: 8:30 am – 4:30 pm \nLocation: 914 Sherwood Ave\, Coquitlam \nCourse cost: $688 per person \nThis course is taught in English and all reading materials for the class will be in English.
URL:https://metrosafety.ca/event/june-3-7-2024-ofa-3-pro-renewal/
LOCATION:Coquitlam Campus\, 914 Sherwood Ave\, Coquitlam\, British Columbia\, V3K 1A6\, Canada
CATEGORIES:Occupational First Aid Level 3 Pro Renew
ORGANIZER;CN="Metro Safety Training":MAILTO:Info@metrosafety.ca
GEO:49.235584;-122.871897
X-APPLE-STRUCTURED-LOCATION;VALUE=URI;X-ADDRESS=Coquitlam Campus 914 Sherwood Ave Coquitlam British Columbia V3K 1A6 Canada;X-APPLE-RADIUS=500;X-TITLE=914 Sherwood Ave:geo:-122.871897,49.235584
END:VEVENT
END:VCALENDAR