BEGIN:VCALENDAR
VERSION:2.0
PRODID:-//Metro Safety Training - First Aid Training - ECPv6.15.15//NONSGML v1.0//EN
CALSCALE:GREGORIAN
METHOD:PUBLISH
X-WR-CALNAME:Metro Safety Training - First Aid Training
X-ORIGINAL-URL:https://metrosafety.ca
X-WR-CALDESC:Events for Metro Safety Training - First Aid Training
REFRESH-INTERVAL;VALUE=DURATION:PT1H
X-Robots-Tag:noindex
X-PUBLISHED-TTL:PT1H
BEGIN:VTIMEZONE
TZID:America/Los_Angeles
BEGIN:DAYLIGHT
TZOFFSETFROM:-0800
TZOFFSETTO:-0700
TZNAME:PDT
DTSTART:20230312T100000
END:DAYLIGHT
BEGIN:STANDARD
TZOFFSETFROM:-0700
TZOFFSETTO:-0800
TZNAME:PST
DTSTART:20231105T090000
END:STANDARD
BEGIN:DAYLIGHT
TZOFFSETFROM:-0800
TZOFFSETTO:-0700
TZNAME:PDT
DTSTART:20240310T100000
END:DAYLIGHT
BEGIN:STANDARD
TZOFFSETFROM:-0700
TZOFFSETTO:-0800
TZNAME:PST
DTSTART:20241103T090000
END:STANDARD
BEGIN:DAYLIGHT
TZOFFSETFROM:-0800
TZOFFSETTO:-0700
TZNAME:PDT
DTSTART:20250309T100000
END:DAYLIGHT
BEGIN:STANDARD
TZOFFSETFROM:-0700
TZOFFSETTO:-0800
TZNAME:PST
DTSTART:20251102T090000
END:STANDARD
END:VTIMEZONE
BEGIN:VEVENT
DTSTART;TZID=America/Los_Angeles:20240513T083000
DTEND;TZID=America/Los_Angeles:20240517T163000
DTSTAMP:20260419T223652
CREATED:20240215T083935Z
LAST-MODIFIED:20240507T061606Z
UID:10000534-1715589000-1715963400@metrosafety.ca
SUMMARY:May 13 - 17 2024\, - OFA 2
DESCRIPTION:Course: Occupational First Aid Level 2 \nCourse dates: May 13 – 17\, 2024 \nCourse times: 8:30 am – 4:30 pm \nLocation: 914 Sherwood Ave\, Coquitlam \nCourse cost: $598 per person \nThis course is taught in English and all reading materials for the class will be in English.
URL:https://metrosafety.ca/event/may-13-17-2024-ofa-2/
LOCATION:Coquitlam Campus\, 914 Sherwood Ave\, Coquitlam\, British Columbia\, V3K 1A6\, Canada
CATEGORIES:Occupational First Aid Level 2 (Intermediate First Aid)
ORGANIZER;CN="Metro Safety Training":MAILTO:Info@metrosafety.ca
GEO:49.235584;-122.871897
X-APPLE-STRUCTURED-LOCATION;VALUE=URI;X-ADDRESS=Coquitlam Campus 914 Sherwood Ave Coquitlam British Columbia V3K 1A6 Canada;X-APPLE-RADIUS=500;X-TITLE=914 Sherwood Ave:geo:-122.871897,49.235584
END:VEVENT
BEGIN:VEVENT
DTSTART;TZID=America/Los_Angeles:20240513T083000
DTEND;TZID=America/Los_Angeles:20240524T163000
DTSTAMP:20260419T223652
CREATED:20240215T085445Z
LAST-MODIFIED:20240501T005101Z
UID:10000238-1715589000-1716568200@metrosafety.ca
SUMMARY:May 13 - May 24\, 2024 - OFA 3 - Full
DESCRIPTION:Course: Occupational First Aid Level 3 \nCourse dates: May 13 – May 24\, 2024 (Class will be running May 20th as normal despite it being a holiday) \nCourse times: 8:30 am – 4:30 pm \nLocation: 914 Sherwood Ave\, Coquitlam \nCourse cost: $858 per person
URL:https://metrosafety.ca/event/may-13-may-24-2024-ofa-3/
LOCATION:Coquitlam Campus\, 914 Sherwood Ave\, Coquitlam\, British Columbia\, V3K 1A6\, Canada
CATEGORIES:Occupational First Aid Level 3 (Occupational Advanced First Aid)
ORGANIZER;CN="Metro Safety Training":MAILTO:Info@metrosafety.ca
GEO:49.235584;-122.871897
X-APPLE-STRUCTURED-LOCATION;VALUE=URI;X-ADDRESS=Coquitlam Campus 914 Sherwood Ave Coquitlam British Columbia V3K 1A6 Canada;X-APPLE-RADIUS=500;X-TITLE=914 Sherwood Ave:geo:-122.871897,49.235584
END:VEVENT
BEGIN:VEVENT
DTSTART;TZID=America/Los_Angeles:20240514T173000
DTEND;TZID=America/Los_Angeles:20240615T163000
DTSTAMP:20260419T223652
CREATED:20240417T041958Z
LAST-MODIFIED:20240513T234036Z
UID:10000567-1715707800-1718469000@metrosafety.ca
SUMMARY:May 14 - June 15 2024 - Part-time OFA 3
DESCRIPTION:Course: Part-time Occupational First Aid Level 3 \nCourse dates: May 14 – June 15 2024 (Tuesdays\, Thursdays\, and Saturdays) \nCourse times: 5:30 pm – 9:30 pm (Tuesday + Thursday) 8:30 am -4:30 pm(Saturdays) \nLocation: 914 Sherwood Ave\, Coquitlam \nCourse cost: $858 per person \nThis course is taught in English and all reading materials for the class will be in English.
URL:https://metrosafety.ca/event/may-14-june-15-2024-part-time-ofa-3/
LOCATION:Coquitlam Campus\, 914 Sherwood Ave\, Coquitlam\, British Columbia\, V3K 1A6\, Canada
CATEGORIES:Occupational First Aid Level 3 (Advanced) Part Time
ORGANIZER;CN="Metro Safety Training":MAILTO:Info@metrosafety.ca
GEO:49.235584;-122.871897
X-APPLE-STRUCTURED-LOCATION;VALUE=URI;X-ADDRESS=Coquitlam Campus 914 Sherwood Ave Coquitlam British Columbia V3K 1A6 Canada;X-APPLE-RADIUS=500;X-TITLE=914 Sherwood Ave:geo:-122.871897,49.235584
END:VEVENT
END:VCALENDAR