BEGIN:VCALENDAR
VERSION:2.0
PRODID:-//Metro Safety Training - First Aid Training - ECPv6.15.15//NONSGML v1.0//EN
CALSCALE:GREGORIAN
METHOD:PUBLISH
X-ORIGINAL-URL:https://metrosafety.ca
X-WR-CALDESC:Events for Metro Safety Training - First Aid Training
REFRESH-INTERVAL;VALUE=DURATION:PT1H
X-Robots-Tag:noindex
X-PUBLISHED-TTL:PT1H
BEGIN:VTIMEZONE
TZID:America/Los_Angeles
BEGIN:DAYLIGHT
TZOFFSETFROM:-0800
TZOFFSETTO:-0700
TZNAME:PDT
DTSTART:20230312T100000
END:DAYLIGHT
BEGIN:STANDARD
TZOFFSETFROM:-0700
TZOFFSETTO:-0800
TZNAME:PST
DTSTART:20231105T090000
END:STANDARD
BEGIN:DAYLIGHT
TZOFFSETFROM:-0800
TZOFFSETTO:-0700
TZNAME:PDT
DTSTART:20240310T100000
END:DAYLIGHT
BEGIN:STANDARD
TZOFFSETFROM:-0700
TZOFFSETTO:-0800
TZNAME:PST
DTSTART:20241103T090000
END:STANDARD
BEGIN:DAYLIGHT
TZOFFSETFROM:-0800
TZOFFSETTO:-0700
TZNAME:PDT
DTSTART:20250309T100000
END:DAYLIGHT
BEGIN:STANDARD
TZOFFSETFROM:-0700
TZOFFSETTO:-0800
TZNAME:PST
DTSTART:20251102T090000
END:STANDARD
END:VTIMEZONE
BEGIN:VEVENT
DTSTART;TZID=America/Los_Angeles:20240429T083000
DTEND;TZID=America/Los_Angeles:20240510T163000
DTSTAMP:20260420T001723
CREATED:20240215T085059Z
LAST-MODIFIED:20240405T024848Z
UID:10000235-1714379400-1715358600@metrosafety.ca
SUMMARY:April 29 - May 10\, 2024 - OFA 3 - Full
DESCRIPTION:Course: Occupational First Aid Level 3 \nCourse dates: April 29 – May 10\, 2024 \nCourse times: 8:30 am – 4:30 pm \nLocation: 914 Sherwood Ave\, Coquitlam \nCourse cost: $858 per person
URL:https://metrosafety.ca/event/april-29-may-10-2024-ofa-3/
LOCATION:Coquitlam Campus\, 914 Sherwood Ave\, Coquitlam\, British Columbia\, V3K 1A6\, Canada
CATEGORIES:Occupational First Aid Level 3 (Occupational Advanced First Aid)
ORGANIZER;CN="Metro Safety Training":MAILTO:Info@metrosafety.ca
GEO:49.235584;-122.871897
X-APPLE-STRUCTURED-LOCATION;VALUE=URI;X-ADDRESS=Coquitlam Campus 914 Sherwood Ave Coquitlam British Columbia V3K 1A6 Canada;X-APPLE-RADIUS=500;X-TITLE=914 Sherwood Ave:geo:-122.871897,49.235584
END:VEVENT
BEGIN:VEVENT
DTSTART;TZID=America/Los_Angeles:20240506T083000
DTEND;TZID=America/Los_Angeles:20240510T163000
DTSTAMP:20260420T001723
CREATED:20240215T083749Z
LAST-MODIFIED:20240430T053420Z
UID:10000533-1714984200-1715358600@metrosafety.ca
SUMMARY:May 6 - 10 2024\, - OFA 2 - Full
DESCRIPTION:Course: Occupational First Aid Level 2 \nCourse dates: May 6 – 10\, 2024 \nCourse times: 8:30 am – 4:30 pm \nLocation: 914 Sherwood Ave\, Coquitlam \nCourse cost: $598 per person
URL:https://metrosafety.ca/event/may-6-10-2024-ofa-2/
LOCATION:Coquitlam Campus\, 914 Sherwood Ave\, Coquitlam\, British Columbia\, V3K 1A6\, Canada
CATEGORIES:Occupational First Aid Level 2 (Intermediate First Aid)
ORGANIZER;CN="Metro Safety Training":MAILTO:Info@metrosafety.ca
GEO:49.235584;-122.871897
X-APPLE-STRUCTURED-LOCATION;VALUE=URI;X-ADDRESS=Coquitlam Campus 914 Sherwood Ave Coquitlam British Columbia V3K 1A6 Canada;X-APPLE-RADIUS=500;X-TITLE=914 Sherwood Ave:geo:-122.871897,49.235584
END:VEVENT
BEGIN:VEVENT
DTSTART;TZID=America/Los_Angeles:20240506T083000
DTEND;TZID=America/Los_Angeles:20240510T163000
DTSTAMP:20260420T001723
CREATED:20240215T085234Z
LAST-MODIFIED:20240403T053922Z
UID:10000237-1714984200-1715358600@metrosafety.ca
SUMMARY:May 6 - 10 2024 - OFA 3 Pro Renewal - Full
DESCRIPTION:Course: Occupational First Aid Level 3 Pro Renewal \nCourse dates: May 6 – 10 2024 \nIt is recommended that you attend the Thursday and Friday prior to your start date for a refresher and practice to be ready for Monday \nCourse times: 8:30 am – 4:30 pm \nLocation: 914 Sherwood Ave\, Coquitlam \nCourse cost: $688 per person
URL:https://metrosafety.ca/event/may-6-10-2024-ofa-3-pro-renewal/
LOCATION:Coquitlam Campus\, 914 Sherwood Ave\, Coquitlam\, British Columbia\, V3K 1A6\, Canada
CATEGORIES:Occupational First Aid Level 3 Pro Renew
ORGANIZER;CN="Metro Safety Training":MAILTO:Info@metrosafety.ca
GEO:49.235584;-122.871897
X-APPLE-STRUCTURED-LOCATION;VALUE=URI;X-ADDRESS=Coquitlam Campus 914 Sherwood Ave Coquitlam British Columbia V3K 1A6 Canada;X-APPLE-RADIUS=500;X-TITLE=914 Sherwood Ave:geo:-122.871897,49.235584
END:VEVENT
END:VCALENDAR